- Раздел: Город
- Дата съёмки: 10.04.2009 21:09
- Дата загрузки фото: 10.04.2009 21:20
- Оригинальная фотография: 3878 x 2680 (2,8 Мб)
- Технические характеристики:
- Фотоаппарат: Canon EOS 40D
- Выдержка: 1/200
- Гиперфокальное расстояние: 27,56 m
- Диафрагма: 14,0
- Светочувствительность: 200
- Фокусное расстояние: 85,0 mm (35 mm equivalent: 136,4 mm)
- Полный EXIF
- Adobe
- ColorTransform: YCbCr
- Composite
- Aperture: 14,0
- CircleOfConfusion: 0,019 mm
- FOV: 15,0 deg
- FocalLength35efl: 85,0 mm (35 mm equivalent: 136,4 mm)
- HyperfocalDistance: 27,56 m
- ScaleFactor35efl: 1,6
- ShutterSpeed: 1/200
- ExifIFD
- ApertureValue: 14,0
- ColorSpace: sRGB
- CreateDate: 2009:04:05 11:45:33
- CustomRendered: Normal
- DateTimeOriginal: 2009:04:05 11:45:33
- ExifImageHeight: 2680
- ExifImageWidth: 3878
- ExposureCompensation: 0
- ExposureMode: Auto
- ExposureProgram: Aperture-priority AE
- ExposureTime: 1/200
- FNumber: 14,0
- Flash: Off
- FocalLength: 85,0 mm
- ISO: 200
- MaxApertureValue: 1,8
- MeteringMode: Center-weighted average
- SceneCaptureType: Standard
- ShutterSpeedValue: 1/200
- WhiteBalance: Auto
- ICC-header
- ICC-meas
- ICC-view
- IFD0
- Make: Canon
- Model: Canon EOS 40D
- ModifyDate: 2009:04:10 21:09:48
- Orientation: Horizontal (normal)
- IFD1
- IPTC
- XMP-aux
- Firmware: 1.0.8
- FlashCompensation: 0
- ImageNumber: 0
- Lens: EF85mm f/1.8 USM
- LensInfo: 85/1 85/1 0/0 0/0
- SerialNumber: 1030520710
- XMP-crs
- AlreadyApplied: True
- BlueHue: 0
- BlueSaturation: 0
- Brightness: +54
- CameraProfile: ACR 2.4
- ChromaticAberrationB: 0
- ChromaticAberrationR: 0
- Clarity: +19
- ColorNoiseReduction: 33
- Contrast: +77
- ConvertToGrayscale: False
- Defringe: 0
- Exposure: +0.43
- FillLight: 1
- GreenHue: 0
- GreenSaturation: 0
- HasCrop: False
- HasSettings: True
- HighlightRecovery: 0
- HueAdjustmentAqua: 0
- HueAdjustmentBlue: 0
- HueAdjustmentGreen: 0
- HueAdjustmentMagenta: 0
- HueAdjustmentOrange: 0
- HueAdjustmentPurple: 0
- HueAdjustmentRed: 0
- HueAdjustmentYellow: 0
- LuminanceAdjustmentAqua: 0
- LuminanceAdjustmentBlue: 0
- LuminanceAdjustmentGreen: 0
- LuminanceAdjustmentMagenta: 0
- LuminanceAdjustmentOrange: 0
- LuminanceAdjustmentPurple: 0
- LuminanceAdjustmentRed: 0
- LuminanceAdjustmentYellow: 0
- LuminanceSmoothing: 0
- ParametricDarks: +1
- ParametricHighlightSplit: 75
- ParametricHighlights: +3
- ParametricLights: +10
- ParametricMidtoneSplit: 50
- ParametricShadowSplit: 25
- ParametricShadows: -13
- PostCropVignetteAmount: 0
- RedHue: 0
- RedSaturation: 0
- Saturation: -42
- SaturationAdjustmentAqua: 0
- SaturationAdjustmentBlue: 0
- SaturationAdjustmentGreen: 0
- SaturationAdjustmentMagenta: 0
- SaturationAdjustmentOrange: 0
- SaturationAdjustmentPurple: 0
- SaturationAdjustmentRed: 0
- SaturationAdjustmentYellow: 0
- ShadowTint: 0
- Shadows: 10
- SharpenDetail: 25
- SharpenEdgeMasking: 0
- SharpenRadius: +1.0
- Sharpness: 20
- SplitToningBalance: 0
- SplitToningHighlightHue: 63
- SplitToningHighlightSaturation: 39
- SplitToningShadowHue: 0
- SplitToningShadowSaturation: 0
- Temperature: 5967
- Tint: +9
- ToneCurve: 0, 0, 255, 255
- ToneCurveName: Linear
- Version: 4.6
- Vibrance: -6
- VignetteAmount: -71
- VignetteMidpoint: 44
- WhiteBalance: Custom
- XMP-dc
- XMP-exif
- DateTimeDigitized: 2009:04:05 11:45:33.00+04:00
- DateTimeOriginal: 2009:04:05 11:45:33.00+04:00
- FlashFired: False
- FlashFunction: False
- FlashMode: Off
- FlashRedEyeMode: False
- FlashReturn: No return detection
- XMP-tiff
- ImageHeight: 2592
- ImageWidth: 3888
- XMP-xmp
- CreateDate: 2009:04:10 21:09:48+04:00
- ModifyDate: 2009:04:10 21:09:48+04:00
- XMP-xmpMM