- Раздел: Другое, разное
- Дата съёмки: 04.06.2008 15:57
- Дата загрузки фото: 12.04.2009 23:16
- Оригинальная фотография: 2592 x 1944 (1,8 Мб)
- Технические характеристики:
- Фотоаппарат: FujiFilm FinePix S5600
- Выдержка: 1/30
- Гиперфокальное расстояние: 4,44 m
- Диафрагма: 3,2
- Светочувствительность: 64
- Фокусное расстояние: 10,8 mm (35 mm equivalent: 39,5 mm)
- Полный EXIF
- Adobe
- ColorTransform: YCbCr
- Composite
- Aperture: 3,2
- CircleOfConfusion: 0,008 mm
- FOV: 48,0 deg
- FocalLength35efl: 10,8 mm (35 mm equivalent: 39,5 mm)
- HyperfocalDistance: 4,44 m
- ScaleFactor35efl: 3,7
- ShutterSpeed: 1/30
- ExifIFD
- ApertureValue: 3,2
- BrightnessValue: 5,53
- CreateDate: 2008:06:04 15:57:42
- CustomRendered: Normal
- DateTimeOriginal: 2008:06:04 15:57:42
- ExposureCompensation: 0
- ExposureMode: Manual
- ExposureProgram: Manual
- ExposureTime: 1/30
- FNumber: 3,2
- Flash: On
- FocalLength: 10,8 mm
- ISO: 64
- LightSource: Unknown
- MaxApertureValue: 3,2
- MeteringMode: Multi-segment
- SceneCaptureType: Standard
- SceneType: Directly photographed
- SensingMethod: One-chip color area
- Sharpness: Normal
- ShutterSpeedValue: 1/30
- SubjectDistanceRange: Unknown
- WhiteBalance: Auto
- ICC-header
- IFD0
- Make: FUJIFILM
- Model: FinePix S5600
- ModifyDate: 2008:06:05 01:41:42
- Software: Digital Camera FinePix S5600 Ver1.00
- TimeZoneOffset: 3 3
- XMP-crs
- AlreadyApplied: True
- BlueHue: 0
- BlueSaturation: 0
- Brightness: 0
- CameraProfile: ACR 3.3
- ChromaticAberrationB: 0
- ChromaticAberrationR: 0
- ColorNoiseReduction: 100
- Contrast: 0
- ConvertToGrayscale: False
- Exposure: 0.00
- FillLight: 0
- GreenHue: 0
- GreenSaturation: 0
- HasCrop: False
- HasSettings: True
- HighlightRecovery: 48
- HueAdjustmentAqua: 0
- HueAdjustmentBlue: 0
- HueAdjustmentGreen: 0
- HueAdjustmentMagenta: 0
- HueAdjustmentOrange: 0
- HueAdjustmentPurple: 0
- HueAdjustmentRed: 0
- HueAdjustmentYellow: 0
- LuminanceAdjustmentAqua: 0
- LuminanceAdjustmentBlue: 0
- LuminanceAdjustmentGreen: 0
- LuminanceAdjustmentMagenta: 0
- LuminanceAdjustmentOrange: 0
- LuminanceAdjustmentPurple: 0
- LuminanceAdjustmentRed: 0
- LuminanceAdjustmentYellow: 0
- LuminanceSmoothing: 100
- ParametricDarks: 0
- ParametricHighlightSplit: 75
- ParametricHighlights: 0
- ParametricLights: 0
- ParametricMidtoneSplit: 50
- ParametricShadowSplit: 25
- ParametricShadows: 0
- RawFileName: DSCF3827.RAF
- RedHue: 0
- RedSaturation: 0
- Saturation: 0
- SaturationAdjustmentAqua: 0
- SaturationAdjustmentBlue: 0
- SaturationAdjustmentGreen: 0
- SaturationAdjustmentMagenta: 0
- SaturationAdjustmentOrange: 0
- SaturationAdjustmentPurple: 0
- SaturationAdjustmentRed: 0
- SaturationAdjustmentYellow: 0
- ShadowTint: 0
- Shadows: 8
- Sharpness: 0
- SplitToningBalance: 0
- SplitToningHighlightHue: 0
- SplitToningHighlightSaturation: 0
- SplitToningShadowHue: 0
- SplitToningShadowSaturation: 0
- Temperature: 5500
- Tint: 0
- ToneCurve: 0, 0, 32, 22, 64, 56, 128, 128, 192, 196, 255, 255
- ToneCurveName: Medium Contrast
- Version: 4.0
- Vibrance: 0
- VignetteAmount: 0
- WhiteBalance: Custom
- XMP-exif
- DateTimeDigitized: 2008:06:04 15:57:42+03:00
- DateTimeOriginal: 2008:06:04 15:57:42+03:00
- FlashFired: True
- FlashFunction: False
- FlashMode: On
- FlashRedEyeMode: False
- FlashReturn: No return detection
- XMP-tiff
- ImageHeight: 1944
- ImageWidth: 2592
- XMP-xmp
- CreatorTool: Digital Camera FinePix S5600 Ver1.00
- ModifyDate: 2008:06:05 01:41:42+03:00
- Просмотров: 1844
- Рейтинг: голосов еще нет
- Отзывов: 0