| » Участники » Alex-SPB-RU » Альбом #1 » Pano-Netania-Beach-Sh-w2.jpg |
Уважаемые друзья и участники проекта iXBT.photo! К сожалению, 1 марта 2026 года проект iXBT.photo прекратит свою работу и будет закрыт. Мы высоко ценим ваше участие и тот вклад, который вы внесли в развитие нашего сообщества. Пожалуйста, не забудьте сохранить ваши фотографии до этой даты.
С уважением, команда iXBT.com
| Pano-Netania-Beach-Sh-w2.jpg |
Pano-Netania-Beach-Sh-w2.jpg
- Раздел: Другое, разное
- Дата съёмки: 07.04.2009 01:09
- Дата загрузки фото: 13.04.2009 23:29
- Оригинальная фотография: 7323 x 1800 (1,3 Мб)
- Технические характеристики:
- Фотоаппарат: Canon EOS 300D DIGITAL
- Выдержка: 1/2500
- Диафрагма: 8,0
- Светочувствительность: 400
- Фокусное расстояние: 18,0 mm
- Полный EXIF
- Adobe
- ColorTransform: YCbCr
- Composite
- Aperture: 8,0
- FocalLength35efl: 18,0 mm
- ShutterSpeed: 1/2500
- ExifIFD
- ApertureValue: 8,0
- ColorSpace: sRGB
- CreateDate: 2009:04:03 17:20:58
- DateTimeOriginal: 2009:04:03 17:20:58
- ExifImageHeight: 1800
- ExifImageWidth: 7323
- ExposureCompensation: 0
- ExposureProgram: Aperture-priority AE
- ExposureTime: 1/2500
- FNumber: 8,0
- Flash: No Flash
- FocalLength: 18,0 mm
- ISO: 400
- MaxApertureValue: 3,5
- MeteringMode: Multi-segment
- ShutterSpeedValue: 1/2500
- ICC-header
- ICC-meas
- ICC-view
- IFD0
- Artist: Alex_Bel
- Make: Canon
- Model: Canon EOS 300D DIGITAL
- ModifyDate: 2009:04:07 01:09:27
- Orientation: Horizontal (normal)
- IFD1
- IPTC
- By-line: Alex_Bel
- XMP-aux
- Firmware: 1.1.1
- Lens: 18.0-55.0 mm
- LensInfo: 18/1 55/1 0/0 0/0
- OwnerName: Alex_Bel
- SerialNumber: 1170430108
- XMP-crs
- AlreadyApplied: True
- BlueHue: 0
- BlueSaturation: 0
- Brightness: +50
- CameraProfile: ACR 4.4
- ChromaticAberrationB: 0
- ChromaticAberrationR: 0
- Clarity: 40
- ColorNoiseReduction: 25
- Contrast: +42
- ConvertToGrayscale: False
- Defringe: 0
- Exposure: -0.35
- FillLight: 0
- GreenHue: 0
- GreenSaturation: 0
- HasCrop: False
- HasSettings: True
- HighlightRecovery: 0
- HueAdjustmentAqua: 0
- HueAdjustmentBlue: 0
- HueAdjustmentGreen: 0
- HueAdjustmentMagenta: 0
- HueAdjustmentOrange: 0
- HueAdjustmentPurple: 0
- HueAdjustmentRed: 0
- HueAdjustmentYellow: 0
- LuminanceAdjustmentAqua: 0
- LuminanceAdjustmentBlue: 0
- LuminanceAdjustmentGreen: 0
- LuminanceAdjustmentMagenta: 0
- LuminanceAdjustmentOrange: 0
- LuminanceAdjustmentPurple: 0
- LuminanceAdjustmentRed: 0
- LuminanceAdjustmentYellow: 0
- LuminanceSmoothing: 0
- ParametricDarks: 0
- ParametricHighlightSplit: 75
- ParametricHighlights: 0
- ParametricLights: 0
- ParametricMidtoneSplit: 50
- ParametricShadowSplit: 25
- ParametricShadows: 0
- RawFileName: CRW_1114.CRW
- RedHue: 0
- RedSaturation: 0
- Saturation: 0
- SaturationAdjustmentAqua: 0
- SaturationAdjustmentBlue: 0
- SaturationAdjustmentGreen: 0
- SaturationAdjustmentMagenta: 0
- SaturationAdjustmentOrange: 0
- SaturationAdjustmentPurple: 0
- SaturationAdjustmentRed: 0
- SaturationAdjustmentYellow: 0
- ShadowTint: 0
- Shadows: 5
- SharpenDetail: 25
- SharpenEdgeMasking: 0
- SharpenRadius: +1.0
- Sharpness: 50
- SplitToningBalance: 0
- SplitToningHighlightHue: 0
- SplitToningHighlightSaturation: 0
- SplitToningShadowHue: 0
- SplitToningShadowSaturation: 0
- Temperature: 5250
- Tint: -2
- ToneCurve: 0, 0, 32, 22, 64, 56, 128, 128, 192, 196, 255, 255
- ToneCurveName: Medium Contrast
- Version: 4.4.1
- Vibrance: +26
- VignetteAmount: 0
- WhiteBalance: Custom
- XMP-dc
- Creator: Alex_Bel
- Format: image/jpeg
- XMP-exif
- DateTimeDigitized: 2009:04:03 17:20:58+04:00
- DateTimeOriginal: 2009:04:03 17:20:58+04:00
- FlashFired: False
- XMP-tiff
- XMP-xmp
- CreateDate: 2009:04:07 01:09:27+04:00
- ModifyDate: 2009:04:07 01:09:27+04:00
- Rating: 0
- XMP-xmpMM
- Просмотров: 892
- Рейтинг: голосов еще нет
- Отзывов: отключены
Получить код для блога
| Вставка фотографии в текущем разрешении |
Вставка миниатюры |
HTML (для вставки в блог):
BBCode (для вставки в форум):
Ссылка на фото:
Ссылка на миниатюру:
- Послать ссылку другу
| Комментарии к фотографии |