- Раздел: Город
- Дата съёмки: 26.12.2008 14:45
- Дата загрузки фото: 15.04.2009 16:47
- Оригинальная фотография: 2953 x 2109 (1,8 Мб)
- Технические характеристики:
- Фотоаппарат: Panasonic DMC-FZ18
- Выдержка: 1/400
- Диафрагма: 5,6
- Светочувствительность: 100
- Фокусное расстояние: 12,6 mm
- Полный EXIF
- Adobe
- ColorTransform: YCbCr
- Composite
- Aperture: 5,6
- FocalLength35efl: 12,6 mm
- ShutterSpeed: 1/400
- ExifIFD
- ApertureValue: 5,6
- CreateDate: 2008:12:26 14:45:12
- DateTimeOriginal: 2008:12:26 14:45:12
- ExposureCompensation: 0
- ExposureProgram: Program AE
- ExposureTime: 1/400
- FNumber: 5,6
- Flash: Off
- FocalLength: 12,6 mm
- ISO: 100
- MaxApertureValue: 2,8
- MeteringMode: Multi-segment
- ShutterSpeedValue: 1/400
- ICC-header
- ICC-meas
- ICC-view
- IFD0
- Make: Panasonic
- Model: DMC-FZ18
- ModifyDate: 2009:04:15 15:44:30
- IFD1
- XMP-crs
- AlreadyApplied: True
- BlueHue: 0
- BlueSaturation: 0
- Brightness: +50
- ChromaticAberrationB: 0
- ChromaticAberrationR: +21
- Clarity: -7
- ColorNoiseReduction: 51
- Contrast: +35
- ConvertToGrayscale: True
- CropAngle: 0
- CropBottom: 0.931641
- CropHeight: 2109
- CropLeft: 0.095308
- CropRight: 1
- CropTop: 0.070313
- CropUnit: 0
- CropWidth: 2953
- Defringe: 0
- Exposure: 0.00
- FillLight: 0
- GradientBasedCorrectionsCorrectionActive: true
- GradientBasedCorrectionsCorrectionAmount: 1.000000
- GradientBasedCorrectionsCorrectionMasksFullX: 0.255818
- GradientBasedCorrectionsCorrectionMasksFullY: 0.696412
- GradientBasedCorrectionsCorrectionMasksMaskValue: 1.000000
- GradientBasedCorrectionsCorrectionMasksWhat: Mask/Gradient
- GradientBasedCorrectionsCorrectionMasksZeroX: 0.342042
- GradientBasedCorrectionsCorrectionMasksZeroY: 0.565532
- GradientBasedCorrectionsLocalBrightness: -0.100000
- GradientBasedCorrectionsLocalClarity: -0.350000
- GradientBasedCorrectionsLocalContrast: -1.000000
- GradientBasedCorrectionsLocalExposure: 0.000000
- GradientBasedCorrectionsLocalSaturation: 0.000000
- GradientBasedCorrectionsLocalSharpness: 0.000000
- GradientBasedCorrectionsLocalToningHue: 0.000000
- GradientBasedCorrectionsLocalToningSaturation: 0.000000
- GradientBasedCorrectionsWhat: Correction
- GrayMixerAqua: -17
- GrayMixerBlue: +12
- GrayMixerGreen: -27
- GrayMixerMagenta: +4
- GrayMixerOrange: -20
- GrayMixerPurple: +17
- GrayMixerRed: -10
- GrayMixerYellow: -24
- GreenHue: +7
- GreenSaturation: +14
- HasCrop: True
- HasSettings: True
- HighlightRecovery: 32
- LuminanceSmoothing: 45
- ParametricDarks: -5
- ParametricHighlightSplit: 75
- ParametricHighlights: +34
- ParametricLights: -10
- ParametricMidtoneSplit: 50
- ParametricShadowSplit: 25
- ParametricShadows: -10
- PostCropVignetteAmount: 0
- RedHue: 0
- RedSaturation: 0
- ShadowTint: 0
- Shadows: 12
- SharpenDetail: 25
- SharpenEdgeMasking: 0
- SharpenRadius: +1.0
- Sharpness: 25
- SplitToningBalance: 0
- SplitToningHighlightHue: 0
- SplitToningHighlightSaturation: 0
- SplitToningShadowHue: 0
- SplitToningShadowSaturation: 0
- Temperature: 5929
- Tint: +12
- ToneCurve: 0, 0, 32, 22, 64, 56, 128, 128, 192, 196, 255, 255
- ToneCurveName: Medium Contrast
- Version: 5.3
- VignetteAmount: -31
- VignetteMidpoint: 35
- WhiteBalance: Custom
- XMP-exif
- DateTimeDigitized: 2008:12:26 14:45:12+02:00
- DateTimeOriginal: 2008:12:26 14:45:12+02:00
- ExifImageHeight: 2109
- ExifImageWidth: 2953
- FlashFired: False
- FlashFunction: False
- FlashMode: Off
- FlashRedEyeMode: False
- FlashReturn: No return detection
- XMP-tiff
- ImageHeight: 2109
- ImageWidth: 2953
- XMP-xmp
- CreateDate: 2008:12:26 14:45:12+02:00
- ModifyDate: 2009:04:15 15:44:30+03:00