- Раздел: Другое, разное
- Дата съёмки: 20.01.2008 15:35
- Дата загрузки фото: 20.04.2009 07:23
- Оригинальная фотография: 800 x 533 ( 91 Кб)
- Технические характеристики:
- Фотоаппарат: Canon EOS 5D
- Выдержка: 1/640
- Гиперфокальное расстояние: 49,66 m
- Диафрагма: 7,1
- Светочувствительность: 160
- Фокусное расстояние: 44,0 mm (35 mm equivalent: 240,8 mm)
- Экспокоррекция: +2/3
- Полный EXIF
- Composite
- Aperture: 7,1
- CircleOfConfusion: 0,005 mm
- FOV: 8,0 deg
- FocalLength35efl: 44,0 mm (35 mm equivalent: 240,8 mm)
- HyperfocalDistance: 49,66 m
- ScaleFactor35efl: 5,5
- ShutterSpeed: 1/640
- ExifIFD
- ApertureValue: 7,1
- CreateDate: 2008:01:20 15:35:54
- CustomRendered: Normal
- DateTimeOriginal: 2008:01:20 15:35:54
- ExposureCompensation: +2/3
- ExposureMode: Auto
- ExposureProgram: Aperture-priority AE
- ExposureTime: 1/640
- FNumber: 7,1
- Flash: Off
- FocalLength: 44,0 mm
- ISO: 160
- MaxApertureValue: 2,8
- MeteringMode: Unknown
- SceneCaptureType: Standard
- ShutterSpeedValue: 1/640
- WhiteBalance: Auto
- ICC-header
- ICC-meas
- ICC-view
- IFD0
- Artist: Kupriyanov Konstantin
- Make: Canon
- Model: Canon EOS 5D
- ModifyDate: 2008:01:20 21:59:48
- IPTC
- By-line: Kupriyanov Konstantin
- XMP-aux
- Firmware: 1.0.5
- FlashCompensation: 0
- ImageNumber: 1
- Lens: 28.0-75.0 mm
- LensInfo: 28/1 75/1 0/0 0/0
- OwnerName: Kupriyanov Konstantin
- SerialNumber: 1130701854
- XMP-crs
- AlreadyApplied: True
- BlueHue: +1
- BlueSaturation: -23
- Brightness: +37
- CameraProfile: ACR 3.3
- ChromaticAberrationB: 0
- ChromaticAberrationR: 0
- Clarity: 50
- ColorNoiseReduction: 25
- Contrast: +25
- ConvertToGrayscale: False
- CropAngle: 0
- CropBottom: 0.964835
- CropHeight: 2810
- CropLeft: 0
- CropRight: 0.964835
- CropTop: 0
- CropUnit: 0
- CropWidth: 4214
- Defringe: 0
- Exposure: 0.00
- FillLight: 5
- GreenHue: -30
- GreenSaturation: 0
- HasCrop: True
- HasSettings: True
- HighlightRecovery: 10
- HueAdjustmentAqua: -5
- HueAdjustmentBlue: 0
- HueAdjustmentGreen: 0
- HueAdjustmentMagenta: 0
- HueAdjustmentOrange: 0
- HueAdjustmentPurple: -5
- HueAdjustmentRed: 0
- HueAdjustmentYellow: -8
- LuminanceAdjustmentAqua: 0
- LuminanceAdjustmentBlue: 0
- LuminanceAdjustmentGreen: 0
- LuminanceAdjustmentMagenta: 0
- LuminanceAdjustmentOrange: 0
- LuminanceAdjustmentPurple: 0
- LuminanceAdjustmentRed: 0
- LuminanceAdjustmentYellow: 0
- LuminanceSmoothing: 0
- ParametricDarks: 0
- ParametricHighlightSplit: 75
- ParametricHighlights: 0
- ParametricLights: 0
- ParametricMidtoneSplit: 50
- ParametricShadowSplit: 25
- ParametricShadows: 0
- RedHue: -14
- RedSaturation: +15
- Saturation: 0
- SaturationAdjustmentAqua: 0
- SaturationAdjustmentBlue: 0
- SaturationAdjustmentGreen: 0
- SaturationAdjustmentMagenta: 0
- SaturationAdjustmentOrange: 0
- SaturationAdjustmentPurple: -8
- SaturationAdjustmentRed: 0
- SaturationAdjustmentYellow: -11
- ShadowTint: 0
- Shadows: 13
- SharpenDetail: 25
- SharpenEdgeMasking: 0
- SharpenRadius: +1.0
- Sharpness: 25
- SplitToningBalance: 0
- SplitToningHighlightHue: 0
- SplitToningHighlightSaturation: 0
- SplitToningShadowHue: 0
- SplitToningShadowSaturation: 0
- Temperature: 5550
- Tint: -4
- ToneCurve: 0, 0, 32, 22, 64, 56, 128, 128, 192, 196, 255, 255
- ToneCurveName: Medium Contrast
- Version: 1.0
- Vibrance: +25
- VignetteAmount: 0
- WhiteBalance: As Shot
- XMP-dc
- Creator: Kupriyanov Konstantin
- XMP-exif
- DateTimeDigitized: 2008:01:20 15:35:54+10:00
- DateTimeOriginal: 2008:01:20 15:35:54+10:00
- FlashFired: False
- FlashFunction: False
- FlashMode: Off
- FlashRedEyeMode: False
- FlashReturn: No return detection
- XMP-tiff
- ImageHeight: 2810
- ImageWidth: 4214
- XMP-xmp
- ModifyDate: 2008:01:20 21:59:48+10:00
- Просмотров: 328
- Рейтинг: голосов еще нет
- Отзывов: отключены