- Раздел: Другое, разное
- Дата съёмки: 20.04.2009 20:55
- Дата загрузки фото: 20.04.2009 22:19
- Оригинальная фотография: 650 x 433 (301 Кб)
- Технические характеристики:
- Фотоаппарат: Canon EOS 450D
- Выдержка: 1/125
- Гиперфокальное расстояние: 14,31 m
- Диафрагма: 8,0
- Светочувствительность: 100
- Фокусное расстояние: 18,0 mm (35 mm equivalent: 191,1 mm)
- Полный EXIF
- Adobe
- ColorTransform: YCbCr
- Composite
- Aperture: 8,0
- CircleOfConfusion: 0,003 mm
- FOV: 10,0 deg
- FocalLength35efl: 18,0 mm (35 mm equivalent: 191,1 mm)
- HyperfocalDistance: 14,31 m
- ScaleFactor35efl: 10,6
- ShutterSpeed: 1/125
- ExifIFD
- ApertureValue: 8,0
- ColorSpace: sRGB
- CreateDate: 2009:04:19 15:18:08
- CustomRendered: Normal
- DateTimeOriginal: 2009:04:19 15:18:08
- ExifImageHeight: 433
- ExifImageWidth: 650
- ExposureCompensation: 0
- ExposureMode: Auto
- ExposureProgram: Aperture-priority AE
- ExposureTime: 1/125
- FNumber: 8,0
- Flash: Off
- FocalLength: 18,0 mm
- ISO: 100
- MaxApertureValue: 3,5
- MeteringMode: Multi-segment
- SceneCaptureType: Standard
- ShutterSpeedValue: 1/125
- WhiteBalance: Auto
- ICC-header
- ICC-meas
- ICC-view
- IFD0
- Make: Canon
- Model: Canon EOS 450D
- ModifyDate: 2009:04:20 21:15:07
- Orientation: Horizontal (normal)
- IFD1
- IPTC
- XMP-aux
- Firmware: 1.0.9
- FlashCompensation: 0
- ImageNumber: 0
- Lens: EF-S18-55mm f/3.5-5.6 IS
- LensInfo: 18/1 55/1 0/0 0/0
- SerialNumber: 980397874
- XMP-crs
- AlreadyApplied: True
- BlueHue: 0
- BlueSaturation: 0
- Brightness: +50
- ChromaticAberrationB: 0
- ChromaticAberrationR: 0
- Clarity: 0
- ColorNoiseReduction: 25
- Contrast: +25
- ConvertToGrayscale: False
- Defringe: 0
- Exposure: -0.54
- FillLight: 0
- GreenHue: 0
- GreenSaturation: 0
- HasCrop: False
- HasSettings: True
- HighlightRecovery: 0
- HueAdjustmentAqua: 0
- HueAdjustmentBlue: 0
- HueAdjustmentGreen: 0
- HueAdjustmentMagenta: 0
- HueAdjustmentOrange: 0
- HueAdjustmentPurple: 0
- HueAdjustmentRed: 0
- HueAdjustmentYellow: 0
- LuminanceAdjustmentAqua: 0
- LuminanceAdjustmentBlue: 0
- LuminanceAdjustmentGreen: 0
- LuminanceAdjustmentMagenta: 0
- LuminanceAdjustmentOrange: 0
- LuminanceAdjustmentPurple: 0
- LuminanceAdjustmentRed: 0
- LuminanceAdjustmentYellow: 0
- LuminanceSmoothing: 0
- ParametricDarks: 0
- ParametricHighlightSplit: 75
- ParametricHighlights: 0
- ParametricLights: 0
- ParametricMidtoneSplit: 50
- ParametricShadowSplit: 25
- ParametricShadows: 0
- PostCropVignetteAmount: 0
- RedHue: 0
- RedSaturation: 0
- Saturation: 0
- SaturationAdjustmentAqua: 0
- SaturationAdjustmentBlue: 0
- SaturationAdjustmentGreen: 0
- SaturationAdjustmentMagenta: 0
- SaturationAdjustmentOrange: 0
- SaturationAdjustmentPurple: 0
- SaturationAdjustmentRed: 0
- SaturationAdjustmentYellow: 0
- ShadowTint: 0
- Shadows: 5
- SharpenDetail: 25
- SharpenEdgeMasking: 0
- SharpenRadius: +1.0
- Sharpness: 25
- SplitToningBalance: 0
- SplitToningHighlightHue: 0
- SplitToningHighlightSaturation: 0
- SplitToningShadowHue: 0
- SplitToningShadowSaturation: 0
- Temperature: 5810
- Tint: +1
- ToneCurve: 0, 0, 32, 22, 64, 56, 128, 128, 192, 196, 255, 255
- ToneCurveName: Medium Contrast
- Version: 5.3
- Vibrance: +45
- VignetteAmount: 0
- WhiteBalance: Custom
- XMP-dc
- XMP-exif
- DateTimeDigitized: 2009:04:19 15:18:08.03+03:00
- DateTimeOriginal: 2009:04:19 15:18:08.03+03:00
- FlashFired: False
- FlashFunction: False
- FlashMode: Off
- FlashRedEyeMode: False
- FlashReturn: No return detection
- XMP-tiff
- ImageHeight: 2848
- ImageWidth: 4272
- XMP-xmp
- CreateDate: 2009:04:20 20:55:51+03:00
- ModifyDate: 2009:04:20 21:15:07+03:00
- XMP-xmpMM
- DerivedFrom:
- Просмотров: 462
- Рейтинг: голосов еще нет
- Отзывов: 0