- Раздел: Заставки, обои
- Дата съёмки: 16.05.2008 12:35
- Дата загрузки фото: 22.04.2009 01:15
- Оригинальная фотография: 1920 x 1200 (838 Кб)
- Технические характеристики:
- Фотоаппарат: Canon EOS 350D DIGITAL
- Выдержка: 1/125
- Гиперфокальное расстояние: 1,46 m
- Диафрагма: 22,0
- Светочувствительность: 1600
- Фокусное расстояние: 18,0 mm (35 mm equivalent: 53,6 mm)
- Полный EXIF
- Adobe
- ColorTransform: YCbCr
- Composite
- Aperture: 22,0
- CircleOfConfusion: 0,010 mm
- FOV: 37,0 deg
- FocalLength35efl: 18,0 mm (35 mm equivalent: 53,6 mm)
- HyperfocalDistance: 1,46 m
- ScaleFactor35efl: 3,0
- ShutterSpeed: 1/125
- ExifIFD
- ApertureValue: 22,0
- ColorSpace: Uncalibrated
- CreateDate: 2007:12:22 09:25:34
- CustomRendered: Normal
- ExifImageHeight: 1200
- ExifImageWidth: 1920
- ExposureCompensation: 0
- ExposureMode: Manual
- ExposureTime: 1/125
- FNumber: 22,0
- FocalLength: 18,0 mm
- MaxApertureValue: 3,5
- SceneCaptureType: Standard
- ShutterSpeedValue: 1/125
- ICC-header
- IFD0
- Artist: Holger Gawrisch
- Copyright: (c) Holger Gawrisch
- ModifyDate: 2008:05:16 12:35:47
- TimeZoneOffset: 1 1
- XPTitle: Niers in der Region Niederrein, Deutschland (River Niers in the Niederrhein region, Germany)
- IFD1
- IPTC
- By-line: Holger Gawrisch
- CopyrightNotice: (c) Holger Gawrisch
- Keywords: DE
- ObjectName: Niers in der Region Niederrein, Deutschland (River Niers in the Niederrhein region, Germany)
- XMP-aux
- Firmware: 1.0.3
- FlashCompensation: 0
- ImageNumber: 65
- Lens: 18.0-55.0 mm
- LensInfo: 18/1 55/1 0/0 0/0
- OwnerName: Holger Gawrisch
- SerialNumber: 930527997
- XMP-crs
- AlreadyApplied: True
- BlueHue: 0
- BlueSaturation: 0
- Brightness: +50
- CameraProfile: ACR 3.1
- ChromaticAberrationB: 0
- ChromaticAberrationR: 0
- ColorNoiseReduction: 25
- Contrast: +25
- ConvertToGrayscale: False
- Exposure: 0.00
- FillLight: 16
- GreenHue: 0
- GreenSaturation: 0
- HasCrop: False
- HasSettings: True
- HighlightRecovery: 8
- HueAdjustmentAqua: 0
- HueAdjustmentBlue: 0
- HueAdjustmentGreen: 0
- HueAdjustmentMagenta: 0
- HueAdjustmentOrange: 0
- HueAdjustmentPurple: 0
- HueAdjustmentRed: 0
- HueAdjustmentYellow: 0
- LuminanceAdjustmentAqua: 0
- LuminanceAdjustmentBlue: 0
- LuminanceAdjustmentGreen: 0
- LuminanceAdjustmentMagenta: 0
- LuminanceAdjustmentOrange: 0
- LuminanceAdjustmentPurple: 0
- LuminanceAdjustmentRed: 0
- LuminanceAdjustmentYellow: 0
- LuminanceSmoothing: 2
- ParametricDarks: 0
- ParametricHighlightSplit: 75
- ParametricHighlights: 0
- ParametricLights: 0
- ParametricMidtoneSplit: 50
- ParametricShadowSplit: 25
- ParametricShadows: 0
- RawFileName: IMG_1601.CR2
- RedHue: 0
- RedSaturation: 0
- Saturation: 0
- SaturationAdjustmentAqua: 0
- SaturationAdjustmentBlue: 0
- SaturationAdjustmentGreen: 0
- SaturationAdjustmentMagenta: 0
- SaturationAdjustmentOrange: 0
- SaturationAdjustmentPurple: 0
- SaturationAdjustmentRed: 0
- SaturationAdjustmentYellow: 0
- ShadowTint: 0
- Shadows: 17
- Sharpness: 39
- SplitToningBalance: 0
- SplitToningHighlightHue: 0
- SplitToningHighlightSaturation: 0
- SplitToningShadowHue: 0
- SplitToningShadowSaturation: 0
- Temperature: 5500
- Tint: +10
- ToneCurve: 0, 0, 32, 22, 64, 56, 128, 128, 192, 196, 255, 255
- ToneCurveName: Medium Contrast
- Version: 4.0
- Vibrance: 0
- VignetteAmount: 0
- WhiteBalance: Daylight
- XMP-dc
- Creator: Holger Gawrisch
- Format: image/jpeg
- Rights: (c) Holger Gawrisch
- Subject: DE
- Title: Niers in der Region Niederrein, Deutschland (River Niers in the Niederrhein region, Germany)
- XMP-exif
- DateTimeDigitized: 2007:12:22 09:25:34-08:00
- ExposureProgram: Manual
- ISO: 1600
- XMP-microsoft
- LastKeywordIPTC: DE
- LastKeywordXMP: DE
- XMP-tiff
- Make: Canon
- Model: Canon EOS 350D DIGITAL
- XMP-xmp
- CreateDate: 2008:05:16 12:35:47-08:00
- ModifyDate: 2008:05:16 12:35:47-08:00
- XMP-xmpMM
- Просмотров: 510
- Рейтинг: голосов еще нет
- Отзывов: 0