- Раздел: Автомобили
- Дата съёмки: 20.04.2009 11:50
- Дата загрузки фото: 27.04.2009 09:08
- Оригинальная фотография: 1000 x 667 (598 Кб)
- Технические характеристики:
- Фотоаппарат: Canon EOS 40D
- Выдержка: 1/100
- Гиперфокальное расстояние: 193,88 m
- Диафрагма: 5,6
- Светочувствительность: 100
- Фокусное расстояние: 72,0 mm (35 mm equivalent: 453,1 mm)
- Полный EXIF
- Adobe
- ColorTransform: YCbCr
- Composite
- Aperture: 5,6
- CircleOfConfusion: 0,005 mm
- FOV: 4,0 deg
- FocalLength35efl: 72,0 mm (35 mm equivalent: 453,1 mm)
- HyperfocalDistance: 193,88 m
- ScaleFactor35efl: 6,3
- ShutterSpeed: 1/100
- ExifIFD
- ApertureValue: 5,6
- CreateDate: 2009:04:20 11:50:52
- CustomRendered: Normal
- DateTimeOriginal: 2009:04:20 11:50:52
- ExposureCompensation: 0
- ExposureMode: Auto
- ExposureProgram: Aperture-priority AE
- ExposureTime: 1/100
- FNumber: 5,6
- Flash: Off
- FocalLength: 72,0 mm
- ISO: 100
- MaxApertureValue: 5,7
- MeteringMode: Multi-segment
- SceneCaptureType: Standard
- ShutterSpeedValue: 1/100
- WhiteBalance: Auto
- ICC-header
- ICC-meas
- ICC-view
- IFD0
- Make: Canon
- Model: Canon EOS 40D
- ModifyDate: 2009:04:27 08:07:55
- IFD1
- IPTC
- City: Kyiv
- Country-PrimaryLocationCode: 380
- Country-PrimaryLocationName: Ukraine
- Province-State: Kyiv
- XMP-aux
- Firmware: 1.1.1
- FlashCompensation: 0
- ImageNumber: 0
- Lens: EF-S17-85mm f/4-5.6 IS USM
- LensInfo: 17/1 85/1 0/0 0/0
- SerialNumber: 1030526517
- XMP-crs
- AlreadyApplied: True
- BlueHue: 0
- BlueSaturation: 0
- Brightness: +50
- ChromaticAberrationB: 0
- ChromaticAberrationR: 0
- Clarity: 0
- ColorNoiseReduction: 25
- Contrast: +39
- ConvertToGrayscale: False
- CropAngle: 0
- CropBottom: 1
- CropHeight: 667
- CropLeft: 0.05988
- CropRight: 1
- CropTop: 0.05988
- CropUnit: 0
- CropWidth: 1000
- Defringe: 0
- Exposure: -0.29
- FillLight: 17
- GreenHue: 0
- GreenSaturation: 0
- HasCrop: True
- HasSettings: True
- HighlightRecovery: 25
- HueAdjustmentAqua: 0
- HueAdjustmentBlue: 0
- HueAdjustmentGreen: 0
- HueAdjustmentMagenta: 0
- HueAdjustmentOrange: 0
- HueAdjustmentPurple: 0
- HueAdjustmentRed: 0
- HueAdjustmentYellow: 0
- LuminanceAdjustmentAqua: 0
- LuminanceAdjustmentBlue: 0
- LuminanceAdjustmentGreen: 0
- LuminanceAdjustmentMagenta: 0
- LuminanceAdjustmentOrange: 0
- LuminanceAdjustmentPurple: 0
- LuminanceAdjustmentRed: 0
- LuminanceAdjustmentYellow: 0
- LuminanceSmoothing: 0
- ParametricDarks: 0
- ParametricHighlightSplit: 75
- ParametricHighlights: 0
- ParametricLights: 0
- ParametricMidtoneSplit: 50
- ParametricShadowSplit: 25
- ParametricShadows: 0
- PostCropVignetteAmount: 0
- RedHue: 0
- RedSaturation: 0
- Saturation: 0
- SaturationAdjustmentAqua: 0
- SaturationAdjustmentBlue: 0
- SaturationAdjustmentGreen: 0
- SaturationAdjustmentMagenta: 0
- SaturationAdjustmentOrange: 0
- SaturationAdjustmentPurple: 0
- SaturationAdjustmentRed: 0
- SaturationAdjustmentYellow: 0
- ShadowTint: 0
- Shadows: 5
- SharpenDetail: 25
- SharpenEdgeMasking: 0
- SharpenRadius: +1.0
- Sharpness: 25
- SplitToningBalance: 0
- SplitToningHighlightHue: 0
- SplitToningHighlightSaturation: 0
- SplitToningShadowHue: 0
- SplitToningShadowSaturation: 0
- Temperature: 4850
- Tint: +1
- ToneCurve: 0, 0, 32, 22, 64, 56, 128, 128, 192, 196, 255, 255
- ToneCurveName: Medium Contrast
- Version: 5.3
- Vibrance: 0
- VignetteAmount: 0
- WhiteBalance: As Shot
- XMP-exif
- DateTimeDigitized: 2009:04:20 11:50:52.00+03:00
- DateTimeOriginal: 2009:04:20 11:50:52.00+03:00
- ExifImageHeight: 667
- ExifImageWidth: 1000
- FlashFired: False
- FlashFunction: False
- FlashMode: Off
- FlashRedEyeMode: False
- FlashReturn: No return detection
- XMP-iptcCore
- XMP-tiff
- ImageHeight: 667
- ImageWidth: 1000
- XMP-xmp
- CreateDate: 2009:04:20 11:50:52.00+03:00
- ModifyDate: 2009:04:27 08:07:55+03:00
- Просмотров: 914
- Рейтинг: голосов еще нет
- Отзывов: 1