- Раздел: Клубы, концерты
- Дата съёмки: 13.04.2009 20:48
- Дата загрузки фото: 30.04.2009 22:36
- Оригинальная фотография: 900 x 601 (402 Кб)
- Технические характеристики:
- Фотоаппарат: Samsung GX-1S
- Выдержка: 1/50
- Гиперфокальное расстояние: 195,95 m
- Диафрагма: 2,8
- Светочувствительность: 800
- Фокусное расстояние: 105,0 mm (35 mm equivalent: 157,0 mm)
- Экспокоррекция: +0,3
- Полный EXIF
- Adobe
- ColorTransform: YCbCr
- Composite
- Aperture: 2,8
- CircleOfConfusion: 0,020 mm
- FOV: 13,0 deg
- FocalLength35efl: 105,0 mm (35 mm equivalent: 157,0 mm)
- HyperfocalDistance: 195,95 m
- ScaleFactor35efl: 1,5
- ShutterSpeed: 1/50
- ExifIFD
- ApertureValue: 2,8
- CFAPattern: [Red,Green][Green,Blue]
- ColorSpace: sRGB
- Contrast: Normal
- CreateDate: 2009:04:13 20:48:01
- CustomRendered: Normal
- DateTimeOriginal: 2009:04:13 20:48:01
- ExifImageHeight: 601
- ExifImageWidth: 900
- ExposureCompensation: +0,3
- ExposureMode: Manual
- ExposureProgram: Aperture-priority AE
- ExposureTime: 1/50
- FNumber: 2,8
- Flash: Off
- FocalLength: 105,0 mm
- FocalLengthIn35mmFormat: 157 mm
- ISO: 800
- MeteringMode: Center-weighted average
- Saturation: Normal
- SceneCaptureType: Standard
- SceneType: Directly photographed
- SensingMethod: One-chip color area
- Sharpness: Normal
- ShutterSpeedValue: 1/50
- SubjectDistanceRange: Distant
- WhiteBalance: Manual
- ICC-header
- ICC-meas
- ICC-view
- IFD0
- Make: SAMSUNG TECHWIN
- Model: GX-1S
- ModifyDate: 2009:04:30 22:17:58
- Orientation: Horizontal (normal)
- IFD1
- IPTC
- XMP-aux
- XMP-crs
- AlreadyApplied: True
- BlueHue: 0
- BlueSaturation: 0
- Brightness: +29
- CameraProfile: ACR 4.4
- ChromaticAberrationB: 0
- ChromaticAberrationR: 0
- Clarity: 0
- ColorNoiseReduction: 14
- Contrast: +29
- ConvertToGrayscale: False
- Defringe: 0
- Exposure: +1.24
- FillLight: 12
- GreenHue: 0
- GreenSaturation: 0
- HasCrop: False
- HasSettings: True
- HighlightRecovery: 0
- HueAdjustmentAqua: 0
- HueAdjustmentBlue: 0
- HueAdjustmentGreen: 0
- HueAdjustmentMagenta: 0
- HueAdjustmentOrange: 0
- HueAdjustmentPurple: 0
- HueAdjustmentRed: 0
- HueAdjustmentYellow: 0
- LuminanceAdjustmentAqua: 0
- LuminanceAdjustmentBlue: 0
- LuminanceAdjustmentGreen: 0
- LuminanceAdjustmentMagenta: 0
- LuminanceAdjustmentOrange: +62
- LuminanceAdjustmentPurple: 0
- LuminanceAdjustmentRed: -57
- LuminanceAdjustmentYellow: -10
- LuminanceSmoothing: 17
- ParametricDarks: 0
- ParametricHighlightSplit: 75
- ParametricHighlights: 0
- ParametricLights: 0
- ParametricMidtoneSplit: 50
- ParametricShadowSplit: 25
- ParametricShadows: 0
- PostCropVignetteAmount: 0
- RedHue: 0
- RedSaturation: 0
- Saturation: +2
- SaturationAdjustmentAqua: -100
- SaturationAdjustmentBlue: -100
- SaturationAdjustmentGreen: -100
- SaturationAdjustmentMagenta: -100
- SaturationAdjustmentOrange: -100
- SaturationAdjustmentPurple: -100
- SaturationAdjustmentRed: -100
- SaturationAdjustmentYellow: -100
- ShadowTint: 0
- Shadows: 29
- SharpenDetail: 50
- SharpenEdgeMasking: 0
- SharpenRadius: +1.0
- Sharpness: 25
- SplitToningBalance: -5
- SplitToningHighlightHue: 110
- SplitToningHighlightSaturation: 25
- SplitToningShadowHue: 86
- SplitToningShadowSaturation: 39
- Temperature: 6286
- Tint: +25
- ToneCurve: 0, 0, 255, 255
- ToneCurveName: Linear
- Version: 4.6
- Vibrance: -100
- VignetteAmount: +100
- VignetteMidpoint: 18
- WhiteBalance: Custom
- XMP-dc
- XMP-exif
- DateTimeDigitized: 2009:04:13 20:48:01+04:00
- DateTimeOriginal: 2009:04:13 20:48:01+04:00
- FlashFired: False
- FlashFunction: False
- FlashMode: Off
- FlashRedEyeMode: False
- FlashReturn: No return detection
- XMP-tiff
- ImageHeight: 2008
- ImageWidth: 3008
- XMP-xmp
- CreateDate: 2009:04:13 20:48:01+04:00
- ModifyDate: 2009:04:30 22:17:58+04:00
- XMP-xmpMM
- Просмотров: 158
- Рейтинг: голосов еще нет
- Отзывов: отключены