Уважаемые друзья и участники проекта iXBT.photo! К сожалению, 1 марта 2026 года проект iXBT.photo прекратит свою работу и будет закрыт. Мы высоко ценим ваше участие и тот вклад, который вы внесли в развитие нашего сообщества. Пожалуйста, не забудьте сохранить ваши фотографии до этой даты.
С уважением, команда iXBT.com
| AK303045_700.jpg |
AK303045_700.jpg
- Раздел: Клубы, концерты
- Дата съёмки: 30.04.2009 20:44
- Дата загрузки фото: 02.05.2009 19:10
- Оригинальная фотография: 525 x 700 (116 Кб)
- Технические характеристики:
- Фотоаппарат: Olympus E-3
- Выдержка: 1/30
- Диафрагма: 3,5
- Светочувствительность: 1600
- Фокусное расстояние: 22,0 mm
- Полный EXIF
- Adobe
- ColorTransform: YCbCr
- Composite
- Aperture: 3,5
- FocalLength35efl: 22,0 mm
- ShutterSpeed: 1/30
- ExifIFD
- ApertureValue: 3,5
- CFAPattern: [Red,Green][Green,Blue]
- ColorSpace: sRGB
- Contrast: Normal
- CreateDate: 2009:04:30 20:44:44
- CustomRendered: Normal
- DateTimeOriginal: 2009:04:30 20:44:44
- DigitalZoomRatio: 1
- ExifImageHeight: 700
- ExifImageWidth: 525
- ExposureCompensation: 0
- ExposureMode: Manual
- ExposureProgram: Manual
- ExposureTime: 1/30
- FNumber: 3,5
- Flash: On
- FocalLength: 22,0 mm
- GainControl: High gain up
- ISO: 1600
- LightSource: Unknown
- MaxApertureValue: 2,8
- MeteringMode: Multi-segment
- Saturation: Normal
- SceneCaptureType: Standard
- Sharpness: Normal
- ShutterSpeedValue: 1/30
- WhiteBalance: Auto
- ICC-header
- ICC-meas
- ICC-view
- IFD0
- BitsPerSample: 8 8 8
- ImageDescription: OLYMPUS DIGITAL CAMERA
- ImageHeight: 3648
- ImageWidth: 2736
- Make: OLYMPUS IMAGING CORP.
- Model: E-3
- ModifyDate: 2009:05:02 19:03:42
- Orientation: Horizontal (normal)
- PhotometricInterpretation: RGB
- PlanarConfiguration: Chunky
- SamplesPerPixel: 3
- IFD1
- IPTC
- Caption-Abstract: OLYMPUS DIGITAL CAMERA
- XMP-aux
- FlashCompensation: 0
- Lens: 11.0-22.0 mm f/2.8-3.5
- LensInfo: 11/1 22/1 28/10 35/10
- LensSerialNumber: 070203830
- SerialNumber: D70514762
- XMP-crs
- AlreadyApplied: True
- BlueHue: 0
- BlueSaturation: 0
- Brightness: +50
- CameraProfile: ACR 4.4
- ChromaticAberrationB: 0
- ChromaticAberrationR: 0
- Clarity: 0
- ColorNoiseReduction: 25
- Contrast: +25
- ConvertToGrayscale: False
- Defringe: 0
- Exposure: 0.00
- FillLight: 19
- GreenHue: 0
- GreenSaturation: 0
- HasCrop: False
- HasSettings: True
- HighlightRecovery: 0
- HueAdjustmentAqua: 0
- HueAdjustmentBlue: 0
- HueAdjustmentGreen: 0
- HueAdjustmentMagenta: 0
- HueAdjustmentOrange: 0
- HueAdjustmentPurple: 0
- HueAdjustmentRed: 0
- HueAdjustmentYellow: 0
- LuminanceAdjustmentAqua: 0
- LuminanceAdjustmentBlue: 0
- LuminanceAdjustmentGreen: 0
- LuminanceAdjustmentMagenta: 0
- LuminanceAdjustmentOrange: 0
- LuminanceAdjustmentPurple: 0
- LuminanceAdjustmentRed: 0
- LuminanceAdjustmentYellow: 0
- LuminanceSmoothing: 0
- ParametricDarks: 0
- ParametricHighlightSplit: 75
- ParametricHighlights: 0
- ParametricLights: 0
- ParametricMidtoneSplit: 50
- ParametricShadowSplit: 25
- ParametricShadows: 0
- PostCropVignetteAmount: 0
- RawFileName: AK303045.ORF
- RedHue: 0
- RedSaturation: 0
- Saturation: 0
- SaturationAdjustmentAqua: 0
- SaturationAdjustmentBlue: 0
- SaturationAdjustmentGreen: 0
- SaturationAdjustmentMagenta: 0
- SaturationAdjustmentOrange: 0
- SaturationAdjustmentPurple: 0
- SaturationAdjustmentRed: 0
- SaturationAdjustmentYellow: 0
- ShadowTint: 0
- Shadows: 5
- SharpenDetail: 25
- SharpenEdgeMasking: 0
- SharpenRadius: +1.0
- Sharpness: 25
- SplitToningBalance: 0
- SplitToningHighlightHue: 0
- SplitToningHighlightSaturation: 0
- SplitToningShadowHue: 0
- SplitToningShadowSaturation: 0
- Temperature: 5350
- Tint: +8
- ToneCurve: 0, 0, 32, 21, 64, 50, 128, 128, 192, 202, 255, 255
- ToneCurveName: Custom
- Version: 5.0
- Vibrance: 0
- VignetteAmount: 0
- WhiteBalance: As Shot
- XMP-dc
- Description: OLYMPUS DIGITAL CAMERA
- Format: image/jpeg
- XMP-exif
- DateTimeDigitized: 2009:04:30 20:44:44+04:00
- DateTimeOriginal: 2009:04:30 20:44:44+04:00
- FlashFired: True
- FlashFunction: False
- FlashMode: On
- FlashRedEyeMode: False
- FlashReturn: No return detection
- XMP-tiff
- BitsPerSample: 8, 8, 8
- XMP-xmp
- CreateDate: 2009:04:30 20:44:44+04:00
- CreatorTool: Version 1.3
- ModifyDate: 2009:05:02 19:03:42+04:00
- XMP-xmpMM
- Просмотров: 495
- Рейтинг: голосов еще нет
- Отзывов: 0
Получить код для блога
| Вставка фотографии в текущем разрешении |
Вставка миниатюры |
HTML (для вставки в блог):
BBCode (для вставки в форум):
Ссылка на фото:
Ссылка на миниатюру:
- Послать ссылку другу
| Комментарии к фотографии |