Уважаемые друзья и участники проекта iXBT.photo! К сожалению, 1 марта 2026 года проект iXBT.photo прекратит свою работу и будет закрыт. Мы высоко ценим ваше участие и тот вклад, который вы внесли в развитие нашего сообщества. Пожалуйста, не забудьте сохранить ваши фотографии до этой даты.
С уважением, команда iXBT.com
| NIE.jpg |
NIE.jpg
- Раздел: Другое, разное
- Дата съёмки: 02.05.2009 13:56
- Дата загрузки фото: 03.05.2009 22:10
- Оригинальная фотография: 900 x 598 (283 Кб)
- Технические характеристики:
- Фотоаппарат: Nikon D70s
- Выдержка: 1/45
- Диафрагма: 16,0
- Светочувствительность: 200
- Фокусное расстояние: 18,0 mm
- Полный EXIF
- Adobe
- ColorTransform: YCbCr
- Composite
- Aperture: 16,0
- FocalLength35efl: 18,0 mm
- ShutterSpeed: 1/45
- ExifIFD
- ApertureValue: 16,0
- ColorSpace: sRGB
- DateTimeOriginal: 2009:05:02 13:56:50
- ExifImageHeight: 598
- ExifImageWidth: 900
- ExposureTime: 1/45
- FNumber: 16,0
- FocalLength: 18,0 mm
- ISO: 200
- ShutterSpeedValue: 1/45
- ICC-header
- ICC-meas
- ICC-view
- IFD0
- Model: NIKON D70s
- ModifyDate: 2009:05:02 19:34:21
- Orientation: Horizontal (normal)
- IFD1
- IPTC
- XMP-crs
- AlreadyApplied: True
- BlueHue: 0
- BlueSaturation: 0
- Brightness: 0
- CameraProfile: Embedded
- ChromaticAberrationB: 0
- ChromaticAberrationR: 0
- Clarity: +62
- ColorNoiseReduction: 0
- Contrast: 0
- ConvertToGrayscale: False
- CropAngle: 0
- CropBottom: 1
- CropLeft: 0
- CropRight: 1
- CropTop: 0
- Defringe: 0
- Exposure: 0.00
- FillLight: 14
- GreenHue: 0
- GreenSaturation: 0
- HasCrop: True
- HasSettings: True
- HighlightRecovery: 60
- HueAdjustmentAqua: 0
- HueAdjustmentBlue: 0
- HueAdjustmentGreen: 0
- HueAdjustmentMagenta: 0
- HueAdjustmentOrange: 0
- HueAdjustmentPurple: 0
- HueAdjustmentRed: 0
- HueAdjustmentYellow: 0
- IncrementalTemperature: +7
- IncrementalTint: 0
- LuminanceAdjustmentAqua: 0
- LuminanceAdjustmentBlue: 0
- LuminanceAdjustmentGreen: 0
- LuminanceAdjustmentMagenta: 0
- LuminanceAdjustmentOrange: 0
- LuminanceAdjustmentPurple: 0
- LuminanceAdjustmentRed: 0
- LuminanceAdjustmentYellow: 0
- LuminanceSmoothing: 0
- ParametricDarks: 0
- ParametricHighlightSplit: 75
- ParametricHighlights: 0
- ParametricLights: 0
- ParametricMidtoneSplit: 50
- ParametricShadowSplit: 25
- ParametricShadows: 0
- PostCropVignetteAmount: 0
- RawFileName: DSC_0116_7_8.tif
- RedHue: 0
- RedSaturation: 0
- Saturation: 0
- SaturationAdjustmentAqua: 0
- SaturationAdjustmentBlue: 0
- SaturationAdjustmentGreen: 0
- SaturationAdjustmentMagenta: 0
- SaturationAdjustmentOrange: 0
- SaturationAdjustmentPurple: 0
- SaturationAdjustmentRed: 0
- SaturationAdjustmentYellow: 0
- ShadowTint: 0
- Shadows: 10
- SharpenDetail: 25
- SharpenEdgeMasking: 0
- SharpenRadius: +1.0
- Sharpness: 0
- SplitToningBalance: 0
- SplitToningHighlightHue: 0
- SplitToningHighlightSaturation: 0
- SplitToningShadowHue: 0
- SplitToningShadowSaturation: 0
- ToneCurve: 0, 0, 255, 255
- ToneCurveName: Linear
- Version: 5.3
- Vibrance: -31
- VignetteAmount: 0
- WhiteBalance: Custom
- XMP-dc
- XMP-exif
- DateTimeOriginal: 2009:05:02 13:56:50+04:00
- XMP-pmtm
- BlackClip: 0.000000
- ColorSaturation: 65
- ColorTemperature: 0
- Gamma: 1.000000
- HighlightsSmoothing: 0
- Luminosity: 2
- Method: Details Enhancer
- Microcontrast: 0
- Microsmoothing: 2
- SaturationHighlights: 0
- SaturationShadows: 0
- ShadowsClipping: 0
- ShadowsSmoothing: 0
- Smoothing: Medium
- Strength: 94
- Version: 3.1
- WhiteClip: 0.249450
- XMP-tiff
- XMP-xmp
- CreateDate: 2009:05:02 13:56:50+04:00
- ModifyDate: 2009:05:02 19:34:21+04:00
- Rating: 0
- XMP-xmpMM
Получить код для блога
| Вставка фотографии в текущем разрешении |
Вставка миниатюры |
HTML (для вставки в блог):
BBCode (для вставки в форум):
Ссылка на фото:
Ссылка на миниатюру:
- Послать ссылку другу
| Комментарии к фотографии |