- Раздел: Тесты фототехники
- Дата съёмки: 04.05.2009 13:54
- Дата загрузки фото: 11.05.2009 21:36
- Оригинальная фотография: 2482 x 3543 (8,0 Мб)
- Технические характеристики:
- Фотоаппарат: Pentax K200D
- Выдержка: 1/200
- Гиперфокальное расстояние: 28,53 m
- Диафрагма: 2,8
- Светочувствительность: 200
- Фокусное расстояние: 40,0 mm (35 mm equivalent: 60,0 mm)
- Экспокоррекция: +0,3
- Полный EXIF
- Adobe
- ColorTransform: YCbCr
- Composite
- Aperture: 2,8
- CircleOfConfusion: 0,020 mm
- FOV: 33,0 deg
- FocalLength35efl: 40,0 mm (35 mm equivalent: 60,0 mm)
- HyperfocalDistance: 28,53 m
- ScaleFactor35efl: 1,5
- ShutterSpeed: 1/200
- ExifIFD
- ApertureValue: 2,8
- CFAPattern: [Red,Green][Green,Blue]
- Contrast: Normal
- CreateDate: 2009:05:04 13:54:59
- CustomRendered: Normal
- DateTimeOriginal: 2009:05:04 13:54:59
- ExposureCompensation: +0,3
- ExposureMode: Manual
- ExposureProgram: Aperture-priority AE
- ExposureTime: 1/200
- FNumber: 2,8
- Flash: Off
- FocalLength: 40,0 mm
- FocalLengthIn35mmFormat: 60 mm
- ISO: 200
- MeteringMode: Center-weighted average
- Saturation: Normal
- SceneCaptureType: Standard
- SensingMethod: One-chip color area
- Sharpness: Soft
- ShutterSpeedValue: 1/200
- SubjectDistanceRange: Distant
- WhiteBalance: Manual
- ICC-header
- ICC-meas
- ICC-view
- IFD0
- Make: PENTAX
- Model: PENTAX K200D
- ModifyDate: 2009:05:11 16:07:28
- Software: K200D Ver 1.00
- XMP-aux
- Lens: smc PENTAX-DA 40mm F2.8 Limited
- LensID: 4 251
- LensInfo: 400/10 400/10 28/10 28/10
- XMP-crs
- AlreadyApplied: True
- BlueHue: 0
- BlueSaturation: 0
- Brightness: +53
- CameraProfile: ACR 4.4
- ChromaticAberrationB: -2
- ChromaticAberrationR: +5
- Clarity: 0
- ColorNoiseReduction: 25
- Contrast: +51
- ConvertToGrayscale: False
- CropAngle: 0
- CropBottom: 1
- CropHeight: 2482
- CropLeft: 0
- CropRight: 0.915094
- CropTop: 0.042254
- CropUnit: 0
- CropWidth: 3543
- Defringe: 0
- Exposure: 0.00
- FillLight: 0
- GreenHue: 0
- GreenSaturation: 0
- HasCrop: True
- HasSettings: True
- HighlightRecovery: 11
- HueAdjustmentAqua: 0
- HueAdjustmentBlue: 0
- HueAdjustmentGreen: 0
- HueAdjustmentMagenta: 0
- HueAdjustmentOrange: 0
- HueAdjustmentPurple: 0
- HueAdjustmentRed: 0
- HueAdjustmentYellow: 0
- LuminanceAdjustmentAqua: -7
- LuminanceAdjustmentBlue: -62
- LuminanceAdjustmentGreen: 0
- LuminanceAdjustmentMagenta: 0
- LuminanceAdjustmentOrange: 0
- LuminanceAdjustmentPurple: 0
- LuminanceAdjustmentRed: 0
- LuminanceAdjustmentYellow: 0
- LuminanceSmoothing: 0
- ParametricDarks: 0
- ParametricHighlightSplit: 75
- ParametricHighlights: 0
- ParametricLights: 0
- ParametricMidtoneSplit: 50
- ParametricShadowSplit: 25
- ParametricShadows: 0
- PostCropVignetteAmount: 0
- RedHue: 0
- RedSaturation: 0
- Saturation: 0
- SaturationAdjustmentAqua: 0
- SaturationAdjustmentBlue: 0
- SaturationAdjustmentGreen: 0
- SaturationAdjustmentMagenta: 0
- SaturationAdjustmentOrange: 0
- SaturationAdjustmentPurple: 0
- SaturationAdjustmentRed: 0
- SaturationAdjustmentYellow: 0
- ShadowTint: 0
- Shadows: 2
- SharpenDetail: 50
- SharpenEdgeMasking: 0
- SharpenRadius: +0.8
- Sharpness: 40
- SplitToningBalance: 0
- SplitToningHighlightHue: 0
- SplitToningHighlightSaturation: 0
- SplitToningShadowHue: 0
- SplitToningShadowSaturation: 0
- Temperature: 5214
- Tint: -3
- ToneCurve: 0, 0, 32, 22, 64, 56, 128, 128, 192, 196, 255, 255
- ToneCurveName: Medium Contrast
- Version: 4.5
- Vibrance: 0
- VignetteAmount: 0
- WhiteBalance: Custom
- XMP-exif
- DateTimeDigitized: 2009:05:04 13:54:59+04:00
- DateTimeOriginal: 2009:05:04 13:54:59+04:00
- ExifImageHeight: 3543
- ExifImageWidth: 2482
- FlashFired: False
- FlashFunction: False
- FlashMode: Off
- FlashRedEyeMode: False
- FlashReturn: No return detection
- XMP-tiff
- ImageHeight: 3543
- ImageWidth: 2482
- XMP-xmp
- CreateDate: 2009:05:04 13:54:59+04:00
- ModifyDate: 2009:05:11 16:07:28+04:00
- Rating: 4
- Просмотров: 429
- Рейтинг: голосов еще нет
- Отзывов: 1