- Раздел: Город
- Дата съёмки: 15.05.2009 12:27
- Дата загрузки фото: 16.05.2009 22:34
- Оригинальная фотография: 3019 x 2241 (3,6 Мб)
- Технические характеристики:
- Фотоаппарат: Panasonic DMC-FZ18
- Выдержка: 1/1000
- Диафрагма: 8,0
- Светочувствительность: 100
- Фокусное расстояние: 6,8 mm
- Экспокоррекция: -0,33
- Полный EXIF
- Adobe
- ColorTransform: YCbCr
- Composite
- Aperture: 8,0
- FocalLength35efl: 6,8 mm
- ShutterSpeed: 1/1000
- ExifIFD
- ApertureValue: 8,0
- CreateDate: 2009:05:15 12:27:16
- DateTimeOriginal: 2009:05:15 12:27:16
- ExposureCompensation: -0,33
- ExposureProgram: Program AE
- ExposureTime: 1/1000
- FNumber: 8,0
- Flash: Off
- FocalLength: 6,8 mm
- ISO: 100
- MaxApertureValue: 2,8
- MeteringMode: Multi-segment
- ShutterSpeedValue: 1/1000
- ICC-header
- ICC-meas
- ICC-view
- IFD0
- Make: Panasonic
- Model: DMC-FZ18
- ModifyDate: 2009:05:16 21:22:25
- IFD1
- XMP-crs
- AlreadyApplied: True
- BlueHue: 0
- BlueSaturation: 0
- Brightness: +50
- ChromaticAberrationB: 0
- ChromaticAberrationR: 0
- Clarity: +29
- ColorNoiseReduction: 25
- Contrast: +35
- ConvertToGrayscale: False
- CropAngle: 0
- CropBottom: 1
- CropHeight: 2241
- CropLeft: 0.001131
- CropRight: 0.926053
- CropTop: 0.084465
- CropUnit: 0
- CropWidth: 3019
- Defringe: 0
- Exposure: 0.00
- FillLight: 0
- GreenHue: 0
- GreenSaturation: 0
- HasCrop: True
- HasSettings: True
- HighlightRecovery: 31
- HueAdjustmentAqua: 0
- HueAdjustmentBlue: 0
- HueAdjustmentGreen: 0
- HueAdjustmentMagenta: 0
- HueAdjustmentOrange: 0
- HueAdjustmentPurple: 0
- HueAdjustmentRed: 0
- HueAdjustmentYellow: 0
- LuminanceAdjustmentAqua: 0
- LuminanceAdjustmentBlue: 0
- LuminanceAdjustmentGreen: 0
- LuminanceAdjustmentMagenta: 0
- LuminanceAdjustmentOrange: 0
- LuminanceAdjustmentPurple: 0
- LuminanceAdjustmentRed: 0
- LuminanceAdjustmentYellow: 0
- LuminanceSmoothing: 1
- ParametricDarks: -7
- ParametricHighlightSplit: 75
- ParametricHighlights: +55
- ParametricLights: -2
- ParametricMidtoneSplit: 50
- ParametricShadowSplit: 25
- ParametricShadows: +31
- PostCropVignetteAmount: 0
- RedHue: 0
- RedSaturation: 0
- Saturation: +30
- SaturationAdjustmentAqua: 0
- SaturationAdjustmentBlue: +7
- SaturationAdjustmentGreen: 0
- SaturationAdjustmentMagenta: 0
- SaturationAdjustmentOrange: 0
- SaturationAdjustmentPurple: 0
- SaturationAdjustmentRed: 0
- SaturationAdjustmentYellow: 0
- ShadowTint: 0
- Shadows: 5
- SharpenDetail: 51
- SharpenEdgeMasking: 67
- SharpenRadius: +0.5
- Sharpness: 86
- SplitToningBalance: 0
- SplitToningHighlightHue: 0
- SplitToningHighlightSaturation: 0
- SplitToningShadowHue: 0
- SplitToningShadowSaturation: 0
- Temperature: 4950
- Tint: +12
- ToneCurve: 0, 0, 32, 16, 64, 50, 128, 128, 192, 202, 255, 255
- ToneCurveName: Strong Contrast
- Version: 5.3
- Vibrance: +14
- VignetteAmount: 0
- WhiteBalance: As Shot
- XMP-exif
- DateTimeDigitized: 2009:05:15 12:27:16+03:00
- DateTimeOriginal: 2009:05:15 12:27:16+03:00
- ExifImageHeight: 2241
- ExifImageWidth: 3019
- FlashFired: False
- FlashFunction: False
- FlashMode: Off
- FlashRedEyeMode: False
- FlashReturn: No return detection
- XMP-tiff
- ImageHeight: 2241
- ImageWidth: 3019
- XMP-xmp
- CreateDate: 2009:05:15 12:27:16+03:00
- ModifyDate: 2009:05:16 21:22:25+03:00