- Раздел: Город
- Дата съёмки: 15.05.2009 11:20
- Дата загрузки фото: 18.05.2009 21:35
- Оригинальная фотография: 2842 x 1836 (3,7 Мб)
- Технические характеристики:
- Фотоаппарат: Panasonic DMC-FZ18
- Выдержка: 1/1600
- Диафрагма: 8,0
- Светочувствительность: 100
- Фокусное расстояние: 5,2 mm
- Экспокоррекция: -0,66
- Полный EXIF
- Adobe
- ColorTransform: YCbCr
- Composite
- Aperture: 8,0
- FocalLength35efl: 5,2 mm
- ShutterSpeed: 1/1600
- ExifIFD
- ApertureValue: 8,0
- CreateDate: 2009:05:15 11:20:25
- DateTimeOriginal: 2009:05:15 11:20:25
- ExposureCompensation: -0,66
- ExposureProgram: Program AE
- ExposureTime: 1/1600
- FNumber: 8,0
- Flash: Off
- FocalLength: 5,2 mm
- ISO: 100
- MaxApertureValue: 2,8
- MeteringMode: Multi-segment
- ShutterSpeedValue: 1/1600
- ICC-header
- ICC-meas
- ICC-view
- IFD0
- Make: Panasonic
- Model: DMC-FZ18
- ModifyDate: 2009:05:18 20:32:41
- IFD1
- XMP-crs
- AlreadyApplied: True
- BlueHue: 0
- BlueSaturation: 0
- Brightness: +30
- ChromaticAberrationB: 0
- ChromaticAberrationR: 0
- Clarity: +10
- ColorNoiseReduction: 57
- Contrast: +50
- ConvertToGrayscale: False
- CropAngle: -2.34001
- CropBottom: 0.891829
- CropHeight: 1836
- CropLeft: 0.072791
- CropRight: 0.965998
- CropTop: 0.189866
- CropUnit: 0
- CropWidth: 2842
- Defringe: 0
- Exposure: +1.00
- FillLight: 0
- GradientBasedCorrectionsCorrectionActive: true
- GradientBasedCorrectionsCorrectionAmount: 1.000000
- GradientBasedCorrectionsCorrectionMasksFullX: 0.370334
- GradientBasedCorrectionsCorrectionMasksFullY: 0.979495
- GradientBasedCorrectionsCorrectionMasksMaskValue: 1.000000
- GradientBasedCorrectionsCorrectionMasksWhat: Mask/Gradient
- GradientBasedCorrectionsCorrectionMasksZeroX: 0.401377
- GradientBasedCorrectionsCorrectionMasksZeroY: 0.668849
- GradientBasedCorrectionsLocalBrightness: 0.100000
- GradientBasedCorrectionsLocalClarity: 0.225000
- GradientBasedCorrectionsLocalContrast: 0.275000
- GradientBasedCorrectionsLocalExposure: 0.000000
- GradientBasedCorrectionsLocalSaturation: 0.550000
- GradientBasedCorrectionsLocalSharpness: 0.050000
- GradientBasedCorrectionsLocalToningHue: 0.000000
- GradientBasedCorrectionsLocalToningSaturation: 0.000000
- GradientBasedCorrectionsWhat: Correction
- GreenHue: 0
- GreenSaturation: 0
- HasCrop: True
- HasSettings: True
- HighlightRecovery: 0
- HueAdjustmentAqua: 0
- HueAdjustmentBlue: 0
- HueAdjustmentGreen: 0
- HueAdjustmentMagenta: 0
- HueAdjustmentOrange: 0
- HueAdjustmentPurple: 0
- HueAdjustmentRed: 0
- HueAdjustmentYellow: 0
- LuminanceAdjustmentAqua: 0
- LuminanceAdjustmentBlue: +26
- LuminanceAdjustmentGreen: 0
- LuminanceAdjustmentMagenta: 0
- LuminanceAdjustmentOrange: 0
- LuminanceAdjustmentPurple: 0
- LuminanceAdjustmentRed: 0
- LuminanceAdjustmentYellow: 0
- LuminanceSmoothing: 17
- ParametricDarks: -2
- ParametricHighlightSplit: 75
- ParametricHighlights: +24
- ParametricLights: 0
- ParametricMidtoneSplit: 50
- ParametricShadowSplit: 25
- ParametricShadows: 0
- PostCropVignetteAmount: 0
- RedHue: 0
- RedSaturation: 0
- Saturation: +15
- SaturationAdjustmentAqua: 0
- SaturationAdjustmentBlue: +25
- SaturationAdjustmentGreen: +69
- SaturationAdjustmentMagenta: 0
- SaturationAdjustmentOrange: 0
- SaturationAdjustmentPurple: 0
- SaturationAdjustmentRed: 0
- SaturationAdjustmentYellow: 0
- ShadowTint: 0
- Shadows: 5
- SharpenDetail: 46
- SharpenEdgeMasking: 0
- SharpenRadius: +0.6
- Sharpness: 25
- SplitToningBalance: 0
- SplitToningHighlightHue: 0
- SplitToningHighlightSaturation: 0
- SplitToningShadowHue: 0
- SplitToningShadowSaturation: 0
- Temperature: 4900
- Tint: +15
- ToneCurve: 0, 0, 32, 22, 64, 56, 128, 128, 192, 196, 255, 255
- ToneCurveName: Medium Contrast
- Version: 5.3
- Vibrance: 0
- VignetteAmount: 0
- WhiteBalance: As Shot
- XMP-exif
- DateTimeDigitized: 2009:05:15 11:20:25+03:00
- DateTimeOriginal: 2009:05:15 11:20:25+03:00
- ExifImageHeight: 1836
- ExifImageWidth: 2842
- FlashFired: False
- FlashFunction: False
- FlashMode: Off
- FlashRedEyeMode: False
- FlashReturn: No return detection
- XMP-tiff
- ImageHeight: 1836
- ImageWidth: 2842
- XMP-xmp
- CreateDate: 2009:05:15 11:20:25+03:00
- ModifyDate: 2009:05:18 20:32:41+03:00