- Раздел: Тесты фототехники
- Дата съёмки: 03.05.2009 13:07
- Дата загрузки фото: 22.05.2009 18:36
- Оригинальная фотография: 1180 x 787 (442 Кб)
- Технические характеристики:
- Фотоаппарат: Canon EOS 400D DIGITAL
- Выдержка: 1/250
- Гиперфокальное расстояние: 177,45 m
- Диафрагма: 1,6
- Светочувствительность: 100
- Фокусное расстояние: 40,0 mm (35 mm equivalent: 213,3 mm)
- Экспокоррекция: +2/3
- Полный EXIF
- Adobe
- ColorTransform: YCbCr
- Composite
- Aperture: 1,6
- CircleOfConfusion: 0,006 mm
- FOV: 9,0 deg
- FocalLength35efl: 40,0 mm (35 mm equivalent: 213,3 mm)
- HyperfocalDistance: 177,45 m
- ScaleFactor35efl: 5,3
- ShutterSpeed: 1/250
- ExifIFD
- ApertureValue: 1,6
- CreateDate: 2009:05:03 13:07:30
- CustomRendered: Normal
- DateTimeOriginal: 2009:05:03 13:07:30
- ExposureCompensation: +2/3
- ExposureMode: Auto
- ExposureProgram: Aperture-priority AE
- ExposureTime: 1/250
- FNumber: 1,6
- Flash: Off
- FocalLength: 40,0 mm
- ISO: 100
- MaxApertureValue: 1,4
- MeteringMode: Average
- SceneCaptureType: Standard
- ShutterSpeedValue: 1/250
- WhiteBalance: Manual
- ICC-header
- ICC-meas
- ICC-view
- IFD0
- Artist: Konstantin Kuznetsov
- Copyright: klkuznetsov@gmail.com
- Make: Canon
- Model: Canon EOS 400D DIGITAL
- ModifyDate: 2009:05:22 18:35:53
- IFD1
- IPTC
- By-line: Konstantin Kuznetsov
- City: Moscow
- CopyrightNotice: klkuznetsov@gmail.com
- Country-PrimaryLocationName: Russia
- Credit: klkuznetsov@gmail.com
- Source: klkuznetsov@gmail.com
- XMP-aux
- Firmware: 1.1.1
- FlashCompensation: -0,333333333333333
- ImageNumber: 48
- Lens: 40.0 mm
- LensInfo: 40/1 40/1 0/0 0/0
- OwnerName: Kuznetsov Konstantin
- SerialNumber: 560126260
- XMP-crs
- AlreadyApplied: True
- BlueHue: 0
- BlueSaturation: 0
- Brightness: +55
- ChromaticAberrationB: 0
- ChromaticAberrationR: 0
- Clarity: 0
- ColorNoiseReduction: 25
- Contrast: +51
- ConvertToGrayscale: False
- CropAngle: 0.342538
- CropBottom: 0.682348
- CropHeight: 787
- CropLeft: 0.640962
- CropRight: 0.94323
- CropTop: 0.376149
- CropUnit: 0
- CropWidth: 1180
- Defringe: 0
- Exposure: -0.33
- FillLight: 0
- GreenHue: 0
- GreenSaturation: 0
- HasCrop: True
- HasSettings: True
- HighlightRecovery: 4
- HueAdjustmentAqua: 0
- HueAdjustmentBlue: 0
- HueAdjustmentGreen: 0
- HueAdjustmentMagenta: 0
- HueAdjustmentOrange: 0
- HueAdjustmentPurple: 0
- HueAdjustmentRed: 0
- HueAdjustmentYellow: 0
- LuminanceAdjustmentAqua: 0
- LuminanceAdjustmentBlue: 0
- LuminanceAdjustmentGreen: 0
- LuminanceAdjustmentMagenta: 0
- LuminanceAdjustmentOrange: 0
- LuminanceAdjustmentPurple: 0
- LuminanceAdjustmentRed: 0
- LuminanceAdjustmentYellow: 0
- LuminanceSmoothing: 0
- ParametricDarks: 0
- ParametricHighlightSplit: 75
- ParametricHighlights: 0
- ParametricLights: 0
- ParametricMidtoneSplit: 50
- ParametricShadowSplit: 25
- ParametricShadows: 0
- PostCropVignetteAmount: 0
- RedHue: 0
- RedSaturation: 0
- Saturation: 0
- SaturationAdjustmentAqua: 0
- SaturationAdjustmentBlue: 0
- SaturationAdjustmentGreen: 0
- SaturationAdjustmentMagenta: 0
- SaturationAdjustmentOrange: 0
- SaturationAdjustmentPurple: 0
- SaturationAdjustmentRed: 0
- SaturationAdjustmentYellow: 0
- ShadowTint: 0
- Shadows: 15
- SharpenDetail: 25
- SharpenEdgeMasking: 0
- SharpenRadius: +1.0
- Sharpness: 25
- SplitToningBalance: 0
- SplitToningHighlightHue: 0
- SplitToningHighlightSaturation: 0
- SplitToningShadowHue: 0
- SplitToningShadowSaturation: 0
- Temperature: 5150
- Tint: +8
- ToneCurve: 0, 0, 32, 22, 64, 56, 128, 128, 192, 196, 255, 255
- ToneCurveName: Medium Contrast
- Version: 5.3
- Vibrance: 0
- VignetteAmount: 0
- WhiteBalance: As Shot
- XMP-dc
- Creator: Konstantin Kuznetsov
- Rights: klkuznetsov@gmail.com
- XMP-exif
- DateTimeDigitized: 2009:05:03 13:07:30+04:00
- DateTimeOriginal: 2009:05:03 13:07:30+04:00
- ExifImageHeight: 787
- ExifImageWidth: 1180
- FlashFired: False
- FlashFunction: False
- FlashMode: Off
- FlashRedEyeMode: False
- FlashReturn: No return detection
- XMP-iptcCore
- CountryCode: 07
- CreatorContactInfoCiAdrCity: Moscow
- CreatorContactInfoCiAdrCtry: Russia
- CreatorContactInfoCiEmailWork: klkuznetsov@gmail.com
- XMP-tiff
- ImageHeight: 787
- ImageWidth: 1180
- XMP-xmp
- CreateDate: 2009:05:03 13:07:30+04:00
- ModifyDate: 2009:05:22 18:35:53+04:00
- XMP-xmpRights
- Просмотров: 316
- Рейтинг: голосов еще нет
- Отзывов: 0