| » Участники » Likebeer » HDR » Отголоски советского прошлого... |
Уважаемые друзья и участники проекта iXBT.photo! К сожалению, 1 марта 2026 года проект iXBT.photo прекратит свою работу и будет закрыт. Мы высоко ценим ваше участие и тот вклад, который вы внесли в развитие нашего сообщества. Пожалуйста, не забудьте сохранить ваши фотографии до этой даты.
С уважением, команда iXBT.com
| Отголоски советского прошлого... |
Отголоски советского прошлого...
- Раздел: Другое, разное
- Дата съёмки: 02.06.2009 12:01
- Дата загрузки фото: 02.06.2009 12:37
- Оригинальная фотография: 900 x 615 (293 Кб)
- Технические характеристики:
- Фотоаппарат: Nikon D70s
- Выдержка: 1/350
- Диафрагма: 11,0
- Светочувствительность: 200
- Фокусное расстояние: 18,0 mm
- Полный EXIF
- Adobe
- ColorTransform: YCbCr
- Composite
- Aperture: 11,0
- FocalLength35efl: 18,0 mm
- ShutterSpeed: 1/350
- ExifIFD
- ApertureValue: 11,0
- ColorSpace: sRGB
- DateTimeOriginal: 2009:05:08 13:39:38
- ExifImageHeight: 615
- ExifImageWidth: 900
- ExposureTime: 1/350
- FNumber: 11,0
- FocalLength: 18,0 mm
- ISO: 200
- ShutterSpeedValue: 1/350
- ICC-header
- ICC-meas
- ICC-view
- IFD0
- Model: NIKON D70s
- ModifyDate: 2009:06:02 12:01:49
- Orientation: Horizontal (normal)
- IFD1
- IPTC
- Keywords: ñòóäèÿ
- XMP-crs
- AlreadyApplied: True
- BlueHue: 0
- BlueSaturation: 0
- Brightness: 0
- CameraProfile: Embedded
- ChromaticAberrationB: 0
- ChromaticAberrationR: 0
- Clarity: +55
- ColorNoiseReduction: 0
- Contrast: 0
- ConvertToGrayscale: False
- Defringe: 0
- Exposure: +0.77
- FillLight: 0
- GreenHue: 0
- GreenSaturation: 0
- HasCrop: False
- HasSettings: True
- HighlightRecovery: 0
- HueAdjustmentAqua: 0
- HueAdjustmentBlue: 0
- HueAdjustmentGreen: 0
- HueAdjustmentMagenta: 0
- HueAdjustmentOrange: 0
- HueAdjustmentPurple: 0
- HueAdjustmentRed: 0
- HueAdjustmentYellow: 0
- IncrementalTemperature: 0
- IncrementalTint: 0
- LuminanceAdjustmentAqua: 0
- LuminanceAdjustmentBlue: 0
- LuminanceAdjustmentGreen: 0
- LuminanceAdjustmentMagenta: 0
- LuminanceAdjustmentOrange: +14
- LuminanceAdjustmentPurple: 0
- LuminanceAdjustmentRed: +24
- LuminanceAdjustmentYellow: 0
- LuminanceSmoothing: 0
- ParametricDarks: 0
- ParametricHighlightSplit: 75
- ParametricHighlights: 0
- ParametricLights: 0
- ParametricMidtoneSplit: 50
- ParametricShadowSplit: 25
- ParametricShadows: -13
- PostCropVignetteAmount: 0
- RedHue: 0
- RedSaturation: 0
- Saturation: +83
- SaturationAdjustmentAqua: 0
- SaturationAdjustmentBlue: 0
- SaturationAdjustmentGreen: 0
- SaturationAdjustmentMagenta: 0
- SaturationAdjustmentOrange: +68
- SaturationAdjustmentPurple: 0
- SaturationAdjustmentRed: +3
- SaturationAdjustmentYellow: +11
- ShadowTint: 0
- Shadows: 0
- SharpenDetail: 25
- SharpenEdgeMasking: 0
- SharpenRadius: +1.0
- Sharpness: 25
- SplitToningBalance: 0
- SplitToningHighlightHue: 0
- SplitToningHighlightSaturation: 0
- SplitToningShadowHue: 0
- SplitToningShadowSaturation: 0
- ToneCurve: 0, 0, 32, 22, 64, 56, 128, 128, 192, 196, 255, 255
- ToneCurveName: Medium Contrast
- Version: 5.3
- Vibrance: -100
- VignetteAmount: -87
- VignetteMidpoint: 33
- WhiteBalance: As Shot
- XMP-dc
- Format: image/jpeg
- Subject: студия
- XMP-exif
- DateTimeOriginal: 2009:05:08 13:39:38+04:00
- XMP-lr
- HierarchicalSubject: студия
- XMP-pmtm
- BlackClip: 0.000000
- ColorSaturation: 60
- ColorTemperature: 0
- Gamma: 1.000000
- HighlightsSmoothing: 0
- Luminosity: 0
- Method: Details Enhancer
- Microcontrast: 0
- Microsmoothing: 2
- SaturationHighlights: 0
- SaturationShadows: 0
- ShadowsClipping: 0
- ShadowsSmoothing: 0
- Smoothing: Medium
- Strength: 80
- Version: 3.1
- WhiteClip: 0.249450
- XMP-tiff
- ImageHeight: 1995
- ImageWidth: 3006
- XMP-xmp
- CreateDate: 2009:06:02 12:01:49+04:00
- ModifyDate: 2009:06:02 12:01:49+04:00
- XMP-xmpMM
Получить код для блога
| Вставка фотографии в текущем разрешении |
Вставка миниатюры |
HTML (для вставки в блог):
BBCode (для вставки в форум):
Ссылка на фото:
Ссылка на миниатюру:
- Послать ссылку другу
| Комментарии к фотографии |