- Раздел: Другое, разное
- Дата съёмки: 04.10.2008 14:24
- Дата загрузки фото: 04.06.2009 09:16
- Оригинальная фотография: 1417 x 945 (554 Кб)
- Технические характеристики:
- Фотоаппарат: Canon EOS 450D
- Выдержка: 1/640
- Гиперфокальное расстояние: 4,77 m
- Диафрагма: 11,0
- Светочувствительность: 200
- Фокусное расстояние: 18,0 mm (35 mm equivalent: 87,7 mm)
- Полный EXIF
- Adobe
- ColorTransform: YCbCr
- Composite
- Aperture: 11,0
- CircleOfConfusion: 0,006 mm
- FOV: 23,0 deg
- FocalLength35efl: 18,0 mm (35 mm equivalent: 87,7 mm)
- HyperfocalDistance: 4,77 m
- ScaleFactor35efl: 4,9
- ShutterSpeed: 1/640
- ExifIFD
- ApertureValue: 11,0
- CreateDate: 2008:10:04 14:24:01
- CustomRendered: Normal
- DateTimeOriginal: 2008:10:04 14:24:01
- ExposureCompensation: 0
- ExposureMode: Auto
- ExposureProgram: Aperture-priority AE
- ExposureTime: 1/640
- FNumber: 11,0
- Flash: Off
- FocalLength: 18,0 mm
- ISO: 200
- MaxApertureValue: 3,5
- MeteringMode: Multi-segment
- SceneCaptureType: Standard
- ShutterSpeedValue: 1/640
- WhiteBalance: Auto
- ICC-header
- ICC-meas
- ICC-view
- IFD0
- Make: Canon
- Model: Canon EOS 450D
- ModifyDate: 2009:06:03 22:30:34
- IFD1
- XMP-aux
- Firmware: 1.0.4
- FlashCompensation: 0
- ImageNumber: 0
- Lens: 18-200mm
- LensInfo: 18/1 200/1 0/0 0/0
- SerialNumber: 530103538
- XMP-crs
- AlreadyApplied: True
- BlueHue: 0
- BlueSaturation: 0
- Brightness: +50
- ChromaticAberrationB: 0
- ChromaticAberrationR: -82
- Clarity: +42
- ColorNoiseReduction: 25
- Contrast: +57
- ConvertToGrayscale: False
- CropAngle: -0.611449
- CropBottom: 0.909965
- CropHeight: 945
- CropLeft: 0
- CropRight: 0.916439
- CropTop: 0.014567
- CropUnit: 0
- CropWidth: 1417
- Defringe: 0
- Exposure: 0.00
- FillLight: 27
- GreenHue: 0
- GreenSaturation: 0
- HasCrop: True
- HasSettings: True
- HighlightRecovery: 96
- HueAdjustmentAqua: 0
- HueAdjustmentBlue: 0
- HueAdjustmentGreen: 0
- HueAdjustmentMagenta: 0
- HueAdjustmentOrange: 0
- HueAdjustmentPurple: 0
- HueAdjustmentRed: 0
- HueAdjustmentYellow: 0
- LuminanceAdjustmentAqua: 0
- LuminanceAdjustmentBlue: 0
- LuminanceAdjustmentGreen: 0
- LuminanceAdjustmentMagenta: 0
- LuminanceAdjustmentOrange: 0
- LuminanceAdjustmentPurple: 0
- LuminanceAdjustmentRed: 0
- LuminanceAdjustmentYellow: 0
- LuminanceSmoothing: 0
- ParametricDarks: 0
- ParametricHighlightSplit: 75
- ParametricHighlights: 0
- ParametricLights: 0
- ParametricMidtoneSplit: 50
- ParametricShadowSplit: 25
- ParametricShadows: 0
- PostCropVignetteAmount: -38
- PostCropVignetteFeather: 50
- PostCropVignetteMidpoint: 73
- PostCropVignetteRoundness: 0
- RedHue: 0
- RedSaturation: 0
- Saturation: +87
- SaturationAdjustmentAqua: +68
- SaturationAdjustmentBlue: +59
- SaturationAdjustmentGreen: +47
- SaturationAdjustmentMagenta: 0
- SaturationAdjustmentOrange: -53
- SaturationAdjustmentPurple: 0
- SaturationAdjustmentRed: 0
- SaturationAdjustmentYellow: -9
- ShadowTint: 0
- Shadows: 16
- SharpenDetail: 25
- SharpenEdgeMasking: 0
- SharpenRadius: +1.0
- Sharpness: 97
- SplitToningBalance: 0
- SplitToningHighlightHue: 0
- SplitToningHighlightSaturation: 0
- SplitToningShadowHue: 0
- SplitToningShadowSaturation: 0
- Temperature: 5550
- Tint: +9
- ToneCurve: 0, 0, 32, 22, 64, 56, 128, 128, 192, 196, 255, 255
- ToneCurveName: Medium Contrast
- Version: 5.3
- Vibrance: 0
- VignetteAmount: +29
- VignetteMidpoint: 40
- WhiteBalance: As Shot
- XMP-exif
- DateTimeDigitized: 2008:10:04 14:24:01.02+04:00
- DateTimeOriginal: 2008:10:04 14:24:01.02+04:00
- ExifImageHeight: 945
- ExifImageWidth: 1417
- FlashFired: False
- FlashFunction: False
- FlashMode: Off
- FlashRedEyeMode: False
- FlashReturn: No return detection
- XMP-tiff
- ImageHeight: 945
- ImageWidth: 1417
- XMP-xmp
- CreateDate: 2008:10:04 14:24:01.02+04:00
- ModifyDate: 2009:06:03 22:30:34+04:00