- Раздел: Другое, разное
- Дата съёмки: 04.06.2009 16:00
- Дата загрузки фото: 04.06.2009 17:01
- Оригинальная фотография: 433 x 650 (104 Кб)
- Технические характеристики:
- Фотоаппарат: Canon EOS 450D
- Выдержка: 1/1000
- Гиперфокальное расстояние: 315,84 m
- Диафрагма: 2,8
- Светочувствительность: 100
- Фокусное расстояние: 50,0 mm (35 mm equivalent: 531,4 mm)
- Экспокоррекция: -2/3
- Полный EXIF
- Adobe
- ColorTransform: YCbCr
- Composite
- Aperture: 2,8
- CircleOfConfusion: 0,003 mm
- FOV: 3,0 deg
- FocalLength35efl: 50,0 mm (35 mm equivalent: 531,4 mm)
- HyperfocalDistance: 315,84 m
- ScaleFactor35efl: 10,6
- ShutterSpeed: 1/1000
- ExifIFD
- ApertureValue: 2,8
- ColorSpace: sRGB
- CreateDate: 2009:05:31 16:05:11
- CustomRendered: Normal
- DateTimeOriginal: 2009:05:31 16:05:11
- ExifImageHeight: 650
- ExifImageWidth: 433
- ExposureCompensation: -2/3
- ExposureMode: Auto
- ExposureProgram: Aperture-priority AE
- ExposureTime: 1/1000
- FNumber: 2,8
- Flash: Off
- FocalLength: 50,0 mm
- ISO: 100
- MaxApertureValue: 1,8
- MeteringMode: Multi-segment
- SceneCaptureType: Standard
- ShutterSpeedValue: 1/1000
- WhiteBalance: Auto
- ICC-header
- ICC-meas
- ICC-view
- IFD0
- Make: Canon
- Model: Canon EOS 450D
- ModifyDate: 2009:06:04 16:00:58
- Orientation: Horizontal (normal)
- IFD1
- IPTC
- XMP-aux
- Firmware: 1.0.9
- FlashCompensation: 0
- ImageNumber: 0
- Lens: EF50mm f/1.8 II
- LensInfo: 50/1 50/1 0/0 0/0
- SerialNumber: 980397873
- XMP-crs
- AlreadyApplied: True
- BlueHue: 0
- BlueSaturation: 0
- Brightness: +82
- CameraProfile: ACR 4.4
- ChromaticAberrationB: 0
- ChromaticAberrationR: 0
- Clarity: 0
- ColorNoiseReduction: 25
- Contrast: +41
- ConvertToGrayscale: True
- Defringe: 0
- Exposure: +0.41
- FillLight: 0
- GrayMixerAqua: -46
- GrayMixerBlue: -8
- GrayMixerGreen: -11
- GrayMixerMagenta: +47
- GrayMixerOrange: +35
- GrayMixerPurple: +21
- GrayMixerRed: +65
- GrayMixerYellow: +8
- GreenHue: 0
- GreenSaturation: 0
- HasCrop: False
- HasSettings: True
- HighlightRecovery: 49
- LuminanceSmoothing: 0
- ParametricDarks: -47
- ParametricHighlightSplit: 75
- ParametricHighlights: +58
- ParametricLights: +11
- ParametricMidtoneSplit: 50
- ParametricShadowSplit: 25
- ParametricShadows: -8
- PostCropVignetteAmount: 0
- RedHue: 0
- RedSaturation: 0
- ShadowTint: 0
- Shadows: 0
- SharpenDetail: 25
- SharpenEdgeMasking: 0
- SharpenRadius: +1.0
- Sharpness: 95
- SplitToningBalance: 0
- SplitToningHighlightHue: 44
- SplitToningHighlightSaturation: 41
- SplitToningShadowHue: 28
- SplitToningShadowSaturation: 61
- Temperature: 5450
- Tint: -4
- ToneCurve: 0, 0, 32, 22, 64, 56, 128, 128, 192, 196, 255, 255
- ToneCurveName: Medium Contrast
- Version: 5.3
- VignetteAmount: 0
- WhiteBalance: As Shot
- XMP-dc
- XMP-exif
- DateTimeDigitized: 2009:05:31 16:05:11.03+04:00
- DateTimeOriginal: 2009:05:31 16:05:11.03+04:00
- FlashFired: False
- FlashFunction: False
- FlashMode: Off
- FlashRedEyeMode: False
- FlashReturn: No return detection
- XMP-tiff
- ImageHeight: 4272
- ImageWidth: 2848
- XMP-xmp
- CreateDate: 2009:06:04 16:00:58+04:00
- ModifyDate: 2009:06:04 16:00:58+04:00
- XMP-xmpMM