- Раздел: Эротика
- Дата съёмки: 05.06.2009 01:03
- Дата загрузки фото: 07.06.2009 00:17
- Оригинальная фотография: 3543 x 4724 (3,3 Мб)
- Технические характеристики:
- Фотоаппарат: Canon PowerShot G9
- Выдержка: 1/250
- Гиперфокальное расстояние: 3,18 m
- Диафрагма: 8,0
- Светочувствительность: 80
- Фокусное расстояние: 22,0 mm (35 mm equivalent: 34,8 mm)
- Полный EXIF
- Adobe
- ColorTransform: Unknown (RGB or CMYK)
- Composite
- Aperture: 8,0
- CircleOfConfusion: 0,019 mm
- FOV: 54,0 deg
- FocalLength35efl: 22,0 mm (35 mm equivalent: 34,8 mm)
- HyperfocalDistance: 3,18 m
- ScaleFactor35efl: 1,6
- ShutterSpeed: 1/250
- ExifIFD
- ApertureValue: 8,0
- ColorSpace: Uncalibrated
- CreateDate: 2009:05:24 13:13:50
- CustomRendered: Normal
- DateTimeOriginal: 2009:05:24 13:13:50
- DigitalZoomRatio: 1
- ExifImageHeight: 4724
- ExifImageWidth: 3543
- ExposureCompensation: 0
- ExposureMode: Manual
- ExposureTime: 1/250
- FNumber: 8,0
- Flash: On
- FocalLength: 22,0 mm
- ISO: 80
- MaxApertureValue: 3,5
- MeteringMode: Spot
- SceneCaptureType: Standard
- SensingMethod: One-chip color area
- ShutterSpeedValue: 1/250
- WhiteBalance: Manual
- ICC-header
- IFD0
- Make: Canon
- Model: Canon PowerShot G9
- ModifyDate: 2009:06:05 01:03:48
- Orientation: Horizontal (normal)
- IFD1
- IPTC
- XMP-aux
- Firmware: 1.00
- FlashCompensation: 0
- Lens: 7.4-44.4 mm
- LensInfo: 7400/1000 44400/1000 0/0 0/0
- XMP-crs
- AlreadyApplied: True
- BlueHue: 0
- BlueSaturation: 0
- Brightness: +50
- CameraProfile: ACR 4.4
- ChromaticAberrationB: 0
- ChromaticAberrationR: 0
- Clarity: 0
- ColorNoiseReduction: 25
- Contrast: +25
- ConvertToGrayscale: False
- Defringe: 0
- Exposure: -0.25
- FillLight: 0
- GreenHue: 0
- GreenSaturation: 0
- HasCrop: False
- HasSettings: True
- HighlightRecovery: 32
- HueAdjustmentAqua: 0
- HueAdjustmentBlue: 0
- HueAdjustmentGreen: 0
- HueAdjustmentMagenta: 0
- HueAdjustmentOrange: 0
- HueAdjustmentPurple: 0
- HueAdjustmentRed: 0
- HueAdjustmentYellow: 0
- LuminanceAdjustmentAqua: 0
- LuminanceAdjustmentBlue: 0
- LuminanceAdjustmentGreen: 0
- LuminanceAdjustmentMagenta: 0
- LuminanceAdjustmentOrange: 0
- LuminanceAdjustmentPurple: 0
- LuminanceAdjustmentRed: 0
- LuminanceAdjustmentYellow: 0
- LuminanceSmoothing: 0
- ParametricDarks: 0
- ParametricHighlightSplit: 75
- ParametricHighlights: 0
- ParametricLights: 0
- ParametricMidtoneSplit: 50
- ParametricShadowSplit: 25
- ParametricShadows: 0
- PostCropVignetteAmount: 0
- RawFileName: IMG_2732.CR2
- RedHue: 0
- RedSaturation: 0
- Saturation: 0
- SaturationAdjustmentAqua: 0
- SaturationAdjustmentBlue: 0
- SaturationAdjustmentGreen: 0
- SaturationAdjustmentMagenta: 0
- SaturationAdjustmentOrange: 0
- SaturationAdjustmentPurple: 0
- SaturationAdjustmentRed: 0
- SaturationAdjustmentYellow: 0
- ShadowTint: 0
- Shadows: 0
- SharpenDetail: 25
- SharpenEdgeMasking: 0
- SharpenRadius: +1.0
- Sharpness: 0
- SplitToningBalance: 0
- SplitToningHighlightHue: 0
- SplitToningHighlightSaturation: 0
- SplitToningShadowHue: 0
- SplitToningShadowSaturation: 0
- Temperature: 6850
- Tint: -5
- ToneCurve: 0, 0, 32, 22, 64, 56, 128, 128, 192, 196, 255, 255
- ToneCurveName: Medium Contrast
- Version: 4.5
- Vibrance: 0
- VignetteAmount: 0
- WhiteBalance: As Shot
- XMP-dc
- XMP-exif
- ColorSpace: Unknown (-1)
- DateTimeDigitized: 2009:05:24 13:13:50+04:00
- DateTimeOriginal: 2009:05:24 13:13:50+04:00
- FlashFired: True
- FlashFunction: False
- FlashMode: On
- FlashRedEyeMode: False
- FlashReturn: No return detection
- XMP-tiff
- XMP-xmp
- CreateDate: 2009:06:05 01:03:48+04:00
- ModifyDate: 2009:06:05 01:03:48+04:00
- Rating: 0
- XMP-xmpMM
- DerivedFrom:
- PreservedFileName: IMG_2732.CR2