- Раздел: Эротика
- Дата съёмки: 31.05.2009 12:16
- Дата загрузки фото: 07.06.2009 00:18
- Оригинальная фотография: 1451 x 1935 (635 Кб)
- Технические характеристики:
- Фотоаппарат: Canon PowerShot G9
- Выдержка: 1/500
- Гиперфокальное расстояние: 4,55 m
- Диафрагма: 8,0
- Светочувствительность: 80
- Фокусное расстояние: 16,8 mm (35 mm equivalent: 65,0 mm)
- Полный EXIF
- Adobe
- ColorTransform: YCbCr
- Composite
- Aperture: 8,0
- CircleOfConfusion: 0,008 mm
- FOV: 30,0 deg
- FocalLength35efl: 16,8 mm (35 mm equivalent: 65,0 mm)
- HyperfocalDistance: 4,55 m
- ScaleFactor35efl: 3,9
- ShutterSpeed: 1/500
- ExifIFD
- ApertureValue: 8,0
- CreateDate: 2009:05:31 12:16:09
- CustomRendered: Normal
- DateTimeOriginal: 2009:05:31 12:16:09
- DigitalZoomRatio: 1
- ExposureCompensation: 0
- ExposureMode: Manual
- ExposureTime: 1/500
- FNumber: 8,0
- Flash: On, Did not fire
- FocalLength: 16,8 mm
- ISO: 80
- MaxApertureValue: 3,5
- MeteringMode: Spot
- SceneCaptureType: Standard
- SensingMethod: One-chip color area
- ShutterSpeedValue: 1/500
- WhiteBalance: Manual
- ICC-header
- ICC-meas
- ICC-view
- IFD0
- Make: Canon
- Model: Canon PowerShot G9
- ModifyDate: 2009:05:31 16:23:57
- IFD1
- XMP-aux
- Firmware: 1.00
- FlashCompensation: 0
- Lens: 7.4-44.4 mm
- LensInfo: 7400/1000 44400/1000 0/0 0/0
- XMP-crs
- AlreadyApplied: True
- BlueHue: -86
- BlueSaturation: -36
- Brightness: +50
- CameraProfile: ACR 3.4
- ChromaticAberrationB: 0
- ChromaticAberrationR: 0
- Clarity: 0
- ColorNoiseReduction: 25
- Contrast: +30
- ConvertToGrayscale: False
- CropAngle: 0.042058
- CropBottom: 0.68064
- CropHeight: 1451
- CropLeft: 0.249831
- CropRight: 0.73336
- CropTop: 0.19637
- CropUnit: 0
- CropWidth: 1935
- Defringe: 0
- Exposure: 0.00
- FillLight: 14
- GreenHue: -60
- GreenSaturation: -100
- HasCrop: True
- HasSettings: True
- HighlightRecovery: 100
- HueAdjustmentAqua: 0
- HueAdjustmentBlue: 0
- HueAdjustmentGreen: 0
- HueAdjustmentMagenta: 0
- HueAdjustmentOrange: +29
- HueAdjustmentPurple: 0
- HueAdjustmentRed: +81
- HueAdjustmentYellow: +5
- LuminanceAdjustmentAqua: -100
- LuminanceAdjustmentBlue: 0
- LuminanceAdjustmentGreen: +100
- LuminanceAdjustmentMagenta: 0
- LuminanceAdjustmentOrange: +100
- LuminanceAdjustmentPurple: 0
- LuminanceAdjustmentRed: +100
- LuminanceAdjustmentYellow: +95
- LuminanceSmoothing: 24
- ParametricDarks: 0
- ParametricHighlightSplit: 75
- ParametricHighlights: 0
- ParametricLights: +40
- ParametricMidtoneSplit: 50
- ParametricShadowSplit: 25
- ParametricShadows: 0
- PostCropVignetteAmount: 0
- RedHue: -43
- RedSaturation: -100
- Saturation: -100
- SaturationAdjustmentAqua: -76
- SaturationAdjustmentBlue: -31
- SaturationAdjustmentGreen: +45
- SaturationAdjustmentMagenta: -100
- SaturationAdjustmentOrange: +26
- SaturationAdjustmentPurple: -100
- SaturationAdjustmentRed: -100
- SaturationAdjustmentYellow: +36
- ShadowTint: +43
- Shadows: 15
- SharpenDetail: 25
- SharpenEdgeMasking: 0
- SharpenRadius: +1.0
- Sharpness: 15
- SplitToningBalance: 0
- SplitToningHighlightHue: 47
- SplitToningHighlightSaturation: 10
- SplitToningShadowHue: 231
- SplitToningShadowSaturation: 10
- Temperature: 2000
- Tint: +11
- ToneCurve: 0, 0, 32, 22, 64, 56, 128, 128, 192, 196, 255, 255
- ToneCurveName: Medium Contrast
- Version: 5.3
- Vibrance: -100
- VignetteAmount: +26
- VignetteMidpoint: 67
- WhiteBalance: Custom
- XMP-exif
- DateTimeDigitized: 2009:05:31 12:16:09+04:00
- DateTimeOriginal: 2009:05:31 12:16:09+04:00
- ExifImageHeight: 1935
- ExifImageWidth: 1451
- FlashFired: False
- FlashFunction: False
- FlashMode: On
- FlashRedEyeMode: False
- FlashReturn: No return detection
- XMP-tiff
- ImageHeight: 1935
- ImageWidth: 1451
- XMP-xmp
- CreateDate: 2009:05:31 12:16:09+04:00
- ModifyDate: 2009:05:31 16:23:57+04:00