- Раздел: Хобби
- Дата съёмки: 20.06.2009 18:33
- Дата загрузки фото: 20.06.2009 18:59
- Оригинальная фотография: 600 x 800 (164 Кб)
- Технические характеристики:
- Фотоаппарат: Olympus E-330
- Выдержка: 1/1000
- Диафрагма: 8,0
- Светочувствительность: 400
- Фокусное расстояние: 300,0 mm
- Экспокоррекция: -1
- Полный EXIF
- Composite
- Aperture: 8,0
- FocalLength35efl: 300,0 mm
- ShutterSpeed: 1/1000
- ExifIFD
- ApertureValue: 8,0
- CFAPattern: [Red,Green][Green,Blue]
- ColorSpace: sRGB
- Contrast: Normal
- CreateDate: 2009:06:20 18:12:38
- CustomRendered: Normal
- DateTimeOriginal: 2009:06:20 18:12:38
- DigitalZoomRatio: 1
- ExifImageHeight: 800
- ExifImageWidth: 600
- ExposureCompensation: -1
- ExposureMode: Manual
- ExposureProgram: Aperture-priority AE
- ExposureTime: 1/1000
- FNumber: 8,0
- Flash: On, Did not fire
- FocalLength: 300,0 mm
- GainControl: High gain up
- ISO: 400
- LightSource: Unknown
- MaxApertureValue: 4,0
- MeteringMode: Multi-segment
- Saturation: Normal
- SceneCaptureType: Standard
- Sharpness: Soft
- ShutterSpeedValue: 1/1000
- WhiteBalance: Auto
- ICC-header
- ICC-meas
- ICC-view
- IFD0
- ImageDescription: OLYMPUS DIGITAL CAMERA
- Make: OLYMPUS IMAGING CORP.
- Model: E-330
- ModifyDate: 2009:06:20 18:33:09
- Orientation: Horizontal (normal)
- IFD1
- IPTC
- Caption-Abstract: OLYMPUS DIGITAL CAMERA
- XMP-aux
- FlashCompensation: 0
- Lens: 70.0-300.0 mm f/4.0-5.6
- LensInfo: 70/1 300/1 40/10 56/10
- LensSerialNumber: 256071130
- SerialNumber: B89507135
- XMP-crs
- AlreadyApplied: True
- BlueHue: 0
- BlueSaturation: 0
- Brightness: +60
- CameraProfile: ACR 4.4
- ChromaticAberrationB: -50
- ChromaticAberrationR: 0
- Clarity: +40
- ColorNoiseReduction: 60
- Contrast: +25
- ConvertToGrayscale: False
- Defringe: 0
- Exposure: +0.20
- FillLight: 40
- GreenHue: 0
- GreenSaturation: 0
- HasCrop: False
- HasSettings: True
- HighlightRecovery: 0
- HueAdjustmentAqua: 0
- HueAdjustmentBlue: 0
- HueAdjustmentGreen: 0
- HueAdjustmentMagenta: 0
- HueAdjustmentOrange: 0
- HueAdjustmentPurple: 0
- HueAdjustmentRed: 0
- HueAdjustmentYellow: 0
- LuminanceAdjustmentAqua: 0
- LuminanceAdjustmentBlue: 0
- LuminanceAdjustmentGreen: 0
- LuminanceAdjustmentMagenta: 0
- LuminanceAdjustmentOrange: 0
- LuminanceAdjustmentPurple: 0
- LuminanceAdjustmentRed: 0
- LuminanceAdjustmentYellow: 0
- LuminanceSmoothing: 57
- ParametricDarks: 0
- ParametricHighlightSplit: 75
- ParametricHighlights: +24
- ParametricLights: +11
- ParametricMidtoneSplit: 50
- ParametricShadowSplit: 25
- ParametricShadows: +24
- PostCropVignetteAmount: 0
- RawFileName: 00205780.ORF
- RedHue: 0
- RedSaturation: 0
- Saturation: 0
- SaturationAdjustmentAqua: 0
- SaturationAdjustmentBlue: 0
- SaturationAdjustmentGreen: 0
- SaturationAdjustmentMagenta: 0
- SaturationAdjustmentOrange: 0
- SaturationAdjustmentPurple: 0
- SaturationAdjustmentRed: 0
- SaturationAdjustmentYellow: 0
- ShadowTint: 0
- Shadows: 5
- SharpenDetail: 25
- SharpenEdgeMasking: 0
- SharpenRadius: +1.0
- Sharpness: 25
- SplitToningBalance: 0
- SplitToningHighlightHue: 0
- SplitToningHighlightSaturation: 0
- SplitToningShadowHue: 0
- SplitToningShadowSaturation: 0
- Temperature: 5350
- Tint: -4
- ToneCurve: 0, 0, 32, 22, 64, 56, 128, 128, 192, 196, 255, 255
- ToneCurveName: Medium Contrast
- Version: 4.6
- Vibrance: 0
- VignetteAmount: 0
- WhiteBalance: As Shot
- XMP-dc
- Description: OLYMPUS DIGITAL CAMERA
- Format: image/jpeg
- XMP-exif
- DateTimeDigitized: 2009:06:20 18:12:38+04:00
- DateTimeOriginal: 2009:06:20 18:12:38+04:00
- FlashFired: False
- FlashFunction: False
- FlashMode: On
- FlashRedEyeMode: False
- FlashReturn: No return detection
- XMP-tiff
- XMP-xmp
- CreateDate: 2009:06:20 18:33:09+04:00
- ModifyDate: 2009:06:20 18:33:09+04:00
- Rating: 0
- XMP-xmpMM
- DerivedFrom:
- Просмотров: 205
- Рейтинг: голосов еще нет
- Отзывов: 0