- Раздел: Путешествия
- Дата съёмки: 20.06.2009 15:44
- Дата загрузки фото: 20.06.2009 21:02
- Оригинальная фотография: 800 x 533 (158 Кб)
- Технические характеристики:
- Фотоаппарат: Canon EOS 5D
- Выдержка: 1/200
- Гиперфокальное расстояние: 18,73 m
- Диафрагма: 5,6
- Светочувствительность: 250
- Фокусное расстояние: 24,0 mm (35 mm equivalent: 131,3 mm)
- Экспокоррекция: -1
- Полный EXIF
- Adobe
- ColorTransform: YCbCr
- Composite
- Aperture: 5,6
- CircleOfConfusion: 0,005 mm
- FOV: 15,0 deg
- FocalLength35efl: 24,0 mm (35 mm equivalent: 131,3 mm)
- HyperfocalDistance: 18,73 m
- ScaleFactor35efl: 5,5
- ShutterSpeed: 1/200
- ExifIFD
- ApertureValue: 5,6
- ColorSpace: sRGB
- CreateDate: 2009:05:25 17:47:07
- CustomRendered: Normal
- DateTimeOriginal: 2009:05:25 17:47:07
- ExifImageHeight: 533
- ExifImageWidth: 800
- ExposureCompensation: -1
- ExposureMode: Auto
- ExposureProgram: Aperture-priority AE
- ExposureTime: 1/200
- FNumber: 5,6
- Flash: Off
- FocalLength: 24,0 mm
- ISO: 250
- MaxApertureValue: 4,0
- MeteringMode: Multi-segment
- SceneCaptureType: Standard
- ShutterSpeedValue: 1/200
- WhiteBalance: Auto
- ICC-header
- ICC-meas
- ICC-view
- IFD0
- Make: Canon
- Model: Canon EOS 5D
- ModifyDate: 2009:06:20 15:44:07
- Orientation: Horizontal (normal)
- IFD1
- IPTC
- XMP-aux
- Firmware: 1.1.0
- FlashCompensation: 0
- ImageNumber: 1
- Lens: EF24-105mm f/4L IS USM
- LensInfo: 24/1 105/1 0/0 0/0
- SerialNumber: 1020707638
- XMP-crs
- AlreadyApplied: True
- BlueHue: 0
- BlueSaturation: 0
- Brightness: +116
- CameraProfile: ACR 3.3
- ChromaticAberrationB: 0
- ChromaticAberrationR: 0
- Clarity: 93
- ColorNoiseReduction: 44
- Contrast: +19
- ConvertToGrayscale: False
- Defringe: 0
- Exposure: -0.95
- FillLight: 26
- GreenHue: 0
- GreenSaturation: 0
- HasCrop: False
- HasSettings: True
- HighlightRecovery: 0
- HueAdjustmentAqua: 0
- HueAdjustmentBlue: 0
- HueAdjustmentGreen: 0
- HueAdjustmentMagenta: 0
- HueAdjustmentOrange: 0
- HueAdjustmentPurple: 0
- HueAdjustmentRed: 0
- HueAdjustmentYellow: 0
- LuminanceAdjustmentAqua: 0
- LuminanceAdjustmentBlue: 0
- LuminanceAdjustmentGreen: 0
- LuminanceAdjustmentMagenta: 0
- LuminanceAdjustmentOrange: 0
- LuminanceAdjustmentPurple: 0
- LuminanceAdjustmentRed: 0
- LuminanceAdjustmentYellow: 0
- LuminanceSmoothing: 30
- ParametricDarks: 0
- ParametricHighlightSplit: 75
- ParametricHighlights: 0
- ParametricLights: 0
- ParametricMidtoneSplit: 50
- ParametricShadowSplit: 25
- ParametricShadows: 0
- RawFileName: 2009.05.25.17.47.07.CR2
- RedHue: 0
- RedSaturation: 0
- Saturation: +4
- SaturationAdjustmentAqua: 0
- SaturationAdjustmentBlue: 0
- SaturationAdjustmentGreen: 0
- SaturationAdjustmentMagenta: 0
- SaturationAdjustmentOrange: 0
- SaturationAdjustmentPurple: 0
- SaturationAdjustmentRed: 0
- SaturationAdjustmentYellow: 0
- ShadowTint: 0
- Shadows: 2
- SharpenDetail: 61
- SharpenEdgeMasking: 0
- SharpenRadius: +0.7
- Sharpness: 94
- SplitToningBalance: 0
- SplitToningHighlightHue: 0
- SplitToningHighlightSaturation: 0
- SplitToningShadowHue: 0
- SplitToningShadowSaturation: 0
- Temperature: 4950
- Tint: -1
- ToneCurve: 0, 0, 32, 22, 64, 56, 128, 128, 192, 196, 255, 255
- ToneCurveName: Medium Contrast
- Version: 4.3
- Vibrance: +19
- VignetteAmount: +58
- VignetteMidpoint: 50
- WhiteBalance: As Shot
- XMP-dc
- XMP-exif
- DateTimeDigitized: 2009:05:25 17:47:07+04:00
- DateTimeOriginal: 2009:05:25 17:47:07+04:00
- FlashFired: False
- FlashFunction: False
- FlashMode: Off
- FlashRedEyeMode: False
- FlashReturn: No return detection
- XMP-tiff
- ImageHeight: 2912
- ImageWidth: 4368
- XMP-xmp
- CreateDate: 2009:06:20 15:44:07+04:00
- ModifyDate: 2009:06:20 15:44:07+04:00
- XMP-xmpMM
- DerivedFrom:
- Просмотров: 127
- Рейтинг: голосов еще нет
- Отзывов: 0