Уважаемые друзья и участники проекта iXBT.photo! К сожалению, 1 марта 2026 года проект iXBT.photo прекратит свою работу и будет закрыт. Мы высоко ценим ваше участие и тот вклад, который вы внесли в развитие нашего сообщества. Пожалуйста, не забудьте сохранить ваши фотографии до этой даты.
С уважением, команда iXBT.com
| 2009.05.29.19.32.21.jpg |
2009.05.29.19.32.21.jpg
- Раздел: Путешествия
- Дата съёмки: 20.06.2009 16:00
- Дата загрузки фото: 20.06.2009 23:49
- Оригинальная фотография: 800 x 1200 (218 Кб)
- Технические характеристики:
- Фотоаппарат: Canon EOS 400D DIGITAL
- Выдержка: 1/100
- Гиперфокальное расстояние: 1106,30 m
- Диафрагма: 8,0
- Светочувствительность: 200
- Фокусное расстояние: 225,0 mm (35 mm equivalent: 1181,9 mm)
- Полный EXIF
- Adobe
- ColorTransform: YCbCr
- Composite
- Aperture: 8,0
- CircleOfConfusion: 0,006 mm
- FOV: 1,0 deg
- FocalLength35efl: 225,0 mm (35 mm equivalent: 1181,9 mm)
- HyperfocalDistance: 1106,30 m
- ScaleFactor35efl: 5,3
- ShutterSpeed: 1/100
- ExifIFD
- ApertureValue: 8,0
- ColorSpace: sRGB
- CreateDate: 2009:05:29 19:32:21
- CustomRendered: Normal
- DateTimeOriginal: 2009:05:29 19:32:21
- ExifImageHeight: 1200
- ExifImageWidth: 800
- ExposureCompensation: 0
- ExposureMode: Auto
- ExposureProgram: Aperture-priority AE
- ExposureTime: 1/100
- FNumber: 8,0
- Flash: Off
- FocalLength: 225,0 mm
- ISO: 200
- MaxApertureValue: 4,5
- MeteringMode: Multi-segment
- SceneCaptureType: Standard
- ShutterSpeedValue: 1/100
- WhiteBalance: Manual
- ICC-header
- ICC-meas
- ICC-view
- IFD0
- Artist: unknown
- Make: Canon
- Model: Canon EOS 400D DIGITAL
- ModifyDate: 2009:06:20 16:00:31
- Orientation: Horizontal (normal)
- IFD1
- IPTC
- By-line: unknown
- XMP-aux
- Firmware: 1.0.4
- FlashCompensation: 0
- ImageNumber: 208
- Lens: EF70-300mm f/4-5.6 IS USM
- LensInfo: 70/1 300/1 0/0 0/0
- OwnerName: unknown
- SerialNumber: 430123035
- XMP-crs
- AlreadyApplied: True
- BlueHue: 0
- BlueSaturation: 0
- Brightness: +108
- CameraProfile: ACR 3.6
- ChromaticAberrationB: 0
- ChromaticAberrationR: 0
- Clarity: 93
- ColorNoiseReduction: 44
- Contrast: +19
- ConvertToGrayscale: False
- Defringe: 0
- Exposure: -2.55
- FillLight: 15
- GreenHue: 0
- GreenSaturation: 0
- HasCrop: False
- HasSettings: True
- HighlightRecovery: 0
- HueAdjustmentAqua: 0
- HueAdjustmentBlue: 0
- HueAdjustmentGreen: 0
- HueAdjustmentMagenta: 0
- HueAdjustmentOrange: 0
- HueAdjustmentPurple: 0
- HueAdjustmentRed: 0
- HueAdjustmentYellow: 0
- LuminanceAdjustmentAqua: 0
- LuminanceAdjustmentBlue: 0
- LuminanceAdjustmentGreen: 0
- LuminanceAdjustmentMagenta: 0
- LuminanceAdjustmentOrange: 0
- LuminanceAdjustmentPurple: 0
- LuminanceAdjustmentRed: 0
- LuminanceAdjustmentYellow: 0
- LuminanceSmoothing: 30
- ParametricDarks: 0
- ParametricHighlightSplit: 75
- ParametricHighlights: 0
- ParametricLights: 0
- ParametricMidtoneSplit: 50
- ParametricShadowSplit: 25
- ParametricShadows: 0
- RawFileName: 2009.05.29.19.32.21.CR2
- RedHue: 0
- RedSaturation: 0
- Saturation: +4
- SaturationAdjustmentAqua: 0
- SaturationAdjustmentBlue: 0
- SaturationAdjustmentGreen: 0
- SaturationAdjustmentMagenta: 0
- SaturationAdjustmentOrange: 0
- SaturationAdjustmentPurple: 0
- SaturationAdjustmentRed: 0
- SaturationAdjustmentYellow: 0
- ShadowTint: 0
- Shadows: 2
- SharpenDetail: 61
- SharpenEdgeMasking: 0
- SharpenRadius: +0.7
- Sharpness: 94
- SplitToningBalance: 0
- SplitToningHighlightHue: 0
- SplitToningHighlightSaturation: 0
- SplitToningShadowHue: 0
- SplitToningShadowSaturation: 0
- Temperature: 5150
- Tint: +8
- ToneCurve: 0, 0, 32, 22, 64, 56, 128, 128, 192, 196, 255, 255
- ToneCurveName: Medium Contrast
- Version: 4.3
- Vibrance: +19
- VignetteAmount: +20
- VignetteMidpoint: 50
- WhiteBalance: As Shot
- XMP-dc
- Creator: unknown
- Format: image/jpeg
- XMP-exif
- DateTimeDigitized: 2009:05:29 19:32:21+04:00
- DateTimeOriginal: 2009:05:29 19:32:21+04:00
- FlashFired: False
- FlashFunction: False
- FlashMode: Off
- FlashRedEyeMode: False
- FlashReturn: No return detection
- XMP-tiff
- ImageHeight: 3888
- ImageWidth: 2592
- XMP-xmp
- CreateDate: 2009:06:20 16:00:31+04:00
- ModifyDate: 2009:06:20 16:00:31+04:00
- XMP-xmpMM
- DerivedFrom:
- Просмотров: 113
- Рейтинг: голосов еще нет
- Отзывов: 0
Получить код для блога
| Вставка фотографии в текущем разрешении |
Вставка миниатюры |
HTML (для вставки в блог):
BBCode (для вставки в форум):
Ссылка на фото:
Ссылка на миниатюру:
- Послать ссылку другу
| Комментарии к фотографии |