Уважаемые друзья и участники проекта iXBT.photo! К сожалению, 1 марта 2026 года проект iXBT.photo прекратит свою работу и будет закрыт. Мы высоко ценим ваше участие и тот вклад, который вы внесли в развитие нашего сообщества. Пожалуйста, не забудьте сохранить ваши фотографии до этой даты.
С уважением, команда iXBT.com
| 2009.05.31.14.46.02.jpg |
2009.05.31.14.46.02.jpg
- Раздел: Путешествия
- Дата съёмки: 20.06.2009 16:14
- Дата загрузки фото: 21.06.2009 02:45
- Оригинальная фотография: 800 x 536 (124 Кб)
- Технические характеристики:
- Фотоаппарат: Nikon D80
- Выдержка: 1/200
- Гиперфокальное расстояние: 26,23 m
- Диафрагма: 8,0
- Светочувствительность: 100
- Фокусное расстояние: 65,0 mm (35 mm equivalent: 97,0 mm)
- Экспокоррекция: -4/3
- Полный EXIF
- Adobe
- ColorTransform: YCbCr
- Composite
- Aperture: 8,0
- CircleOfConfusion: 0,020 mm
- FOV: 21,0 deg
- FocalLength35efl: 65,0 mm (35 mm equivalent: 97,0 mm)
- HyperfocalDistance: 26,23 m
- ScaleFactor35efl: 1,5
- ShutterSpeed: 1/200
- ExifIFD
- ApertureValue: 8,0
- CFAPattern: [Green,Blue][Red,Green]
- ColorSpace: sRGB
- Contrast: Low
- CreateDate: 2009:05:31 14:46:02
- CustomRendered: Normal
- DateTimeOriginal: 2009:05:31 14:46:02
- DigitalZoomRatio: 1
- ExifImageHeight: 536
- ExifImageWidth: 800
- ExposureCompensation: -4/3
- ExposureMode: Auto
- ExposureProgram: Aperture-priority AE
- ExposureTime: 1/200
- FNumber: 8,0
- Flash: No Flash
- FocalLength: 65,0 mm
- FocalLengthIn35mmFormat: 97 mm
- GainControl: None
- ISO: 100
- LightSource: Unknown
- MaxApertureValue: 4,9
- MeteringMode: Multi-segment
- Saturation: Normal
- SceneCaptureType: Standard
- SceneType: Directly photographed
- SensingMethod: One-chip color area
- Sharpness: Hard
- ShutterSpeedValue: 1/200
- SubjectDistanceRange: Unknown
- WhiteBalance: Auto
- ICC-header
- ICC-meas
- ICC-view
- IFD0
- Make: NIKON CORPORATION
- Model: NIKON D80
- ModifyDate: 2009:06:20 16:14:43
- Orientation: Horizontal (normal)
- IFD1
- IPTC
- XMP-aux
- ImageNumber: 14944
- Lens: 18.0-200.0 mm f/3.5-5.6
- LensInfo: 180/10 2000/10 35/10 56/10
- XMP-crs
- AlreadyApplied: True
- BlueHue: 0
- BlueSaturation: 0
- Brightness: +111
- CameraProfile: ACR 3.6
- ChromaticAberrationB: 0
- ChromaticAberrationR: 0
- Clarity: 93
- ColorNoiseReduction: 44
- Contrast: +19
- ConvertToGrayscale: False
- Defringe: 0
- Exposure: +0.35
- FillLight: 21
- GreenHue: 0
- GreenSaturation: 0
- HasCrop: False
- HasSettings: True
- HighlightRecovery: 0
- HueAdjustmentAqua: 0
- HueAdjustmentBlue: 0
- HueAdjustmentGreen: 0
- HueAdjustmentMagenta: 0
- HueAdjustmentOrange: 0
- HueAdjustmentPurple: 0
- HueAdjustmentRed: 0
- HueAdjustmentYellow: 0
- LuminanceAdjustmentAqua: 0
- LuminanceAdjustmentBlue: 0
- LuminanceAdjustmentGreen: 0
- LuminanceAdjustmentMagenta: 0
- LuminanceAdjustmentOrange: 0
- LuminanceAdjustmentPurple: 0
- LuminanceAdjustmentRed: 0
- LuminanceAdjustmentYellow: 0
- LuminanceSmoothing: 30
- ParametricDarks: 0
- ParametricHighlightSplit: 75
- ParametricHighlights: 0
- ParametricLights: 0
- ParametricMidtoneSplit: 50
- ParametricShadowSplit: 25
- ParametricShadows: 0
- RawFileName: DSC_9279.NEF
- RedHue: 0
- RedSaturation: 0
- Saturation: +4
- SaturationAdjustmentAqua: 0
- SaturationAdjustmentBlue: 0
- SaturationAdjustmentGreen: 0
- SaturationAdjustmentMagenta: 0
- SaturationAdjustmentOrange: 0
- SaturationAdjustmentPurple: 0
- SaturationAdjustmentRed: 0
- SaturationAdjustmentYellow: 0
- ShadowTint: 0
- Shadows: 9
- SharpenDetail: 61
- SharpenEdgeMasking: 0
- SharpenRadius: +0.7
- Sharpness: 94
- SplitToningBalance: 0
- SplitToningHighlightHue: 0
- SplitToningHighlightSaturation: 0
- SplitToningShadowHue: 0
- SplitToningShadowSaturation: 0
- Temperature: 4900
- Tint: -4
- ToneCurve: 0, 0, 32, 22, 64, 56, 128, 128, 192, 196, 255, 255
- ToneCurveName: Medium Contrast
- Version: 4.3
- Vibrance: +19
- VignetteAmount: +20
- VignetteMidpoint: 50
- WhiteBalance: As Shot
- XMP-dc
- XMP-exif
- DateTimeDigitized: 2009:05:31 14:46:02.50+04:00
- DateTimeOriginal: 2009:05:31 14:46:02.50+04:00
- FlashFired: False
- FlashFunction: False
- FlashMode: Unknown
- FlashRedEyeMode: False
- FlashReturn: No return detection
- XMP-tiff
- ImageHeight: 2592
- ImageWidth: 3872
- XMP-xmp
- CreateDate: 2009:06:20 16:14:43+04:00
- ModifyDate: 2009:06:20 16:14:43+04:00
- XMP-xmpMM
- DerivedFrom:
- Просмотров: 122
- Рейтинг: голосов еще нет
- Отзывов: 0
Получить код для блога
| Вставка фотографии в текущем разрешении |
Вставка миниатюры |
HTML (для вставки в блог):
BBCode (для вставки в форум):
Ссылка на фото:
Ссылка на миниатюру:
- Послать ссылку другу
| Комментарии к фотографии |