- Раздел: Другое, разное
- Дата съёмки: 22.06.2009 15:18
- Дата загрузки фото: 22.06.2009 16:18
- Оригинальная фотография: 433 x 650 (102 Кб)
- Технические характеристики:
- Фотоаппарат: Canon EOS 450D
- Выдержка: 1/400
- Гиперфокальное расстояние: 315,84 m
- Диафрагма: 2,8
- Светочувствительность: 200
- Фокусное расстояние: 50,0 mm (35 mm equivalent: 531,4 mm)
- Экспокоррекция: -1/3
- Полный EXIF
- Adobe
- ColorTransform: YCbCr
- Composite
- Aperture: 2,8
- CircleOfConfusion: 0,003 mm
- FOV: 3,0 deg
- FocalLength35efl: 50,0 mm (35 mm equivalent: 531,4 mm)
- HyperfocalDistance: 315,84 m
- ScaleFactor35efl: 10,6
- ShutterSpeed: 1/400
- ExifIFD
- ApertureValue: 2,8
- ColorSpace: sRGB
- CreateDate: 2009:06:20 19:06:08
- CustomRendered: Normal
- DateTimeOriginal: 2009:06:20 19:06:08
- ExifImageHeight: 650
- ExifImageWidth: 433
- ExposureCompensation: -1/3
- ExposureMode: Auto
- ExposureProgram: Aperture-priority AE
- ExposureTime: 1/400
- FNumber: 2,8
- Flash: Off
- FocalLength: 50,0 mm
- ISO: 200
- MaxApertureValue: 1,8
- MeteringMode: Multi-segment
- SceneCaptureType: Standard
- ShutterSpeedValue: 1/400
- WhiteBalance: Auto
- ICC-header
- ICC-meas
- ICC-view
- IFD0
- Make: Canon
- Model: Canon EOS 450D
- ModifyDate: 2009:06:22 15:18:12
- Orientation: Horizontal (normal)
- IFD1
- IPTC
- XMP-aux
- Firmware: 1.0.9
- FlashCompensation: 0
- ImageNumber: 0
- Lens: EF50mm f/1.8 II
- LensInfo: 50/1 50/1 0/0 0/0
- SerialNumber: 980397873
- XMP-crs
- AlreadyApplied: True
- BlueHue: +8
- BlueSaturation: 0
- Brightness: +34
- CameraProfile: ACR 2.4
- ChromaticAberrationB: -67
- ChromaticAberrationR: +20
- Clarity: +72
- ColorNoiseReduction: 25
- Contrast: +18
- ConvertToGrayscale: True
- CropAngle: 0
- CropBottom: 1
- CropHeight: 2613
- CropLeft: 0
- CropRight: 0.917582
- CropTop: 0.082418
- CropUnit: 0
- CropWidth: 3920
- Defringe: 0
- Exposure: +1.58
- FillLight: 27
- GrayMixerAqua: 0
- GrayMixerBlue: +27
- GrayMixerGreen: +1
- GrayMixerMagenta: +3
- GrayMixerOrange: +18
- GrayMixerPurple: -6
- GrayMixerRed: +11
- GrayMixerYellow: +9
- GreenHue: -13
- GreenSaturation: 0
- HasCrop: True
- HasSettings: True
- HighlightRecovery: 13
- LuminanceSmoothing: 34
- ParametricDarks: +11
- ParametricHighlightSplit: 75
- ParametricHighlights: +22
- ParametricLights: -29
- ParametricMidtoneSplit: 50
- ParametricShadowSplit: 25
- ParametricShadows: -39
- PostCropVignetteAmount: 0
- RedHue: -18
- RedSaturation: 0
- ShadowTint: +11
- Shadows: 13
- SharpenDetail: 32
- SharpenEdgeMasking: 27
- SharpenRadius: +0.9
- Sharpness: 80
- SplitToningBalance: 0
- SplitToningHighlightHue: 0
- SplitToningHighlightSaturation: 0
- SplitToningShadowHue: 0
- SplitToningShadowSaturation: 0
- Temperature: 6242
- Tint: +2
- ToneCurve: 0, 0, 32, 22, 64, 56, 128, 128, 192, 196, 255, 255
- ToneCurveName: Medium Contrast
- Version: 5.3
- VignetteAmount: -29
- VignetteMidpoint: 50
- WhiteBalance: Custom
- XMP-dc
- XMP-exif
- DateTimeDigitized: 2009:06:20 19:06:08.03+04:00
- DateTimeOriginal: 2009:06:20 19:06:08.03+04:00
- FlashFired: False
- FlashFunction: False
- FlashMode: Off
- FlashRedEyeMode: False
- FlashReturn: No return detection
- XMP-tiff
- ImageHeight: 3920
- ImageWidth: 2613
- XMP-xmp
- CreateDate: 2009:06:22 15:18:12+04:00
- ModifyDate: 2009:06:22 15:18:12+04:00
- XMP-xmpMM