- Раздел: Другое, разное
- Дата съёмки: 22.06.2009 16:13
- Дата загрузки фото: 22.06.2009 17:12
- Оригинальная фотография: 650 x 433 (112 Кб)
- Технические характеристики:
- Фотоаппарат: Canon EOS 450D
- Выдержка: 1/500
- Гиперфокальное расстояние: 32,72 m
- Диафрагма: 3,5
- Светочувствительность: 200
- Фокусное расстояние: 18,0 mm (35 mm equivalent: 191,1 mm)
- Экспокоррекция: -1/3
- Полный EXIF
- Adobe
- ColorTransform: YCbCr
- Composite
- Aperture: 3,5
- CircleOfConfusion: 0,003 mm
- FOV: 10,0 deg
- FocalLength35efl: 18,0 mm (35 mm equivalent: 191,1 mm)
- HyperfocalDistance: 32,72 m
- ScaleFactor35efl: 10,6
- ShutterSpeed: 1/500
- ExifIFD
- ApertureValue: 3,5
- ColorSpace: sRGB
- CreateDate: 2009:06:20 19:19:01
- CustomRendered: Normal
- DateTimeOriginal: 2009:06:20 19:19:01
- ExifImageHeight: 433
- ExifImageWidth: 650
- ExposureCompensation: -1/3
- ExposureMode: Auto
- ExposureProgram: Aperture-priority AE
- ExposureTime: 1/500
- FNumber: 3,5
- Flash: Off
- FocalLength: 18,0 mm
- ISO: 200
- MaxApertureValue: 3,5
- MeteringMode: Multi-segment
- SceneCaptureType: Standard
- ShutterSpeedValue: 1/500
- WhiteBalance: Auto
- ICC-header
- ICC-meas
- ICC-view
- IFD0
- Make: Canon
- Model: Canon EOS 450D
- ModifyDate: 2009:06:22 16:13:27
- Orientation: Horizontal (normal)
- IFD1
- IPTC
- XMP-aux
- Firmware: 1.0.9
- FlashCompensation: 0
- ImageNumber: 0
- Lens: EF-S18-55mm f/3.5-5.6 IS
- LensInfo: 18/1 55/1 0/0 0/0
- SerialNumber: 980397873
- XMP-crs
- AlreadyApplied: True
- BlueHue: +8
- BlueSaturation: 0
- Brightness: +34
- CameraProfile: ACR 2.4
- ChromaticAberrationB: -67
- ChromaticAberrationR: +20
- Clarity: +72
- ColorNoiseReduction: 25
- Contrast: +22
- ConvertToGrayscale: True
- CropAngle: 0
- CropBottom: 1
- CropHeight: 2831
- CropLeft: 0.006088
- CropRight: 1
- CropTop: 0.006088
- CropUnit: 0
- CropWidth: 4246
- Defringe: 0
- Exposure: +1.37
- FillLight: 27
- GrayMixerAqua: 0
- GrayMixerBlue: +27
- GrayMixerGreen: +1
- GrayMixerMagenta: +3
- GrayMixerOrange: +1
- GrayMixerPurple: -6
- GrayMixerRed: +11
- GrayMixerYellow: -1
- GreenHue: -13
- GreenSaturation: 0
- HasCrop: True
- HasSettings: True
- HighlightRecovery: 13
- LuminanceSmoothing: 34
- PaintBasedCorrectionsCorrectionActive: true
- PaintBasedCorrectionsCorrectionAmount: 1.000000
- PaintBasedCorrectionsCorrectionMasksCenterWeight: 0.000000
- PaintBasedCorrectionsCorrectionMasksFlow: 1.000000
- PaintBasedCorrectionsCorrectionMasksMaskValue: 0.000000
- PaintBasedCorrectionsCorrectionMasksRadius: 0.033904
- PaintBasedCorrectionsCorrectionMasksWhat: Mask/Paint
- PaintBasedCorrectionsLocalBrightness: 0.000000
- PaintBasedCorrectionsLocalClarity: 0.000000
- PaintBasedCorrectionsLocalContrast: 0.000000
- PaintBasedCorrectionsLocalExposure: -0.203000
- PaintBasedCorrectionsLocalSaturation: 0.000000
- PaintBasedCorrectionsLocalSharpness: 0.000000
- PaintBasedCorrectionsLocalToningHue: 230.000000
- PaintBasedCorrectionsLocalToningSaturation: 0.000000
- PaintBasedCorrectionsWhat: Correction
- ParametricDarks: +11
- ParametricHighlightSplit: 75
- ParametricHighlights: +22
- ParametricLights: -29
- ParametricMidtoneSplit: 50
- ParametricShadowSplit: 25
- ParametricShadows: -39
- PostCropVignetteAmount: 0
- RedHue: -18
- RedSaturation: 0
- ShadowTint: +11
- Shadows: 13
- SharpenDetail: 32
- SharpenEdgeMasking: 33
- SharpenRadius: +0.9
- Sharpness: 99
- SplitToningBalance: 0
- SplitToningHighlightHue: 0
- SplitToningHighlightSaturation: 0
- SplitToningShadowHue: 0
- SplitToningShadowSaturation: 0
- Temperature: 4700
- Tint: +2
- ToneCurve: 0, 0, 32, 22, 64, 56, 128, 128, 192, 196, 255, 255
- ToneCurveName: Medium Contrast
- Version: 5.3
- VignetteAmount: -29
- VignetteMidpoint: 50
- WhiteBalance: As Shot
- XMP-dc
- XMP-exif
- DateTimeDigitized: 2009:06:20 19:19:01.03+04:00
- DateTimeOriginal: 2009:06:20 19:19:01.03+04:00
- FlashFired: False
- FlashFunction: False
- FlashMode: Off
- FlashRedEyeMode: False
- FlashReturn: No return detection
- XMP-tiff
- ImageHeight: 2831
- ImageWidth: 4246
- XMP-xmp
- CreateDate: 2009:06:22 16:13:27+04:00
- ModifyDate: 2009:06:22 16:13:27+04:00
- XMP-xmpMM