- Раздел: Семья, личное
- Дата съёмки: 31.05.2009 12:36
- Дата загрузки фото: 27.06.2009 10:33
- Оригинальная фотография: 1000 x 667 (518 Кб)
- Технические характеристики:
- Фотоаппарат: Canon EOS 40D
- Выдержка: 1/100
- Гиперфокальное расстояние: 216,02 m
- Диафрагма: 5,6
- Светочувствительность: 100
- Фокусное расстояние: 76,0 mm (35 mm equivalent: 478,3 mm)
- Полный EXIF
- Adobe
- ColorTransform: YCbCr
- Composite
- Aperture: 5,6
- CircleOfConfusion: 0,005 mm
- FOV: 4,0 deg
- FocalLength35efl: 76,0 mm (35 mm equivalent: 478,3 mm)
- HyperfocalDistance: 216,02 m
- ScaleFactor35efl: 6,3
- ShutterSpeed: 1/100
- ExifIFD
- ApertureValue: 5,6
- CreateDate: 2009:05:31 12:36:46
- CustomRendered: Normal
- DateTimeOriginal: 2009:05:31 12:36:46
- ExposureCompensation: 0
- ExposureMode: Auto
- ExposureProgram: Aperture-priority AE
- ExposureTime: 1/100
- FNumber: 5,6
- Flash: Off
- FocalLength: 76,0 mm
- ISO: 100
- MaxApertureValue: 5,7
- MeteringMode: Multi-segment
- SceneCaptureType: Standard
- ShutterSpeedValue: 1/100
- WhiteBalance: Auto
- ICC-header
- ICC-meas
- ICC-view
- IFD0
- Make: Canon
- Model: Canon EOS 40D
- ModifyDate: 2009:06:27 09:33:25
- IFD1
- XMP-aux
- Firmware: 1.1.1
- FlashCompensation: 0
- ImageNumber: 0
- Lens: EF-S17-85mm f/4-5.6 IS USM
- LensInfo: 17/1 85/1 0/0 0/0
- SerialNumber: 1030526517
- XMP-crs
- AlreadyApplied: True
- BlueHue: 0
- BlueSaturation: 0
- Brightness: +47
- ChromaticAberrationB: 0
- ChromaticAberrationR: 0
- Clarity: 0
- ColorNoiseReduction: 25
- Contrast: +37
- ConvertToGrayscale: False
- CropAngle: 1.64534
- CropBottom: 1
- CropHeight: 667
- CropLeft: 0.018359
- CropRight: 0.958693
- CropTop: 0
- CropUnit: 0
- CropWidth: 1000
- Defringe: 0
- Exposure: 0.00
- FillLight: 0
- GreenHue: 0
- GreenSaturation: 0
- HasCrop: True
- HasSettings: True
- HighlightRecovery: 10
- HueAdjustmentAqua: 0
- HueAdjustmentBlue: 0
- HueAdjustmentGreen: 0
- HueAdjustmentMagenta: 0
- HueAdjustmentOrange: 0
- HueAdjustmentPurple: 0
- HueAdjustmentRed: 0
- HueAdjustmentYellow: 0
- LuminanceAdjustmentAqua: 0
- LuminanceAdjustmentBlue: 0
- LuminanceAdjustmentGreen: 0
- LuminanceAdjustmentMagenta: 0
- LuminanceAdjustmentOrange: 0
- LuminanceAdjustmentPurple: 0
- LuminanceAdjustmentRed: 0
- LuminanceAdjustmentYellow: 0
- LuminanceSmoothing: 0
- ParametricDarks: 0
- ParametricHighlightSplit: 75
- ParametricHighlights: 0
- ParametricLights: +26
- ParametricMidtoneSplit: 50
- ParametricShadowSplit: 25
- ParametricShadows: -16
- PostCropVignetteAmount: 0
- RedHue: 0
- RedSaturation: 0
- Saturation: 0
- SaturationAdjustmentAqua: 0
- SaturationAdjustmentBlue: 0
- SaturationAdjustmentGreen: 0
- SaturationAdjustmentMagenta: 0
- SaturationAdjustmentOrange: 0
- SaturationAdjustmentPurple: 0
- SaturationAdjustmentRed: 0
- SaturationAdjustmentYellow: 0
- ShadowTint: 0
- Shadows: 3
- SharpenDetail: 25
- SharpenEdgeMasking: 0
- SharpenRadius: +1.0
- Sharpness: 25
- SplitToningBalance: 0
- SplitToningHighlightHue: 0
- SplitToningHighlightSaturation: 0
- SplitToningShadowHue: 0
- SplitToningShadowSaturation: 0
- Temperature: 5700
- Tint: +4
- ToneCurve: 0, 0, 32, 22, 64, 56, 128, 128, 192, 196, 255, 255
- ToneCurveName: Medium Contrast
- Version: 5.4
- Vibrance: 0
- VignetteAmount: 0
- WhiteBalance: As Shot
- XMP-exif
- DateTimeDigitized: 2009:05:31 12:36:46.80+03:00
- DateTimeOriginal: 2009:05:31 12:36:46.80+03:00
- ExifImageHeight: 667
- ExifImageWidth: 1000
- FlashFired: False
- FlashFunction: False
- FlashMode: Off
- FlashRedEyeMode: False
- FlashReturn: No return detection
- XMP-tiff
- ImageHeight: 667
- ImageWidth: 1000
- XMP-xmp
- CreateDate: 2009:05:31 12:36:46.80+03:00
- ModifyDate: 2009:06:27 09:33:25+03:00
- Просмотров: 215
- Рейтинг: голосов еще нет
- Отзывов: отключены