- Раздел: Пейзаж
- Дата съёмки: 27.06.2009 18:31
- Дата загрузки фото: 29.06.2009 14:55
- Оригинальная фотография: 4672 x 3104 (5,4 Мб)
- Технические характеристики:
- Фотоаппарат: Pentax K20D
- Выдержка: 1/400
- Гиперфокальное расстояние: 0,74 m
- Диафрагма: 22,0
- Светочувствительность: 320
- Фокусное расстояние: 18,0 mm (35 mm equivalent: 27,0 mm)
- Полный EXIF
- Adobe
- ColorTransform: YCbCr
- Composite
- Aperture: 22,0
- CircleOfConfusion: 0,020 mm
- FOV: 67,0 deg
- FocalLength35efl: 18,0 mm (35 mm equivalent: 27,0 mm)
- HyperfocalDistance: 0,74 m
- ScaleFactor35efl: 1,5
- ShutterSpeed: 1/400
- ExifIFD
- ApertureValue: 22,0
- CFAPattern: [Blue,Green][Green,Red]
- ColorSpace: Uncalibrated
- Contrast: High
- CreateDate: 2009:06:27 18:31:47
- CustomRendered: Normal
- DateTimeOriginal: 2009:06:27 18:31:47
- ExifImageHeight: 3104
- ExifImageWidth: 4672
- ExposureCompensation: 0
- ExposureMode: Auto
- ExposureProgram: Creative (Slow speed)
- ExposureTime: 1/400
- FNumber: 22,0
- Flash: Off
- FocalLength: 18,0 mm
- FocalLengthIn35mmFormat: 27 mm
- ISO: 320
- MeteringMode: Multi-segment
- Saturation: High
- SceneCaptureType: Standard
- SensingMethod: One-chip color area
- Sharpness: Hard
- ShutterSpeedValue: 1/400
- SubjectDistanceRange: Distant
- WhiteBalance: Manual
- ICC-header
- IFD0
- Make: PENTAX
- Model: PENTAX K20D
- ModifyDate: 2009:06:28 18:03:39
- Orientation: Horizontal (normal)
- IFD1
- IPTC
- XMP-aux
- Lens: smc PENTAX-DA 18-55mm F3.5-5.6 AL II
- LensID: 7 229
- LensInfo: 180/10 550/10 35/10 56/10
- XMP-crs
- AlreadyApplied: True
- BlueHue: 0
- BlueSaturation: 0
- Brightness: +54
- ChromaticAberrationB: -8
- ChromaticAberrationR: -14
- Clarity: +29
- ColorNoiseReduction: 25
- Contrast: +39
- ConvertToGrayscale: False
- Defringe: 2
- Exposure: +0.15
- FillLight: 0
- GreenHue: 0
- GreenSaturation: 0
- HasCrop: False
- HasSettings: True
- HighlightRecovery: 8
- HueAdjustmentAqua: 0
- HueAdjustmentBlue: 0
- HueAdjustmentGreen: 0
- HueAdjustmentMagenta: 0
- HueAdjustmentOrange: 0
- HueAdjustmentPurple: 0
- HueAdjustmentRed: 0
- HueAdjustmentYellow: 0
- LuminanceAdjustmentAqua: 0
- LuminanceAdjustmentBlue: 0
- LuminanceAdjustmentGreen: 0
- LuminanceAdjustmentMagenta: 0
- LuminanceAdjustmentOrange: 0
- LuminanceAdjustmentPurple: 0
- LuminanceAdjustmentRed: 0
- LuminanceAdjustmentYellow: 0
- LuminanceSmoothing: 0
- ParametricDarks: 0
- ParametricHighlightSplit: 75
- ParametricHighlights: 0
- ParametricLights: 0
- ParametricMidtoneSplit: 50
- ParametricShadowSplit: 25
- ParametricShadows: 0
- PostCropVignetteAmount: 0
- RawFileName: IMGP4932.PEF
- RedHue: 0
- RedSaturation: 0
- Saturation: +17
- SaturationAdjustmentAqua: 0
- SaturationAdjustmentBlue: 0
- SaturationAdjustmentGreen: 0
- SaturationAdjustmentMagenta: 0
- SaturationAdjustmentOrange: 0
- SaturationAdjustmentPurple: 0
- SaturationAdjustmentRed: 0
- SaturationAdjustmentYellow: 0
- ShadowTint: 0
- Shadows: 17
- SharpenDetail: 27
- SharpenEdgeMasking: 0
- SharpenRadius: +1.0
- Sharpness: 25
- SplitToningBalance: 0
- SplitToningHighlightHue: 0
- SplitToningHighlightSaturation: 0
- SplitToningShadowHue: 0
- SplitToningShadowSaturation: 0
- Temperature: 6000
- Tint: -20
- ToneCurve: 0, 0, 32, 22, 64, 56, 128, 128, 192, 196, 255, 255
- ToneCurveName: Medium Contrast
- Version: 5.3
- Vibrance: 0
- VignetteAmount: +34
- VignetteMidpoint: 50
- WhiteBalance: As Shot
- XMP-dc
- XMP-exif
- DateTimeDigitized: 2009:06:27 18:31:47+03:00
- DateTimeOriginal: 2009:06:27 18:31:47+03:00
- FlashFired: False
- FlashFunction: False
- FlashMode: Off
- FlashRedEyeMode: False
- FlashReturn: No return detection
- XMP-tiff
- XMP-xmp
- CreateDate: 2009:06:27 18:31:47+03:00
- CreatorTool: K20D Ver 1.03
- ModifyDate: 2009:06:28 18:03:39+03:00
- Rating: 0
- XMP-xmpMM
- Просмотров: 219
- Рейтинг: голосов еще нет
- Отзывов: 0