- Раздел: Город
- Дата съёмки: 01.07.2009 14:30
- Дата загрузки фото: 01.07.2009 15:32
- Оригинальная фотография: 450 x 675 (157 Кб)
- Технические характеристики:
- Фотоаппарат: Canon EOS 450D
- Выдержка: 1/1000
- Гиперфокальное расстояние: 31,53 m
- Диафрагма: 3,5
- Светочувствительность: 100
- Фокусное расстояние: 18,0 mm (35 mm equivalent: 184,2 mm)
- Полный EXIF
- Adobe
- ColorTransform: YCbCr
- Composite
- Aperture: 3,5
- CircleOfConfusion: 0,003 mm
- FOV: 11,0 deg
- FocalLength35efl: 18,0 mm (35 mm equivalent: 184,2 mm)
- HyperfocalDistance: 31,53 m
- ScaleFactor35efl: 10,2
- ShutterSpeed: 1/1000
- ExifIFD
- ApertureValue: 3,5
- ColorSpace: sRGB
- CreateDate: 2009:06:20 12:36:57
- CustomRendered: Normal
- DateTimeOriginal: 2009:06:20 12:36:57
- ExifImageHeight: 675
- ExifImageWidth: 450
- ExposureCompensation: 0
- ExposureMode: Auto
- ExposureProgram: Aperture-priority AE
- ExposureTime: 1/1000
- FNumber: 3,5
- Flash: Off
- FocalLength: 18,0 mm
- ISO: 100
- MaxApertureValue: 3,5
- MeteringMode: Multi-segment
- SceneCaptureType: Standard
- ShutterSpeedValue: 1/1000
- WhiteBalance: Auto
- ICC-header
- ICC-meas
- ICC-view
- IFD0
- Make: Canon
- Model: Canon EOS 450D
- ModifyDate: 2009:07:01 14:30:41
- Orientation: Horizontal (normal)
- IFD1
- IPTC
- XMP-aux
- Firmware: 1.0.9
- FlashCompensation: 0
- ImageNumber: 0
- Lens: EF-S18-55mm f/3.5-5.6 IS
- LensInfo: 18/1 55/1 0/0 0/0
- SerialNumber: 980397874
- XMP-crs
- AlreadyApplied: True
- BlueHue: +31
- BlueSaturation: +24
- Brightness: +25
- CameraProfile: ACR 4.4
- ChromaticAberrationB: 0
- ChromaticAberrationR: 0
- Clarity: +20
- ColorNoiseReduction: 15
- Contrast: +45
- ConvertToGrayscale: False
- Defringe: 2
- Exposure: +0.10
- FillLight: 58
- GreenHue: +100
- GreenSaturation: +50
- HasCrop: False
- HasSettings: True
- HighlightRecovery: 59
- HueAdjustmentAqua: -12
- HueAdjustmentBlue: -33
- HueAdjustmentGreen: -100
- HueAdjustmentMagenta: 0
- HueAdjustmentOrange: -5
- HueAdjustmentPurple: -52
- HueAdjustmentRed: 0
- HueAdjustmentYellow: +10
- LuminanceAdjustmentAqua: +100
- LuminanceAdjustmentBlue: -100
- LuminanceAdjustmentGreen: +100
- LuminanceAdjustmentMagenta: 0
- LuminanceAdjustmentOrange: +19
- LuminanceAdjustmentPurple: +48
- LuminanceAdjustmentRed: 0
- LuminanceAdjustmentYellow: +100
- LuminanceSmoothing: 0
- ParametricDarks: +62
- ParametricHighlightSplit: 75
- ParametricHighlights: -2
- ParametricLights: +79
- ParametricMidtoneSplit: 50
- ParametricShadowSplit: 25
- ParametricShadows: -15
- PostCropVignetteAmount: -62
- PostCropVignetteFeather: 100
- PostCropVignetteMidpoint: 45
- PostCropVignetteRoundness: -27
- RedHue: -100
- RedSaturation: +100
- Saturation: -72
- SaturationAdjustmentAqua: +14
- SaturationAdjustmentBlue: +100
- SaturationAdjustmentGreen: +29
- SaturationAdjustmentMagenta: -100
- SaturationAdjustmentOrange: +93
- SaturationAdjustmentPurple: -93
- SaturationAdjustmentRed: 0
- SaturationAdjustmentYellow: +69
- ShadowTint: -100
- Shadows: 0
- SharpenDetail: 25
- SharpenEdgeMasking: 14
- SharpenRadius: +1.0
- Sharpness: 92
- SplitToningBalance: 0
- SplitToningHighlightHue: 39
- SplitToningHighlightSaturation: 59
- SplitToningShadowHue: 86
- SplitToningShadowSaturation: 18
- Temperature: 5691
- Tint: +118
- ToneCurve: 0, 0, 255, 255
- ToneCurveName: Linear
- Version: 5.3
- Vibrance: +43
- VignetteAmount: -36
- VignetteMidpoint: 4
- WhiteBalance: Custom
- XMP-dc
- XMP-exif
- DateTimeDigitized: 2009:06:20 12:36:57.03+03:00
- DateTimeOriginal: 2009:06:20 12:36:57.03+03:00
- FlashFired: False
- FlashFunction: False
- FlashMode: Off
- FlashRedEyeMode: False
- FlashReturn: No return detection
- XMP-tiff
- ImageHeight: 4272
- ImageWidth: 2848
- XMP-xmp
- CreateDate: 2009:07:01 14:30:41+03:00
- ModifyDate: 2009:07:01 14:30:41+03:00
- XMP-xmpMM
- DerivedFrom:
- Просмотров: 394
- Рейтинг: голосов еще нет
- Отзывов: 0