Уважаемые друзья и участники проекта iXBT.photo! К сожалению, 1 марта 2026 года проект iXBT.photo прекратит свою работу и будет закрыт. Мы высоко ценим ваше участие и тот вклад, который вы внесли в развитие нашего сообщества. Пожалуйста, не забудьте сохранить ваши фотографии до этой даты.
С уважением, команда iXBT.com
| P7043842.jpg |
P7043842.jpg
- Раздел: Активный отдых, туризм
- Дата съёмки: 04.07.2009 18:15
- Дата загрузки фото: 05.07.2009 19:35
- Оригинальная фотография: 1365 x 1024 (1,4 Мб)
- Технические характеристики:
- Фотоаппарат: Olympus E-520
- Выдержка: 1/500
- Диафрагма: 4,3
- Светочувствительность: 100
- Фокусное расстояние: 123,0 mm
- Полный EXIF
- Adobe
- ColorTransform: YCbCr
- Composite
- Aperture: 4,3
- FocalLength35efl: 123,0 mm
- ShutterSpeed: 1/500
- ExifIFD
- ApertureValue: 4,3
- CFAPattern: [Red,Green][Green,Blue]
- ColorSpace: Uncalibrated
- Contrast: Normal
- CreateDate: 2009:07:04 18:15:23
- CustomRendered: Normal
- DateTimeOriginal: 2009:07:04 18:15:23
- DigitalZoomRatio: 1
- ExifImageHeight: 1024
- ExifImageWidth: 1365
- ExposureCompensation: 0
- ExposureMode: Auto
- ExposureProgram: Aperture-priority AE
- ExposureTime: 1/500
- FNumber: 4,3
- Flash: On, Did not fire
- FocalLength: 123,0 mm
- GainControl: None
- ISO: 100
- LightSource: Unknown
- MaxApertureValue: 3,5
- MeteringMode: Multi-segment
- Saturation: High
- SceneCaptureType: Standard
- Sharpness: Hard
- ShutterSpeedValue: 1/500
- WhiteBalance: Auto
- ICC-header
- IFD0
- ImageDescription: OLYMPUS DIGITAL CAMERA
- Make: OLYMPUS IMAGING CORP.
- Model: E-520
- ModifyDate: 2009:07:05 22:14:38
- Orientation: Horizontal (normal)
- IFD1
- IPTC
- Caption-Abstract: OLYMPUS DIGITAL CAMERA
- XMP-aux
- FlashCompensation: 0
- Lens: 40.0-150.0 mm f/3.5-4.5
- LensInfo: 40/1 150/1 35/10 45/10
- LensSerialNumber: 000000000
- SerialNumber: G28521464
- XMP-crs
- AlreadyApplied: True
- BlueHue: 0
- BlueSaturation: 0
- Brightness: +50
- ChromaticAberrationB: 0
- ChromaticAberrationR: 0
- Clarity: +64
- ColorNoiseReduction: 25
- Contrast: +25
- ConvertToGrayscale: False
- Defringe: 0
- Exposure: 0.00
- FillLight: 0
- GreenHue: 0
- GreenSaturation: 0
- HasCrop: False
- HasSettings: True
- HighlightRecovery: 0
- HueAdjustmentAqua: 0
- HueAdjustmentBlue: 0
- HueAdjustmentGreen: 0
- HueAdjustmentMagenta: 0
- HueAdjustmentOrange: 0
- HueAdjustmentPurple: 0
- HueAdjustmentRed: 0
- HueAdjustmentYellow: 0
- LuminanceAdjustmentAqua: 0
- LuminanceAdjustmentBlue: 0
- LuminanceAdjustmentGreen: 0
- LuminanceAdjustmentMagenta: 0
- LuminanceAdjustmentOrange: 0
- LuminanceAdjustmentPurple: 0
- LuminanceAdjustmentRed: 0
- LuminanceAdjustmentYellow: 0
- LuminanceSmoothing: 0
- ParametricDarks: 0
- ParametricHighlightSplit: 75
- ParametricHighlights: 0
- ParametricLights: 0
- ParametricMidtoneSplit: 50
- ParametricShadowSplit: 25
- ParametricShadows: 0
- PostCropVignetteAmount: 0
- RedHue: 0
- RedSaturation: 0
- Saturation: +11
- SaturationAdjustmentAqua: 0
- SaturationAdjustmentBlue: 0
- SaturationAdjustmentGreen: 0
- SaturationAdjustmentMagenta: 0
- SaturationAdjustmentOrange: 0
- SaturationAdjustmentPurple: 0
- SaturationAdjustmentRed: 0
- SaturationAdjustmentYellow: 0
- ShadowTint: 0
- Shadows: 5
- SharpenDetail: 25
- SharpenEdgeMasking: 0
- SharpenRadius: +1.0
- Sharpness: 25
- SplitToningBalance: 0
- SplitToningHighlightHue: 0
- SplitToningHighlightSaturation: 0
- SplitToningShadowHue: 0
- SplitToningShadowSaturation: 0
- Temperature: 4950
- Tint: +3
- ToneCurve: 0, 0, 32, 22, 64, 56, 128, 128, 192, 196, 255, 255
- ToneCurveName: Medium Contrast
- Version: 5.2
- Vibrance: +51
- VignetteAmount: 0
- WhiteBalance: As Shot
- XMP-dc
- Description: OLYMPUS DIGITAL CAMERA
- Format: image/jpeg
- XMP-exif
- ColorSpace: Unknown (-1)
- DateTimeDigitized: 2009:07:04 18:15:23+07:00
- DateTimeOriginal: 2009:07:04 18:15:23+07:00
- FlashFired: False
- FlashFunction: False
- FlashMode: On
- FlashRedEyeMode: False
- FlashReturn: No return detection
- XMP-tiff
- XMP-xmp
- CreateDate: 2009:07:04 18:15:23+07:00
- ModifyDate: 2009:07:05 22:14:38+07:00
- Rating: 2
- XMP-xmpMM
- Просмотров: 240
- Рейтинг: голосов еще нет
- Отзывов: 0
Получить код для блога
| Вставка фотографии в текущем разрешении |
Вставка миниатюры |
HTML (для вставки в блог):
BBCode (для вставки в форум):
Ссылка на фото:
Ссылка на миниатюру:
- Послать ссылку другу
| Комментарии к фотографии |