- Раздел: Другое, разное
- Дата съёмки: 21.06.2009 21:26
- Дата загрузки фото: 08.07.2009 23:24
- Оригинальная фотография: 1621 x 2000 (2,8 Мб)
- Технические характеристики:
- Фотоаппарат: FujiFilm FinePix S9600
- Выдержка: 1/160
- Гиперфокальное расстояние: 3,95 m
- Диафрагма: 3,4
- Светочувствительность: 80
- Фокусное расстояние: 10,8 mm (35 mm equivalent: 37,3 mm)
- Полный EXIF
- Adobe
- ColorTransform: YCbCr
- Composite
- Aperture: 3,4
- CircleOfConfusion: 0,009 mm
- FOV: 51,0 deg
- FocalLength35efl: 10,8 mm (35 mm equivalent: 37,3 mm)
- HyperfocalDistance: 3,95 m
- ScaleFactor35efl: 3,5
- ShutterSpeed: 1/160
- ExifIFD
- ApertureValue: 3,4
- BrightnessValue: 6,78
- ColorSpace: sRGB
- Contrast: Normal
- CreateDate: 2009:06:21 21:26:43
- CustomRendered: Normal
- DateTimeOriginal: 2009:06:21 21:26:43
- ExifImageHeight: 2000
- ExifImageWidth: 1621
- ExposureCompensation: 0
- ExposureMode: Manual
- ExposureProgram: Manual
- ExposureTime: 1/160
- FNumber: 3,4
- Flash: Off
- FocalLength: 10,8 mm
- ISO: 80
- LightSource: Unknown
- MaxApertureValue: 2,8
- MeteringMode: Multi-segment
- Saturation: Normal
- SceneCaptureType: Standard
- SceneType: Directly photographed
- SensingMethod: One-chip color area
- Sharpness: Normal
- ShutterSpeedValue: 1/160
- SubjectDistanceRange: Distant
- WhiteBalance: Auto
- ICC-header
- ICC-meas
- ICC-view
- IFD0
- Make: FUJIFILM
- Model: FinePix S9600
- ModifyDate: 2009:07:06 20:47:04
- Orientation: Horizontal (normal)
- IFD1
- IPTC
- XMP-crs
- AlreadyApplied: True
- BlueHue: +11
- BlueSaturation: -21
- Brightness: +64
- CameraProfile: Embedded
- ChromaticAberrationB: 0
- ChromaticAberrationR: 0
- Clarity: +19
- ColorNoiseReduction: 25
- Contrast: +32
- ConvertToGrayscale: True
- Defringe: 1
- Exposure: 0.00
- FillLight: 0
- GrayMixerAqua: -21
- GrayMixerBlue: 0
- GrayMixerGreen: -19
- GrayMixerMagenta: +8
- GrayMixerOrange: -6
- GrayMixerPurple: +10
- GrayMixerRed: +3
- GrayMixerYellow: -10
- GreenHue: +16
- GreenSaturation: +51
- HasCrop: False
- HasSettings: True
- HighlightRecovery: 0
- IncrementalTemperature: +37
- IncrementalTint: +1
- LuminanceSmoothing: 0
- ParametricDarks: 0
- ParametricHighlightSplit: 75
- ParametricHighlights: 0
- ParametricLights: -2
- ParametricMidtoneSplit: 50
- ParametricShadowSplit: 25
- ParametricShadows: 0
- PostCropVignetteAmount: 0
- RedHue: +23
- RedSaturation: +10
- ShadowTint: +4
- Shadows: 10
- SharpenDetail: 25
- SharpenEdgeMasking: 0
- SharpenRadius: +1.0
- Sharpness: 25
- SplitToningBalance: 0
- SplitToningHighlightHue: 215
- SplitToningHighlightSaturation: 32
- SplitToningShadowHue: 240
- SplitToningShadowSaturation: 29
- ToneCurve: 0, 0, 255, 255
- ToneCurveName: Linear
- Version: 5.4
- VignetteAmount: -100
- VignetteMidpoint: 40
- XMP-dc
- XMP-exif
- DateTimeDigitized: 2009:06:21 21:26:43+04:00
- DateTimeOriginal: 2009:06:21 21:26:43+04:00
- FlashFired: False
- FlashFunction: False
- FlashMode: Off
- FlashRedEyeMode: False
- FlashReturn: No return detection
- XMP-tiff
- ImageHeight: 3488
- ImageWidth: 2616
- XMP-xmp
- CreateDate: 2009:06:21 21:26:43+04:00
- ModifyDate: 2009:07:06 20:47:04+04:00
- XMP-xmpMM
- Просмотров: 258
- Рейтинг: голосов еще нет
- Отзывов: 0