- Раздел: Другое, разное
- Дата съёмки: 21.06.2009 21:38
- Дата загрузки фото: 08.07.2009 23:24
- Оригинальная фотография: 1500 x 1162 (1,2 Мб)
- Технические характеристики:
- Фотоаппарат: FujiFilm FinePix S9600
- Выдержка: 1/125
- Гиперфокальное расстояние: 19,16 m
- Диафрагма: 3,8
- Светочувствительность: 80
- Фокусное расстояние: 21,6 mm (35 mm equivalent: 101,3 mm)
- Полный EXIF
- Adobe
- ColorTransform: YCbCr
- Composite
- Aperture: 3,8
- CircleOfConfusion: 0,006 mm
- FOV: 20,0 deg
- FocalLength35efl: 21,6 mm (35 mm equivalent: 101,3 mm)
- HyperfocalDistance: 19,16 m
- ScaleFactor35efl: 4,7
- ShutterSpeed: 1/125
- ExifIFD
- ApertureValue: 3,8
- BrightnessValue: 6,12
- ColorSpace: sRGB
- Contrast: Normal
- CreateDate: 2009:06:21 21:38:35
- CustomRendered: Custom
- DateTimeOriginal: 2009:06:21 21:38:35
- ExifImageHeight: 1162
- ExifImageWidth: 1500
- ExposureCompensation: 0
- ExposureMode: Manual
- ExposureProgram: Manual
- ExposureTime: 1/125
- FNumber: 3,8
- Flash: Off
- FocalLength: 21,6 mm
- ISO: 80
- LightSource: Unknown
- MaxApertureValue: 2,8
- MeteringMode: Multi-segment
- Saturation: Normal
- SceneCaptureType: Standard
- SceneType: Directly photographed
- SensingMethod: One-chip color area
- Sharpness: Normal
- ShutterSpeedValue: 1/125
- SubjectDistanceRange: Close
- WhiteBalance: Auto
- ICC-header
- ICC-meas
- ICC-view
- IFD0
- Make: FUJIFILM
- Model: FinePix S9600
- ModifyDate: 2009:07:06 20:54:38
- Orientation: Horizontal (normal)
- IFD1
- IPTC
- XMP-crs
- AlreadyApplied: True
- BlueHue: +11
- BlueSaturation: -21
- Brightness: +64
- CameraProfile: Embedded
- ChromaticAberrationB: 0
- ChromaticAberrationR: 0
- Clarity: +14
- ColorNoiseReduction: 25
- Contrast: +32
- ConvertToGrayscale: True
- Defringe: 0
- Exposure: 0.00
- FillLight: 20
- GrayMixerAqua: +2
- GrayMixerBlue: +19
- GrayMixerGreen: 0
- GrayMixerMagenta: +30
- GrayMixerOrange: +8
- GrayMixerPurple: +25
- GrayMixerRed: +34
- GrayMixerYellow: -12
- GreenHue: +16
- GreenSaturation: +51
- HasCrop: False
- HasSettings: True
- HighlightRecovery: 100
- IncrementalTemperature: +12
- IncrementalTint: -5
- LuminanceSmoothing: 27
- ParametricDarks: 0
- ParametricHighlightSplit: 75
- ParametricHighlights: 0
- ParametricLights: -2
- ParametricMidtoneSplit: 50
- ParametricShadowSplit: 25
- ParametricShadows: 0
- PostCropVignetteAmount: 0
- RedHue: +23
- RedSaturation: +10
- ShadowTint: +4
- Shadows: 10
- SharpenDetail: 56
- SharpenEdgeMasking: 25
- SharpenRadius: +0.7
- Sharpness: 0
- SplitToningBalance: 0
- SplitToningHighlightHue: 215
- SplitToningHighlightSaturation: 32
- SplitToningShadowHue: 240
- SplitToningShadowSaturation: 29
- ToneCurve: 0, 0, 255, 255
- ToneCurveName: Linear
- Version: 5.4
- VignetteAmount: -100
- VignetteMidpoint: 40
- XMP-dc
- XMP-exif
- DateTimeDigitized: 2009:06:21 21:38:35+04:00
- DateTimeOriginal: 2009:06:21 21:38:35+04:00
- FlashFired: False
- FlashFunction: False
- FlashMode: Off
- FlashRedEyeMode: False
- FlashReturn: No return detection
- XMP-tiff
- ImageHeight: 2616
- ImageWidth: 3488
- XMP-xmp
- CreateDate: 2009:06:21 21:38:35+04:00
- ModifyDate: 2009:07:06 20:54:38+04:00
- XMP-xmpMM
- Просмотров: 302
- Рейтинг: голосов еще нет
- Отзывов: 0