- Раздел: Другое, разное
- Дата съёмки: 21.06.2009 21:49
- Дата загрузки фото: 08.07.2009 23:24
- Оригинальная фотография: 1667 x 2500 (1,8 Мб)
- Технические характеристики:
- Фотоаппарат: FujiFilm FinePix S9600
- Выдержка: 1/60
- Гиперфокальное расстояние: 22,21 m
- Диафрагма: 3,7
- Светочувствительность: 80
- Фокусное расстояние: 19,0 mm (35 mm equivalent: 130,0 mm)
- Полный EXIF
- Adobe
- ColorTransform: YCbCr
- Composite
- Aperture: 3,7
- CircleOfConfusion: 0,004 mm
- FOV: 15,0 deg
- FocalLength35efl: 19,0 mm (35 mm equivalent: 130,0 mm)
- HyperfocalDistance: 22,21 m
- ScaleFactor35efl: 6,8
- ShutterSpeed: 1/60
- ExifIFD
- ApertureValue: 3,7
- BrightnessValue: 6,03
- ColorSpace: sRGB
- Contrast: Normal
- CreateDate: 2009:06:21 21:49:18
- CustomRendered: Custom
- DateTimeOriginal: 2009:06:21 21:49:18
- ExifImageHeight: 2500
- ExifImageWidth: 1667
- ExposureCompensation: 0
- ExposureMode: Manual
- ExposureProgram: Manual
- ExposureTime: 1/60
- FNumber: 3,7
- Flash: Off
- FocalLength: 19,0 mm
- ISO: 80
- LightSource: Unknown
- MaxApertureValue: 2,8
- MeteringMode: Multi-segment
- Saturation: Normal
- SceneCaptureType: Standard
- SceneType: Directly photographed
- SensingMethod: One-chip color area
- Sharpness: Normal
- ShutterSpeedValue: 1/60
- SubjectDistanceRange: Unknown
- WhiteBalance: Auto
- ICC-header
- ICC-meas
- ICC-view
- IFD0
- Make: FUJIFILM
- Model: FinePix S9600
- ModifyDate: 2009:07:06 20:49:53
- Orientation: Horizontal (normal)
- IFD1
- IPTC
- XMP-crs
- AlreadyApplied: True
- BlueHue: +11
- BlueSaturation: -21
- Brightness: +64
- CameraProfile: Embedded
- ChromaticAberrationB: 0
- ChromaticAberrationR: 0
- Clarity: 0
- ColorNoiseReduction: 25
- Contrast: +64
- ConvertToGrayscale: True
- Defringe: 0
- Exposure: 0.00
- FillLight: 0
- GrayMixerAqua: +2
- GrayMixerBlue: +19
- GrayMixerGreen: 0
- GrayMixerMagenta: +30
- GrayMixerOrange: +8
- GrayMixerPurple: +25
- GrayMixerRed: +34
- GrayMixerYellow: -12
- GreenHue: +16
- GreenSaturation: +51
- HasCrop: False
- HasSettings: True
- HighlightRecovery: 100
- IncrementalTemperature: 0
- IncrementalTint: 0
- LuminanceSmoothing: 0
- ParametricDarks: 0
- ParametricHighlightSplit: 75
- ParametricHighlights: 0
- ParametricLights: -2
- ParametricMidtoneSplit: 50
- ParametricShadowSplit: 25
- ParametricShadows: 0
- PostCropVignetteAmount: 0
- RedHue: +23
- RedSaturation: +10
- ShadowTint: +4
- Shadows: 10
- SharpenDetail: 25
- SharpenEdgeMasking: 0
- SharpenRadius: +1.0
- Sharpness: 25
- SplitToningBalance: 0
- SplitToningHighlightHue: 215
- SplitToningHighlightSaturation: 32
- SplitToningShadowHue: 240
- SplitToningShadowSaturation: 29
- ToneCurve: 0, 0, 255, 255
- ToneCurveName: Linear
- Version: 5.4
- VignetteAmount: -100
- VignetteMidpoint: 40
- WhiteBalance: As Shot
- XMP-dc
- XMP-exif
- DateTimeDigitized: 2009:06:21 21:49:18+04:00
- DateTimeOriginal: 2009:06:21 21:49:18+04:00
- FlashFired: False
- FlashFunction: False
- FlashMode: Off
- FlashRedEyeMode: False
- FlashReturn: No return detection
- XMP-tiff
- ImageHeight: 3696
- ImageWidth: 2464
- XMP-xmp
- CreateDate: 2009:06:21 21:49:18+04:00
- ModifyDate: 2009:07:06 20:49:53+04:00
- XMP-xmpMM
- Просмотров: 290
- Рейтинг: голосов еще нет
- Отзывов: 0