- Раздел: Отдых, развлечения
- Дата съёмки: 05.07.2009 22:49
- Дата загрузки фото: 10.07.2009 00:33
- Оригинальная фотография: 600 x 400 ( 72 Кб)
- Технические характеристики:
- Фотоаппарат: Canon EOS 20D
- Выдержка: 1/1000
- Гиперфокальное расстояние: 16,06 m
- Диафрагма: 5,6
- Светочувствительность: 200
- Фокусное расстояние: 17,0 mm (35 mm equivalent: 159,0 mm)
- Полный EXIF
- Adobe
- ColorTransform: YCbCr
- Composite
- Aperture: 5,6
- CircleOfConfusion: 0,003 mm
- FOV: 12,0 deg
- FocalLength35efl: 17,0 mm (35 mm equivalent: 159,0 mm)
- HyperfocalDistance: 16,06 m
- ScaleFactor35efl: 9,4
- ShutterSpeed: 1/1000
- ExifIFD
- ApertureValue: 5,6
- ColorSpace: sRGB
- CreateDate: 2009:07:05 07:27:48
- CustomRendered: Normal
- DateTimeOriginal: 2009:07:05 07:27:48
- ExifImageHeight: 400
- ExifImageWidth: 600
- ExposureCompensation: 0
- ExposureMode: Auto
- ExposureProgram: Aperture-priority AE
- ExposureTime: 1/1000
- FNumber: 5,6
- Flash: Off
- FocalLength: 17,0 mm
- ISO: 200
- MaxApertureValue: 4,0
- MeteringMode: Average
- SceneCaptureType: Standard
- ShutterSpeedValue: 1/1000
- WhiteBalance: Manual
- ICC-header
- ICC-meas
- ICC-view
- IFD0
- Artist: unknown
- Make: Canon
- Model: Canon EOS 20D
- ModifyDate: 2009:07:05 22:49:13
- Orientation: Horizontal (normal)
- TimeZoneOffset: 4 4
- IFD1
- IPTC
- By-line: unknown
- XMP-aux
- Firmware: 2.0.3
- FlashCompensation: 0
- ImageNumber: 25
- Lens: 17.0-85.0 mm
- LensInfo: 17/1 85/1 0/0 0/0
- OwnerName: unknown
- SerialNumber: 330113970
- XMP-crs
- AlreadyApplied: True
- BlueHue: 0
- BlueSaturation: 0
- Brightness: +6
- CameraProfile: ACR 2.4
- ChromaticAberrationB: 0
- ChromaticAberrationR: 0
- ColorNoiseReduction: 25
- Contrast: +19
- ConvertToGrayscale: False
- Exposure: 0.00
- FillLight: 4
- GreenHue: 0
- GreenSaturation: 0
- HasCrop: False
- HasSettings: True
- HighlightRecovery: 36
- HueAdjustmentAqua: 0
- HueAdjustmentBlue: 0
- HueAdjustmentGreen: 0
- HueAdjustmentMagenta: 0
- HueAdjustmentOrange: 0
- HueAdjustmentPurple: 0
- HueAdjustmentRed: 0
- HueAdjustmentYellow: 0
- LuminanceAdjustmentAqua: 0
- LuminanceAdjustmentBlue: 0
- LuminanceAdjustmentGreen: 0
- LuminanceAdjustmentMagenta: 0
- LuminanceAdjustmentOrange: 0
- LuminanceAdjustmentPurple: 0
- LuminanceAdjustmentRed: 0
- LuminanceAdjustmentYellow: 0
- LuminanceSmoothing: 0
- ParametricDarks: 0
- ParametricHighlightSplit: 75
- ParametricHighlights: 0
- ParametricLights: 0
- ParametricMidtoneSplit: 50
- ParametricShadowSplit: 25
- ParametricShadows: 0
- RawFileName: IMG_20090705_1463.CR2
- RedHue: 0
- RedSaturation: 0
- Saturation: +9
- SaturationAdjustmentAqua: 0
- SaturationAdjustmentBlue: 0
- SaturationAdjustmentGreen: 0
- SaturationAdjustmentMagenta: 0
- SaturationAdjustmentOrange: 0
- SaturationAdjustmentPurple: 0
- SaturationAdjustmentRed: 0
- SaturationAdjustmentYellow: 0
- ShadowTint: 0
- Shadows: 1
- Sharpness: 40
- SplitToningBalance: 0
- SplitToningHighlightHue: 0
- SplitToningHighlightSaturation: 0
- SplitToningShadowHue: 0
- SplitToningShadowSaturation: 0
- Temperature: 5000
- Tint: 0
- ToneCurve: 0, 0, 32, 22, 64, 56, 128, 128, 192, 196, 255, 255
- ToneCurveName: Medium Contrast
- Version: 4.0
- Vibrance: 0
- VignetteAmount: +51
- VignetteMidpoint: 50
- WhiteBalance: As Shot
- XMP-dc
- Creator: unknown
- Format: image/jpeg
- XMP-exif
- DateTimeDigitized: 2009:07:05 07:27:48+04:00
- DateTimeOriginal: 2009:07:05 07:27:48+04:00
- FlashFired: False
- FlashFunction: False
- FlashMode: Off
- FlashRedEyeMode: False
- FlashReturn: No return detection
- XMP-tiff
- XMP-xmp
- CreateDate: 2009:07:05 22:49:13+04:00
- ModifyDate: 2009:07:05 22:49:13+04:00
- Rating: 0
- XMP-xmpMM
- Просмотров: 165
- Рейтинг: голосов еще нет
- Отзывов: 0