- Раздел: Отдых, развлечения
- Дата съёмки: 11.07.2009 18:37
- Дата загрузки фото: 13.07.2009 14:38
- Оригинальная фотография: 2221 x 3343 (422 Кб)
- Технические характеристики:
- Фотоаппарат: Pentax K20D
- Выдержка: 1/1000
- Гиперфокальное расстояние: 62,40 m
- Диафрагма: 2,0
- Светочувствительность: 100
- Фокусное расстояние: 50,0 mm (35 mm equivalent: 75,0 mm)
- Полный EXIF
- Adobe
- ColorTransform: YCbCr
- Composite
- Aperture: 2,0
- CircleOfConfusion: 0,020 mm
- FOV: 26,0 deg
- FocalLength35efl: 50,0 mm (35 mm equivalent: 75,0 mm)
- HyperfocalDistance: 62,40 m
- ScaleFactor35efl: 1,5
- ShutterSpeed: 1/1000
- ExifIFD
- ApertureValue: 2,0
- CFAPattern: [Blue,Green][Green,Red]
- Contrast: High
- CreateDate: 2009:07:11 18:37:35
- CustomRendered: Normal
- DateTimeOriginal: 2009:07:11 18:37:35
- ExposureCompensation: 0
- ExposureMode: Auto
- ExposureProgram: Aperture-priority AE
- ExposureTime: 1/1000
- FNumber: 2,0
- Flash: Off
- FocalLength: 50,0 mm
- FocalLengthIn35mmFormat: 75 mm
- ISO: 100
- MeteringMode: Multi-segment
- Saturation: Normal
- SceneCaptureType: Standard
- SensingMethod: One-chip color area
- Sharpness: Hard
- ShutterSpeedValue: 1/1000
- SubjectDistanceRange: Macro
- WhiteBalance: Auto
- ICC-header
- ICC-meas
- ICC-view
- IFD0
- Make: PENTAX
- Model: PENTAX K20D
- ModifyDate: 2009:07:13 14:05:23
- Software: K20D Ver 1.03
- IFD1
- XMP-aux
- Lens: smc PENTAX-FA 50mm F1.4
- LensID: 4 12
- LensInfo: 500/10 500/10 14/10 14/10
- XMP-crs
- AlreadyApplied: True
- BlueHue: 0
- BlueSaturation: 0
- Brightness: +27
- CameraProfile: ACR 3.3
- ChromaticAberrationB: 0
- ChromaticAberrationR: 0
- Clarity: +33
- ColorNoiseReduction: 25
- Contrast: +50
- ConvertToGrayscale: False
- CropAngle: -17.0613
- CropBottom: 0.684026
- CropHeight: 2221
- CropLeft: 0.088251
- CropRight: 0.911749
- CropTop: 0.315974
- CropUnit: 0
- CropWidth: 3343
- Defringe: 0
- Exposure: +1.00
- FillLight: 0
- GreenHue: 0
- GreenSaturation: 0
- HasCrop: True
- HasSettings: True
- HighlightRecovery: 0
- HueAdjustmentAqua: 0
- HueAdjustmentBlue: 0
- HueAdjustmentGreen: +26
- HueAdjustmentMagenta: -45
- HueAdjustmentOrange: 0
- HueAdjustmentPurple: 0
- HueAdjustmentRed: 0
- HueAdjustmentYellow: -26
- LuminanceAdjustmentAqua: +38
- LuminanceAdjustmentBlue: +33
- LuminanceAdjustmentGreen: +5
- LuminanceAdjustmentMagenta: +29
- LuminanceAdjustmentOrange: +10
- LuminanceAdjustmentPurple: 0
- LuminanceAdjustmentRed: +43
- LuminanceAdjustmentYellow: +7
- LuminanceSmoothing: 0
- ParametricDarks: -21
- ParametricHighlightSplit: 75
- ParametricHighlights: 0
- ParametricLights: +6
- ParametricMidtoneSplit: 50
- ParametricShadowSplit: 25
- ParametricShadows: -6
- PostCropVignetteAmount: +100
- PostCropVignetteFeather: 0
- PostCropVignetteMidpoint: 37
- PostCropVignetteRoundness: -100
- RedHue: 0
- RedSaturation: 0
- Saturation: 0
- SaturationAdjustmentAqua: +45
- SaturationAdjustmentBlue: +33
- SaturationAdjustmentGreen: +36
- SaturationAdjustmentMagenta: +40
- SaturationAdjustmentOrange: +31
- SaturationAdjustmentPurple: +60
- SaturationAdjustmentRed: +57
- SaturationAdjustmentYellow: +24
- ShadowTint: 0
- Shadows: 18
- SharpenDetail: 25
- SharpenEdgeMasking: 0
- SharpenRadius: +1.0
- Sharpness: 25
- SplitToningBalance: 0
- SplitToningHighlightHue: 55
- SplitToningHighlightSaturation: 30
- SplitToningShadowHue: 203
- SplitToningShadowSaturation: 29
- Temperature: 4350
- Tint: +7
- ToneCurve: 0, 0, 32, 22, 64, 56, 128, 128, 192, 196, 255, 255
- ToneCurveName: Medium Contrast
- Version: 5.4
- Vibrance: 0
- VignetteAmount: 0
- WhiteBalance: As Shot
- XMP-exif
- DateTimeDigitized: 2009:07:11 18:37:35+04:00
- DateTimeOriginal: 2009:07:11 18:37:35+04:00
- ExifImageHeight: 3343
- ExifImageWidth: 2221
- FlashFired: False
- FlashFunction: False
- FlashMode: Off
- FlashRedEyeMode: False
- FlashReturn: No return detection
- XMP-tiff
- ImageHeight: 3343
- ImageWidth: 2221
- XMP-xmp
- CreateDate: 2009:07:11 18:37:35+04:00
- ModifyDate: 2009:07:13 14:05:23+04:00
- Просмотров: 309
- Рейтинг: голосов еще нет
- Отзывов: 0