- Раздел: Животные
- Дата съёмки: 14.07.2009 14:39
- Дата загрузки фото: 14.07.2009 16:42
- Оригинальная фотография: 3077 x 2015 (2,4 Мб)
- Технические характеристики:
- Фотоаппарат: Canon EOS 40D
- Выдержка: 1/640
- Гиперфокальное расстояние: 30,56 m
- Диафрагма: 5,6
- Светочувствительность: 100
- Фокусное расстояние: 50,0 mm (35 mm equivalent: 102,8 mm)
- Полный EXIF
- Adobe
- ColorTransform: YCbCr
- Composite
- Aperture: 5,6
- CircleOfConfusion: 0,015 mm
- FOV: 19,0 deg
- FocalLength35efl: 50,0 mm (35 mm equivalent: 102,8 mm)
- HyperfocalDistance: 30,56 m
- ScaleFactor35efl: 2,1
- ShutterSpeed: 1/640
- ExifIFD
- ApertureValue: 5,6
- CreateDate: 2009:07:14 14:39:05
- CustomRendered: Normal
- DateTimeOriginal: 2009:07:14 14:39:05
- ExposureCompensation: 0
- ExposureMode: Auto
- ExposureProgram: Aperture-priority AE
- ExposureTime: 1/640
- FNumber: 5,6
- Flash: Off
- FocalLength: 50,0 mm
- ISO: 100
- MaxApertureValue: 1,8
- MeteringMode: Multi-segment
- SceneCaptureType: Standard
- ShutterSpeedValue: 1/640
- WhiteBalance: Auto
- ICC-header
- ICC-meas
- ICC-view
- IFD0
- Artist: StasSt
- Make: Canon
- Model: Canon EOS 40D
- ModifyDate: 2009:07:14 20:18:57
- IPTC
- By-line: StasSt
- XMP-aux
- Firmware: 1.0.8
- FlashCompensation: 0
- ImageNumber: 0
- Lens: EF50mm f/1.8 II
- LensInfo: 50/1 50/1 0/0 0/0
- OwnerName: StasSt
- SerialNumber: 1030504313
- XMP-crs
- AlreadyApplied: True
- BlueHue: 0
- BlueSaturation: 0
- Brightness: +50
- CameraProfile: ACR 4.4
- ChromaticAberrationB: 0
- ChromaticAberrationR: 0
- Clarity: +38
- ColorNoiseReduction: 25
- Contrast: +49
- ConvertToGrayscale: False
- CropAngle: 0
- CropBottom: 0.849741
- CropLeft: 0.093318
- CropRight: 0.884793
- CropTop: 0.072539
- Defringe: 0
- Exposure: +0.15
- FillLight: 0
- GreenHue: 0
- GreenSaturation: 0
- HasCrop: True
- HasSettings: True
- HighlightRecovery: 38
- HueAdjustmentAqua: 0
- HueAdjustmentBlue: 0
- HueAdjustmentGreen: 0
- HueAdjustmentMagenta: 0
- HueAdjustmentOrange: 0
- HueAdjustmentPurple: 0
- HueAdjustmentRed: 0
- HueAdjustmentYellow: 0
- LuminanceAdjustmentAqua: 0
- LuminanceAdjustmentBlue: 0
- LuminanceAdjustmentGreen: 0
- LuminanceAdjustmentMagenta: 0
- LuminanceAdjustmentOrange: 0
- LuminanceAdjustmentPurple: 0
- LuminanceAdjustmentRed: 0
- LuminanceAdjustmentYellow: 0
- LuminanceSmoothing: 0
- ParametricDarks: 0
- ParametricHighlightSplit: 75
- ParametricHighlights: 0
- ParametricLights: 0
- ParametricMidtoneSplit: 50
- ParametricShadowSplit: 25
- ParametricShadows: 0
- PostCropVignetteAmount: 0
- RawFileName: _MG_6454.CR2
- RedHue: 0
- RedSaturation: 0
- Saturation: 0
- SaturationAdjustmentAqua: 0
- SaturationAdjustmentBlue: 0
- SaturationAdjustmentGreen: 0
- SaturationAdjustmentMagenta: 0
- SaturationAdjustmentOrange: 0
- SaturationAdjustmentPurple: 0
- SaturationAdjustmentRed: 0
- SaturationAdjustmentYellow: 0
- ShadowTint: 0
- Shadows: 5
- SharpenDetail: 25
- SharpenEdgeMasking: 0
- SharpenRadius: +1.0
- Sharpness: 25
- SplitToningBalance: 0
- SplitToningHighlightHue: 0
- SplitToningHighlightSaturation: 0
- SplitToningShadowHue: 0
- SplitToningShadowSaturation: 0
- Temperature: 5500
- Tint: +10
- ToneCurve: 0, 0, 32, 22, 64, 56, 128, 128, 192, 196, 255, 255
- ToneCurveName: Medium Contrast
- Version: 5.0
- Vibrance: +10
- VignetteAmount: 0
- WhiteBalance: Daylight
- XMP-dc
- XMP-exif
- DateTimeDigitized: 2009:07:14 14:39:05.00+09:00
- DateTimeOriginal: 2009:07:14 14:39:05.00+09:00
- ExifImageHeight: 2015
- ExifImageWidth: 3077
- FlashFired: False
- FlashFunction: False
- FlashMode: Off
- FlashRedEyeMode: False
- FlashReturn: No return detection
- XMP-tiff
- ImageHeight: 2015
- ImageWidth: 3077
- XMP-xmp
- CreateDate: 2009:07:14 14:39:05.00+09:00
- ModifyDate: 2009:07:14 20:18:57+09:00
- Просмотров: 259
- Рейтинг: голосов еще нет
- Отзывов: 0