- Раздел: Другое, разное
- Дата съёмки: 15.07.2009 12:41
- Дата загрузки фото: 15.07.2009 14:02
- Оригинальная фотография: 433 x 650 (112 Кб)
- Технические характеристики:
- Фотоаппарат: Canon EOS 450D
- Выдержка: 1/100
- Гиперфокальное расстояние: 315,84 m
- Диафрагма: 2,8
- Светочувствительность: 100
- Фокусное расстояние: 50,0 mm (35 mm equivalent: 531,4 mm)
- Полный EXIF
- Adobe
- ColorTransform: YCbCr
- Composite
- Aperture: 2,8
- CircleOfConfusion: 0,003 mm
- FOV: 3,0 deg
- FocalLength35efl: 50,0 mm (35 mm equivalent: 531,4 mm)
- HyperfocalDistance: 315,84 m
- ScaleFactor35efl: 10,6
- ShutterSpeed: 1/100
- ExifIFD
- ApertureValue: 2,8
- ColorSpace: sRGB
- CreateDate: 2009:07:01 18:04:53
- CustomRendered: Normal
- DateTimeOriginal: 2009:07:01 18:04:53
- ExifImageHeight: 650
- ExifImageWidth: 433
- ExposureCompensation: 0
- ExposureMode: Auto
- ExposureProgram: Aperture-priority AE
- ExposureTime: 1/100
- FNumber: 2,8
- Flash: Off
- FocalLength: 50,0 mm
- ISO: 100
- MaxApertureValue: 1,8
- MeteringMode: Multi-segment
- SceneCaptureType: Standard
- ShutterSpeedValue: 1/100
- WhiteBalance: Auto
- ICC-header
- ICC-meas
- ICC-view
- IFD0
- Make: Canon
- Model: Canon EOS 450D
- ModifyDate: 2009:07:15 12:41:02
- Orientation: Horizontal (normal)
- IFD1
- IPTC
- XMP-aux
- Firmware: 1.0.9
- FlashCompensation: 0
- ImageNumber: 0
- Lens: EF50mm f/1.8 II
- LensInfo: 50/1 50/1 0/0 0/0
- SerialNumber: 980397873
- XMP-crs
- AlreadyApplied: True
- BlueHue: 0
- BlueSaturation: 0
- Brightness: +71
- CameraProfile: ACR 4.4
- ChromaticAberrationB: 0
- ChromaticAberrationR: 0
- Clarity: 0
- ColorNoiseReduction: 25
- Contrast: +64
- ConvertToGrayscale: True
- Defringe: 0
- Exposure: +0.60
- FillLight: 0
- GrayMixerAqua: -10
- GrayMixerBlue: -32
- GrayMixerGreen: +29
- GrayMixerMagenta: +62
- GrayMixerOrange: -41
- GrayMixerPurple: -53
- GrayMixerRed: -3
- GrayMixerYellow: -45
- GreenHue: 0
- GreenSaturation: 0
- HasCrop: False
- HasSettings: True
- HighlightRecovery: 95
- LuminanceSmoothing: 0
- PaintBasedCorrectionsCorrectionActive: true
- PaintBasedCorrectionsCorrectionAmount: 1.000000
- PaintBasedCorrectionsCorrectionMasksCenterWeight: 0.000000
- PaintBasedCorrectionsCorrectionMasksFlow: 1.000000
- PaintBasedCorrectionsCorrectionMasksMaskValue: 1.000000
- PaintBasedCorrectionsCorrectionMasksRadius: 0.020082
- PaintBasedCorrectionsCorrectionMasksWhat: Mask/Paint
- PaintBasedCorrectionsLocalBrightness: 0.000000
- PaintBasedCorrectionsLocalClarity: 0.000000
- PaintBasedCorrectionsLocalContrast: 0.000000
- PaintBasedCorrectionsLocalExposure: 0.063000
- PaintBasedCorrectionsLocalSaturation: 0.000000
- PaintBasedCorrectionsLocalSharpness: 0.000000
- PaintBasedCorrectionsLocalToningHue: 304.000000
- PaintBasedCorrectionsLocalToningSaturation: 0.000000
- PaintBasedCorrectionsWhat: Correction
- ParametricDarks: -7
- ParametricHighlightSplit: 75
- ParametricHighlights: 0
- ParametricLights: +3
- ParametricMidtoneSplit: 50
- ParametricShadowSplit: 25
- ParametricShadows: -33
- PostCropVignetteAmount: 0
- RedHue: 0
- RedSaturation: 0
- ShadowTint: 0
- Shadows: 27
- SharpenDetail: 25
- SharpenEdgeMasking: 0
- SharpenRadius: +1.0
- Sharpness: 101
- SplitToningBalance: 0
- SplitToningHighlightHue: 50
- SplitToningHighlightSaturation: 11
- SplitToningShadowHue: 49
- SplitToningShadowSaturation: 25
- Temperature: 4950
- Tint: -3
- ToneCurve: 0, 0, 255, 255
- ToneCurveName: Linear
- Version: 5.3
- VignetteAmount: +70
- VignetteMidpoint: 18
- WhiteBalance: As Shot
- XMP-dc
- XMP-exif
- DateTimeDigitized: 2009:07:01 18:04:53.03+04:00
- DateTimeOriginal: 2009:07:01 18:04:53.03+04:00
- FlashFired: False
- FlashFunction: False
- FlashMode: Off
- FlashRedEyeMode: False
- FlashReturn: No return detection
- XMP-tiff
- ImageHeight: 4272
- ImageWidth: 2848
- XMP-xmp
- CreateDate: 2009:07:15 12:41:02+04:00
- ModifyDate: 2009:07:15 12:41:02+04:00
- XMP-xmpMM
- Просмотров: 187
- Рейтинг: голосов еще нет
- Отзывов: 0