- Раздел: Другое, разное
- Дата съёмки: 15.07.2009 12:08
- Дата загрузки фото: 15.07.2009 14:02
- Оригинальная фотография: 433 x 650 (108 Кб)
- Технические характеристики:
- Фотоаппарат: Canon EOS 450D
- Выдержка: 1/100
- Гиперфокальное расстояние: 32,75 m
- Диафрагма: 3,5
- Светочувствительность: 200
- Фокусное расстояние: 18,0 mm (35 mm equivalent: 191,3 mm)
- Экспокоррекция: -2/3
- Полный EXIF
- Adobe
- ColorTransform: YCbCr
- Composite
- Aperture: 3,5
- CircleOfConfusion: 0,003 mm
- FOV: 10,0 deg
- FocalLength35efl: 18,0 mm (35 mm equivalent: 191,3 mm)
- HyperfocalDistance: 32,75 m
- ScaleFactor35efl: 10,6
- ShutterSpeed: 1/100
- ExifIFD
- ApertureValue: 3,5
- ColorSpace: sRGB
- CreateDate: 2009:07:01 18:59:55
- CustomRendered: Normal
- DateTimeOriginal: 2009:07:01 18:59:55
- ExifImageHeight: 650
- ExifImageWidth: 433
- ExposureCompensation: -2/3
- ExposureMode: Auto
- ExposureProgram: Aperture-priority AE
- ExposureTime: 1/100
- FNumber: 3,5
- Flash: Off
- FocalLength: 18,0 mm
- ISO: 200
- MaxApertureValue: 3,5
- MeteringMode: Multi-segment
- SceneCaptureType: Standard
- ShutterSpeedValue: 1/100
- WhiteBalance: Auto
- ICC-header
- ICC-meas
- ICC-view
- IFD0
- Make: Canon
- Model: Canon EOS 450D
- ModifyDate: 2009:07:15 12:08:22
- Orientation: Horizontal (normal)
- IFD1
- IPTC
- XMP-aux
- Firmware: 1.0.9
- FlashCompensation: 0
- ImageNumber: 0
- Lens: EF-S18-55mm f/3.5-5.6 IS
- LensInfo: 18/1 55/1 0/0 0/0
- SerialNumber: 980397873
- XMP-crs
- AlreadyApplied: True
- BlueHue: 0
- BlueSaturation: 0
- Brightness: +58
- CameraProfile: ACR 2.4
- ChromaticAberrationB: 0
- ChromaticAberrationR: 0
- Clarity: +55
- ColorNoiseReduction: 25
- Contrast: +52
- ConvertToGrayscale: True
- CropAngle: 0
- CropBottom: 0.96701
- CropHeight: 2754
- CropLeft: 0.03299
- CropRight: 1
- CropTop: 0
- CropUnit: 0
- CropWidth: 4131
- Defringe: 0
- Exposure: +2.73
- FillLight: 44
- GrayMixerAqua: -15
- GrayMixerBlue: -20
- GrayMixerGreen: -34
- GrayMixerMagenta: -1
- GrayMixerOrange: -18
- GrayMixerPurple: +20
- GrayMixerRed: -8
- GrayMixerYellow: -18
- GreenHue: 0
- GreenSaturation: 0
- HasCrop: True
- HasSettings: True
- HighlightRecovery: 49
- LuminanceSmoothing: 0
- ParametricDarks: -29
- ParametricHighlightSplit: 75
- ParametricHighlights: +8
- ParametricLights: +22
- ParametricMidtoneSplit: 50
- ParametricShadowSplit: 25
- ParametricShadows: -20
- PostCropVignetteAmount: 0
- RedHue: 0
- RedSaturation: 0
- ShadowTint: 0
- Shadows: 12
- SharpenDetail: 25
- SharpenEdgeMasking: 0
- SharpenRadius: +0.8
- Sharpness: 102
- SplitToningBalance: -6
- SplitToningHighlightHue: 49
- SplitToningHighlightSaturation: 11
- SplitToningShadowHue: 50
- SplitToningShadowSaturation: 18
- Temperature: 4250
- Tint: +8
- ToneCurve: 0, 0, 32, 22, 64, 56, 128, 128, 192, 196, 255, 255
- ToneCurveName: Medium Contrast
- Version: 5.3
- VignetteAmount: 0
- WhiteBalance: As Shot
- XMP-dc
- XMP-exif
- DateTimeDigitized: 2009:07:01 18:59:55.03+04:00
- DateTimeOriginal: 2009:07:01 18:59:55.03+04:00
- FlashFired: False
- FlashFunction: False
- FlashMode: Off
- FlashRedEyeMode: False
- FlashReturn: No return detection
- XMP-tiff
- ImageHeight: 4131
- ImageWidth: 2754
- XMP-xmp
- CreateDate: 2009:07:15 12:08:22+04:00
- ModifyDate: 2009:07:15 12:08:22+04:00
- XMP-xmpMM
- Просмотров: 194
- Рейтинг: голосов еще нет
- Отзывов: 0