- Раздел: Другое, разное
- Дата съёмки: 16.07.2009 15:02
- Дата загрузки фото: 16.07.2009 16:06
- Оригинальная фотография: 650 x 433 (118 Кб)
- Технические характеристики:
- Фотоаппарат: Canon EOS 450D
- Выдержка: 1/250
- Гиперфокальное расстояние: 315,57 m
- Диафрагма: 2,8
- Светочувствительность: 100
- Фокусное расстояние: 50,0 mm (35 mm equivalent: 531,0 mm)
- Полный EXIF
- Adobe
- ColorTransform: YCbCr
- Composite
- Aperture: 2,8
- CircleOfConfusion: 0,003 mm
- FOV: 3,0 deg
- FocalLength35efl: 50,0 mm (35 mm equivalent: 531,0 mm)
- HyperfocalDistance: 315,57 m
- ScaleFactor35efl: 10,6
- ShutterSpeed: 1/250
- ExifIFD
- ApertureValue: 2,8
- ColorSpace: sRGB
- CreateDate: 2009:07:01 17:36:31
- CustomRendered: Normal
- DateTimeOriginal: 2009:07:01 17:36:31
- ExifImageHeight: 433
- ExifImageWidth: 650
- ExposureCompensation: 0
- ExposureMode: Auto
- ExposureProgram: Aperture-priority AE
- ExposureTime: 1/250
- FNumber: 2,8
- Flash: Off
- FocalLength: 50,0 mm
- ISO: 100
- MaxApertureValue: 1,8
- MeteringMode: Multi-segment
- SceneCaptureType: Standard
- ShutterSpeedValue: 1/250
- WhiteBalance: Auto
- ICC-header
- ICC-meas
- ICC-view
- IFD0
- Make: Canon
- Model: Canon EOS 450D
- ModifyDate: 2009:07:16 15:02:40
- Orientation: Horizontal (normal)
- IFD1
- IPTC
- XMP-aux
- Firmware: 1.0.9
- FlashCompensation: 0
- ImageNumber: 0
- Lens: EF50mm f/1.8 II
- LensInfo: 50/1 50/1 0/0 0/0
- SerialNumber: 980397873
- XMP-crs
- AlreadyApplied: True
- BlueHue: 0
- BlueSaturation: 0
- Brightness: +50
- CameraProfile: ACR 4.4
- ChromaticAberrationB: 0
- ChromaticAberrationR: 0
- Clarity: +42
- ColorNoiseReduction: 25
- Contrast: +42
- ConvertToGrayscale: False
- CropAngle: 0
- CropBottom: 0.975659
- CropHeight: 2779
- CropLeft: 0
- CropRight: 0.975659
- CropTop: 0
- CropUnit: 0
- CropWidth: 4168
- Defringe: 0
- Exposure: +0.58
- FillLight: 38
- GreenHue: 0
- GreenSaturation: 0
- HasCrop: True
- HasSettings: True
- HighlightRecovery: 0
- HueAdjustmentAqua: 0
- HueAdjustmentBlue: 0
- HueAdjustmentGreen: 0
- HueAdjustmentMagenta: 0
- HueAdjustmentOrange: 0
- HueAdjustmentPurple: 0
- HueAdjustmentRed: 0
- HueAdjustmentYellow: 0
- LuminanceAdjustmentAqua: 0
- LuminanceAdjustmentBlue: 0
- LuminanceAdjustmentGreen: 0
- LuminanceAdjustmentMagenta: 0
- LuminanceAdjustmentOrange: 0
- LuminanceAdjustmentPurple: 0
- LuminanceAdjustmentRed: 0
- LuminanceAdjustmentYellow: 0
- LuminanceSmoothing: 0
- ParametricDarks: 0
- ParametricHighlightSplit: 75
- ParametricHighlights: +4
- ParametricLights: +21
- ParametricMidtoneSplit: 50
- ParametricShadowSplit: 25
- ParametricShadows: 0
- PostCropVignetteAmount: -27
- PostCropVignetteFeather: 50
- PostCropVignetteMidpoint: 43
- PostCropVignetteRoundness: -85
- RedHue: 0
- RedSaturation: 0
- Saturation: 0
- SaturationAdjustmentAqua: 0
- SaturationAdjustmentBlue: 0
- SaturationAdjustmentGreen: 0
- SaturationAdjustmentMagenta: 0
- SaturationAdjustmentOrange: 0
- SaturationAdjustmentPurple: +2
- SaturationAdjustmentRed: +2
- SaturationAdjustmentYellow: 0
- ShadowTint: 0
- Shadows: 5
- SharpenDetail: 25
- SharpenEdgeMasking: 0
- SharpenRadius: +1.0
- Sharpness: 105
- SplitToningBalance: 0
- SplitToningHighlightHue: 203
- SplitToningHighlightSaturation: 0
- SplitToningShadowHue: 237
- SplitToningShadowSaturation: 17
- Temperature: 4083
- Tint: +5
- ToneCurve: 0, 0, 32, 22, 64, 56, 128, 128, 192, 196, 255, 255
- ToneCurveName: Medium Contrast
- Version: 5.3
- Vibrance: -69
- VignetteAmount: -81
- VignetteMidpoint: 50
- WhiteBalance: Custom
- XMP-dc
- XMP-exif
- DateTimeDigitized: 2009:07:01 17:36:31.03+04:00
- DateTimeOriginal: 2009:07:01 17:36:31.03+04:00
- FlashFired: False
- FlashFunction: False
- FlashMode: Off
- FlashRedEyeMode: False
- FlashReturn: No return detection
- XMP-tiff
- ImageHeight: 2779
- ImageWidth: 4168
- XMP-xmp
- CreateDate: 2009:07:16 15:02:40+04:00
- ModifyDate: 2009:07:16 15:02:40+04:00
- XMP-xmpMM
- Просмотров: 269
- Рейтинг: голосов еще нет
- Отзывов: отключены