- Раздел: Другое, разное
- Дата съёмки: 16.07.2009 21:37
- Дата загрузки фото: 17.07.2009 00:43
- Оригинальная фотография: 2328 x 3102 (3,2 Мб)
- Технические характеристики:
- Фотоаппарат: Canon EOS 450D
- Выдержка: 1/125
- Гиперфокальное расстояние: 19,79 m
- Диафрагма: 9,0
- Светочувствительность: 100
- Фокусное расстояние: 50,0 mm (35 mm equivalent: 107,0 mm)
- Полный EXIF
- Adobe
- ColorTransform: YCbCr
- Composite
- Aperture: 9,0
- CircleOfConfusion: 0,014 mm
- FOV: 19,0 deg
- FocalLength35efl: 50,0 mm (35 mm equivalent: 107,0 mm)
- HyperfocalDistance: 19,79 m
- ScaleFactor35efl: 2,1
- ShutterSpeed: 1/125
- ExifIFD
- ApertureValue: 9,0
- ColorSpace: sRGB
- CreateDate: 2009:07:16 19:57:14
- CustomRendered: Normal
- DateTimeOriginal: 2009:07:16 19:57:14
- ExifImageHeight: 3102
- ExifImageWidth: 2328
- ExposureCompensation: 0
- ExposureMode: Manual
- ExposureProgram: Manual
- ExposureTime: 1/125
- FNumber: 9,0
- Flash: Off
- FocalLength: 50,0 mm
- ISO: 100
- MaxApertureValue: 1,4
- MeteringMode: Partial
- SceneCaptureType: Standard
- ShutterSpeedValue: 1/125
- WhiteBalance: Manual
- ICC-header
- ICC-meas
- ICC-view
- IFD0
- Artist: Alexsander Filenkov
- ImageDescription: The slice of a juicy lemon flies up on waters
- Make: Canon
- Model: Canon EOS 450D
- ModifyDate: 2009:07:16 21:37:42
- Orientation: Horizontal (normal)
- IFD1
- IPTC
- By-line: Alexsander Filenkov
- By-lineTitle: Fresh lemon
- Caption-Abstract: The slice of a juicy lemon flies up on waters
- Keywords: lemon, drop, color, food, bubble, water, drink, close-up, splashing, juice, fruit, color, falling, freshness, brightly, nobody, on, liquid, yellow, swirl, speed, spray, lit, motion, refreshment, single, eating, concepts, juicy, wet, summer, citrus
- ObjectName: Fresh lemon
- Writer-Editor: Alexsander Filenkov
- XMP-aux
- Firmware: 1.0.9
- FlashCompensation: 0
- ImageNumber: 0
- Lens: 50mm
- LensInfo: 50/1 50/1 0/0 0/0
- SerialNumber: 540106604
- XMP-crs
- AlreadyApplied: True
- BlueHue: 0
- BlueSaturation: 0
- Brightness: 0
- CameraProfile: ACR 4.4
- ChromaticAberrationB: 0
- ChromaticAberrationR: 0
- Clarity: +23
- ColorNoiseReduction: 25
- Contrast: +51
- ConvertToGrayscale: False
- CropAngle: 0
- CropBottom: 0.933162
- CropLeft: 0.099315
- CropRight: 0.825342
- CropTop: 0.115681
- Defringe: 0
- Exposure: 0.00
- FillLight: 30
- GreenHue: 0
- GreenSaturation: 0
- HasCrop: True
- HasSettings: True
- HighlightRecovery: 30
- HueAdjustmentAqua: 0
- HueAdjustmentBlue: 0
- HueAdjustmentGreen: 0
- HueAdjustmentMagenta: 0
- HueAdjustmentOrange: 0
- HueAdjustmentPurple: 0
- HueAdjustmentRed: 0
- HueAdjustmentYellow: 0
- LuminanceAdjustmentAqua: 0
- LuminanceAdjustmentBlue: 0
- LuminanceAdjustmentGreen: 0
- LuminanceAdjustmentMagenta: 0
- LuminanceAdjustmentOrange: 0
- LuminanceAdjustmentPurple: 0
- LuminanceAdjustmentRed: 0
- LuminanceAdjustmentYellow: 0
- LuminanceSmoothing: 0
- ParametricDarks: 0
- ParametricHighlightSplit: 75
- ParametricHighlights: 0
- ParametricLights: 0
- ParametricMidtoneSplit: 50
- ParametricShadowSplit: 25
- ParametricShadows: 0
- PostCropVignetteAmount: 0
- RawFileName: _MG_1954.CR2
- RedHue: 0
- RedSaturation: 0
- Saturation: 0
- SaturationAdjustmentAqua: 0
- SaturationAdjustmentBlue: 0
- SaturationAdjustmentGreen: 0
- SaturationAdjustmentMagenta: 0
- SaturationAdjustmentOrange: 0
- SaturationAdjustmentPurple: 0
- SaturationAdjustmentRed: 0
- SaturationAdjustmentYellow: 0
- ShadowTint: 0
- Shadows: 25
- SharpenDetail: 25
- SharpenEdgeMasking: 0
- SharpenRadius: +1.0
- Sharpness: 25
- SplitToningBalance: 0
- SplitToningHighlightHue: 0
- SplitToningHighlightSaturation: 0
- SplitToningShadowHue: 0
- SplitToningShadowSaturation: 0
- Temperature: 5050
- Tint: +14
- ToneCurve: 0, 0, 32, 22, 64, 56, 128, 128, 192, 196, 255, 255
- ToneCurveName: Medium Contrast
- Version: 4.5
- Vibrance: -2
- VignetteAmount: 0
- WhiteBalance: As Shot
- XMP-dc
- Creator: Alexsander Filenkov
- Description: The slice of a juicy lemon flies up on waters
- Format: image/jpeg
- Subject: lemon, drop, color, food, bubble, water, drink, close-up, splashing, juice, fruit, color, falling, freshness, brightly, nobody, on, liquid, yellow, swirl, speed, spray, lit, motion, refreshment, single, eating, concepts, juicy, wet, summer, citrus
- Title: Fresh lemon
- XMP-exif
- DateTimeDigitized: 2009:07:16 19:57:14.48+04:00
- DateTimeOriginal: 2009:07:16 19:57:14.48+04:00
- FlashFired: False
- FlashFunction: False
- FlashMode: Off
- FlashRedEyeMode: False
- FlashReturn: No return detection
- XMP-tiff
- XMP-xmp
- CreateDate: 2009:07:16 21:37:42+04:00
- ModifyDate: 2009:07:16 21:37:42+04:00
- Rating: 0
- XMP-xmpMM
- Просмотров: 352
- Рейтинг: голосов еще нет
- Отзывов: 0