- Раздел: Животные
- Дата съёмки: 14.06.2009 15:32
- Дата загрузки фото: 18.07.2009 00:09
- Оригинальная фотография: 600 x 800 (129 Кб)
- Технические характеристики:
- Фотоаппарат: Olympus E-3
- Выдержка: 1/125
- Диафрагма: 3,3
- Светочувствительность: 250
- Фокусное расстояние: 169,0 mm
- Экспокоррекция: +0,3
- Полный EXIF
- Adobe
- ColorTransform: YCbCr
- Composite
- Aperture: 3,3
- FocalLength35efl: 169,0 mm
- ShutterSpeed: 1/125
- ExifIFD
- ApertureValue: 3,3
- CFAPattern: [Red,Green][Green,Blue]
- ColorSpace: sRGB
- Contrast: Normal
- CreateDate: 2009:06:14 15:32:05
- CustomRendered: Normal
- DateTimeOriginal: 2009:06:14 15:32:05
- DigitalZoomRatio: 1
- ExifImageHeight: 800
- ExifImageWidth: 600
- ExposureCompensation: +0,3
- ExposureMode: Manual
- ExposureProgram: Aperture-priority AE
- ExposureTime: 1/125
- FNumber: 3,3
- Flash: On, Did not fire
- FocalLength: 169,0 mm
- GainControl: High gain up
- ISO: 250
- LightSource: Unknown
- MaxApertureValue: 2,8
- MeteringMode: Multi-segment
- Saturation: Normal
- SceneCaptureType: Standard
- Sharpness: Normal
- ShutterSpeedValue: 1/125
- WhiteBalance: Auto
- ICC-header
- ICC-meas
- ICC-view
- IFD0
- BitsPerSample: 8 8 8
- ImageDescription: OLYMPUS DIGITAL CAMERA
- ImageHeight: 3648
- ImageWidth: 2736
- Make: OLYMPUS IMAGING CORP.
- Model: E-3
- ModifyDate: 2009:06:21 01:26:34
- Orientation: Horizontal (normal)
- PhotometricInterpretation: RGB
- PlanarConfiguration: Chunky
- SamplesPerPixel: 3
- IFD1
- IPTC
- Caption-Abstract: OLYMPUS DIGITAL CAMERA
- XMP-aux
- FlashCompensation: 0
- Lens: 50.0-200.0 mm f/2.8-3.5
- LensInfo: 50/1 200/1 28/10 35/10
- LensSerialNumber: 060207416
- SerialNumber: D70514762
- XMP-crs
- AlreadyApplied: True
- BlueHue: 0
- BlueSaturation: 0
- Brightness: +50
- CameraProfile: ACR 4.4
- ChromaticAberrationB: 0
- ChromaticAberrationR: 0
- Clarity: 0
- ColorNoiseReduction: 25
- Contrast: +25
- ConvertToGrayscale: False
- Defringe: 0
- Exposure: -0.10
- FillLight: 0
- GreenHue: 0
- GreenSaturation: 0
- HasCrop: False
- HasSettings: True
- HighlightRecovery: 36
- HueAdjustmentAqua: 0
- HueAdjustmentBlue: 0
- HueAdjustmentGreen: 0
- HueAdjustmentMagenta: 0
- HueAdjustmentOrange: 0
- HueAdjustmentPurple: 0
- HueAdjustmentRed: 0
- HueAdjustmentYellow: 0
- LuminanceAdjustmentAqua: 0
- LuminanceAdjustmentBlue: 0
- LuminanceAdjustmentGreen: 0
- LuminanceAdjustmentMagenta: 0
- LuminanceAdjustmentOrange: 0
- LuminanceAdjustmentPurple: 0
- LuminanceAdjustmentRed: 0
- LuminanceAdjustmentYellow: 0
- LuminanceSmoothing: 0
- ParametricDarks: 0
- ParametricHighlightSplit: 75
- ParametricHighlights: 0
- ParametricLights: 0
- ParametricMidtoneSplit: 50
- ParametricShadowSplit: 25
- ParametricShadows: 0
- PostCropVignetteAmount: 0
- RawFileName: AK144231.ORF
- RedHue: 0
- RedSaturation: 0
- Saturation: 0
- SaturationAdjustmentAqua: 0
- SaturationAdjustmentBlue: 0
- SaturationAdjustmentGreen: 0
- SaturationAdjustmentMagenta: 0
- SaturationAdjustmentOrange: 0
- SaturationAdjustmentPurple: 0
- SaturationAdjustmentRed: 0
- SaturationAdjustmentYellow: 0
- ShadowTint: 0
- Shadows: 6
- SharpenDetail: 37
- SharpenEdgeMasking: 0
- SharpenRadius: +1.0
- Sharpness: 25
- SplitToningBalance: 0
- SplitToningHighlightHue: 0
- SplitToningHighlightSaturation: 0
- SplitToningShadowHue: 0
- SplitToningShadowSaturation: 0
- Temperature: 5550
- Tint: +2
- ToneCurve: 0, 0, 7, 4, 50, 29, 78, 76, 107, 130, 140, 173, 192, 210, 235, 238, 255, 255
- ToneCurveName: Custom
- Version: 5.0
- Vibrance: 0
- VignetteAmount: 0
- WhiteBalance: Custom
- XMP-dc
- Description: OLYMPUS DIGITAL CAMERA
- Format: image/jpeg
- XMP-exif
- DateTimeDigitized: 2009:06:14 15:32:05+04:00
- DateTimeOriginal: 2009:06:14 15:32:05+04:00
- FlashFired: False
- FlashFunction: False
- FlashMode: On
- FlashRedEyeMode: False
- FlashReturn: No return detection
- XMP-tiff
- BitsPerSample: 8, 8, 8
- XMP-xmp
- CreateDate: 2009:06:14 15:32:05+04:00
- ModifyDate: 2009:06:21 01:26:34+04:00
- Rating: 0
- XMP-xmpMM