- Раздел: Автомобили
- Дата съёмки: 17.07.2009 18:59
- Дата загрузки фото: 20.07.2009 19:11
- Оригинальная фотография: 1280 x 853 (611 Кб)
- Технические характеристики:
- Фотоаппарат: Canon EOS 5D
- Выдержка: 1/800
- Гиперфокальное расстояние: 48,19 m
- Диафрагма: 5,0
- Светочувствительность: 640
- Фокусное расстояние: 85,0 mm (35 mm equivalent: 85,2 mm)
- Экспокоррекция: +1/3
- Полный EXIF
- Composite
- Aperture: 5,0
- CircleOfConfusion: 0,030 mm
- FOV: 23,0 deg
- FocalLength35efl: 85,0 mm (35 mm equivalent: 85,2 mm)
- HyperfocalDistance: 48,19 m
- ScaleFactor35efl: 1,0
- ShutterSpeed: 1/800
- ExifIFD
- ApertureValue: 5,0
- CreateDate: 2009:07:17 18:59:50
- CustomRendered: Normal
- DateTimeOriginal: 2009:07:17 18:59:50
- ExifImageHeight: 853
- ExifImageWidth: 1280
- ExposureCompensation: +1/3
- ExposureMode: Auto
- ExposureProgram: Aperture-priority AE
- ExposureTime: 1/800
- FNumber: 5,0
- Flash: Off
- FocalLength: 85,0 mm
- ISO: 640
- MaxApertureValue: 4,0
- MeteringMode: Unknown
- SceneCaptureType: Standard
- ShutterSpeedValue: 1/800
- WhiteBalance: Manual
- ICC-header
- ICC-meas
- ICC-view
- IFD0
- Make: Canon
- Model: Canon EOS 5D
- ModifyDate: 2009:07:20 16:46:56
- Orientation: Horizontal (normal)
- Software: ACD Systems Digital Imaging
- XMP-aux
- Firmware: 1.1.1
- FlashCompensation: 0
- ImageNumber: 35
- Lens: EF70-200mm f/4L IS USM
- LensInfo: 70/1 200/1 0/0 0/0
- SerialNumber: 3131307142
- XMP-crs
- AlreadyApplied: True
- BlueHue: 0
- BlueSaturation: 0
- Brightness: +50
- CameraProfile: ACR 4.4
- ChromaticAberrationB: 0
- ChromaticAberrationR: 0
- Clarity: 0
- ColorNoiseReduction: 25
- Contrast: +25
- ConvertToGrayscale: False
- Defringe: 0
- Exposure: 0.00
- FillLight: 0
- GradientBasedCorrectionsCorrectionActive: true
- GradientBasedCorrectionsCorrectionAmount: 1.000000
- GradientBasedCorrectionsCorrectionMasksFullX: 0.532099
- GradientBasedCorrectionsCorrectionMasksFullY: -0.016667
- GradientBasedCorrectionsCorrectionMasksMaskValue: 1.000000
- GradientBasedCorrectionsCorrectionMasksWhat: Mask/Gradient
- GradientBasedCorrectionsCorrectionMasksZeroX: 0.546547
- GradientBasedCorrectionsCorrectionMasksZeroY: 0.500769
- GradientBasedCorrectionsLocalBrightness: 0.000000
- GradientBasedCorrectionsLocalClarity: 0.000000
- GradientBasedCorrectionsLocalContrast: 0.000000
- GradientBasedCorrectionsLocalExposure: -0.438000
- GradientBasedCorrectionsLocalSaturation: 0.000000
- GradientBasedCorrectionsLocalSharpness: 0.000000
- GradientBasedCorrectionsLocalToningHue: 230.000000
- GradientBasedCorrectionsLocalToningSaturation: 0.000000
- GradientBasedCorrectionsWhat: Correction
- GreenHue: 0
- GreenSaturation: 0
- HasCrop: False
- HasSettings: True
- HighlightRecovery: 13
- HueAdjustmentAqua: 0
- HueAdjustmentBlue: 0
- HueAdjustmentGreen: 0
- HueAdjustmentMagenta: 0
- HueAdjustmentOrange: 0
- HueAdjustmentPurple: 0
- HueAdjustmentRed: 0
- HueAdjustmentYellow: 0
- LuminanceAdjustmentAqua: 0
- LuminanceAdjustmentBlue: 0
- LuminanceAdjustmentGreen: 0
- LuminanceAdjustmentMagenta: 0
- LuminanceAdjustmentOrange: 0
- LuminanceAdjustmentPurple: 0
- LuminanceAdjustmentRed: 0
- LuminanceAdjustmentYellow: 0
- LuminanceSmoothing: 0
- ParametricDarks: 0
- ParametricHighlightSplit: 75
- ParametricHighlights: +7
- ParametricLights: +7
- ParametricMidtoneSplit: 50
- ParametricShadowSplit: 25
- ParametricShadows: 0
- PostCropVignetteAmount: 0
- RedHue: 0
- RedSaturation: 0
- Saturation: 0
- SaturationAdjustmentAqua: 0
- SaturationAdjustmentBlue: 0
- SaturationAdjustmentGreen: 0
- SaturationAdjustmentMagenta: 0
- SaturationAdjustmentOrange: 0
- SaturationAdjustmentPurple: 0
- SaturationAdjustmentRed: 0
- SaturationAdjustmentYellow: 0
- ShadowTint: 0
- Shadows: 5
- SharpenDetail: 25
- SharpenEdgeMasking: 0
- SharpenRadius: +1.0
- Sharpness: 25
- SplitToningBalance: 0
- SplitToningHighlightHue: 0
- SplitToningHighlightSaturation: 0
- SplitToningShadowHue: 0
- SplitToningShadowSaturation: 0
- Temperature: 4950
- Tint: +4
- ToneCurve: 0, 0, 32, 22, 64, 56, 128, 128, 192, 196, 255, 255
- ToneCurveName: Medium Contrast
- Version: 4.5
- Vibrance: +82
- VignetteAmount: 0
- WhiteBalance: As Shot
- XMP-exif
- DateTimeDigitized: 2009:07:17 18:59:50+04:00
- DateTimeOriginal: 2009:07:17 18:59:50+04:00
- ExifImageHeight: 2912
- ExifImageWidth: 4368
- FlashFired: False
- FlashFunction: False
- FlashMode: Off
- FlashRedEyeMode: False
- FlashReturn: No return detection
- XMP-tiff
- ImageHeight: 2912
- ImageWidth: 4368
- XMP-xmp
- CreateDate: 2009:07:17 18:59:50+04:00
- ModifyDate: 2009:07:20 15:26:23+04:00
- Просмотров: 178
- Рейтинг: голосов еще нет
- Отзывов: 0