Уважаемые друзья и участники проекта iXBT.photo! К сожалению, 1 марта 2026 года проект iXBT.photo прекратит свою работу и будет закрыт. Мы высоко ценим ваше участие и тот вклад, который вы внесли в развитие нашего сообщества. Пожалуйста, не забудьте сохранить ваши фотографии до этой даты.
С уважением, команда iXBT.com
| DSC_8020.jpg |
DSC_8020.jpg
- Раздел: Репортаж
- Дата съёмки: 19.07.2009 22:31
- Дата загрузки фото: 23.07.2009 15:46
- Оригинальная фотография: 900 x 598 (212 Кб)
- Технические характеристики:
- Фотоаппарат: Nikon D300
- Выдержка: 1/125
- Гиперфокальное расстояние: 59,97 m
- Диафрагма: 3,2
- Светочувствительность: 1250
- Фокусное расстояние: 62,0 mm (35 mm equivalent: 93,0 mm)
- Полный EXIF
- Adobe
- ColorTransform: YCbCr
- Composite
- Aperture: 3,2
- CircleOfConfusion: 0,020 mm
- FOV: 21,0 deg
- FocalLength35efl: 62,0 mm (35 mm equivalent: 93,0 mm)
- HyperfocalDistance: 59,97 m
- ScaleFactor35efl: 1,5
- ShutterSpeed: 1/125
- ExifIFD
- ApertureValue: 3,2
- CFAPattern: [Red,Green][Green,Blue]
- Contrast: Normal
- CreateDate: 2009:07:19 22:31:06
- CustomRendered: Normal
- DateTimeOriginal: 2009:07:19 22:31:06
- DigitalZoomRatio: 1
- ExposureCompensation: 0
- ExposureMode: Auto
- ExposureProgram: Aperture-priority AE
- ExposureTime: 1/125
- FNumber: 3,2
- Flash: No Flash
- FocalLength: 62,0 mm
- FocalLengthIn35mmFormat: 93 mm
- GainControl: High gain up
- ISO: 1250
- LightSource: Unknown
- MaxApertureValue: 2,8
- MeteringMode: Multi-segment
- Saturation: Normal
- SceneCaptureType: Standard
- SceneType: Directly photographed
- SensingMethod: One-chip color area
- Sharpness: Normal
- ShutterSpeedValue: 1/125
- SubjectDistanceRange: Unknown
- WhiteBalance: Auto
- ICC-header
- ICC-meas
- ICC-view
- IFD0
- Make: NIKON CORPORATION
- Model: NIKON D300
- ModifyDate: 2009:07:23 01:39:48
- Software: Ver.1.10
- XMP-aux
- ImageNumber: 8343
- Lens: 28.0-75.0 mm f/2.8
- LensInfo: 280/10 750/10 28/10 28/10
- SerialNumber: 3158671
- XMP-crs
- AlreadyApplied: True
- BlueHue: 0
- BlueSaturation: 0
- Brightness: 0
- CameraProfile: Embedded
- ChromaticAberrationB: 0
- ChromaticAberrationR: 0
- Clarity: +100
- ColorNoiseReduction: 0
- Contrast: +20
- ConvertToGrayscale: False
- Defringe: 0
- Exposure: 0.00
- FillLight: 65
- GreenHue: 0
- GreenSaturation: 0
- HasCrop: False
- HasSettings: True
- HighlightRecovery: 65
- HueAdjustmentAqua: 0
- HueAdjustmentBlue: 0
- HueAdjustmentGreen: 0
- HueAdjustmentMagenta: 0
- HueAdjustmentOrange: 0
- HueAdjustmentPurple: 0
- HueAdjustmentRed: 0
- HueAdjustmentYellow: 0
- IncrementalTemperature: 0
- IncrementalTint: 0
- LuminanceAdjustmentAqua: 0
- LuminanceAdjustmentBlue: 0
- LuminanceAdjustmentGreen: 0
- LuminanceAdjustmentMagenta: 0
- LuminanceAdjustmentOrange: 0
- LuminanceAdjustmentPurple: 0
- LuminanceAdjustmentRed: 0
- LuminanceAdjustmentYellow: 0
- LuminanceSmoothing: 0
- ParametricDarks: -8
- ParametricHighlightSplit: 75
- ParametricHighlights: +39
- ParametricLights: 0
- ParametricMidtoneSplit: 50
- ParametricShadowSplit: 25
- ParametricShadows: -28
- PostCropVignetteAmount: 0
- RedHue: 0
- RedSaturation: 0
- Saturation: -50
- SaturationAdjustmentAqua: -100
- SaturationAdjustmentBlue: -100
- SaturationAdjustmentGreen: -100
- SaturationAdjustmentMagenta: -100
- SaturationAdjustmentOrange: -45
- SaturationAdjustmentPurple: -100
- SaturationAdjustmentRed: +25
- SaturationAdjustmentYellow: -100
- ShadowTint: 0
- Shadows: 9
- SharpenDetail: 25
- SharpenEdgeMasking: 0
- SharpenRadius: +1.0
- Sharpness: 0
- SplitToningBalance: -85
- SplitToningHighlightHue: 0
- SplitToningHighlightSaturation: 24
- SplitToningShadowHue: 54
- SplitToningShadowSaturation: 24
- ToneCurve: 0, 0, 255, 255
- ToneCurveName: Linear
- Version: 5.2
- Vibrance: 0
- VignetteAmount: -100
- VignetteMidpoint: 33
- WhiteBalance: As Shot
- XMP-dc
- XMP-exif
- ColorSpace: Uncalibrated
- DateTimeDigitized: 2009:07:19 22:31:06.32+04:00
- DateTimeOriginal: 2009:07:19 22:31:06.32+04:00
- ExifImageHeight: 598
- ExifImageWidth: 900
- FlashFired: False
- FlashFunction: False
- FlashMode: Unknown
- FlashRedEyeMode: False
- FlashReturn: No return detection
- XMP-tiff
- ImageHeight: 598
- ImageWidth: 900
- XMP-xmp
- CreateDate: 2009:07:19 22:31:06.32+04:00
- ModifyDate: 2009:07:23 01:39:48+04:00
- XMP-xmpMM
- Просмотров: 143
- Рейтинг: голосов еще нет
- Отзывов: отключены
Получить код для блога
| Вставка фотографии в текущем разрешении |
Вставка миниатюры |
HTML (для вставки в блог):
BBCode (для вставки в форум):
Ссылка на фото:
Ссылка на миниатюру:
- Послать ссылку другу
| Комментарии к фотографии |