- Раздел: Другое, разное
- Дата съёмки: 24.07.2009 21:03
- Дата загрузки фото: 24.07.2009 21:08
- Оригинальная фотография: 2000 x 1854 (398 Кб)
- Технические характеристики:
- Фотоаппарат: Samsung GX20
- Выдержка: 1/320
- Светочувствительность: 320
- Фокусное расстояние: 50,0 mm (35 mm equivalent: 75,0 mm)
- Полный EXIF
- Adobe
- ColorTransform: YCbCr
- Composite
- CircleOfConfusion: 0,020 mm
- FOV: 26,0 deg
- FocalLength35efl: 50,0 mm (35 mm equivalent: 75,0 mm)
- ScaleFactor35efl: 1,5
- ShutterSpeed: 1/320
- ExifIFD
- ColorSpace: Uncalibrated
- Contrast: High
- CreateDate: 2009:05:26 17:33:10
- CustomRendered: Normal
- DateTimeOriginal: 2009:05:26 17:33:10
- ExifImageHeight: 1854
- ExifImageWidth: 2000
- ExposureCompensation: 0
- ExposureMode: Auto
- ExposureProgram: Aperture-priority AE
- ExposureTime: 1/320
- Flash: Off
- FocalLength: 50,0 mm
- FocalLengthIn35mmFormat: 75 mm
- ISO: 320
- MeteringMode: Center-weighted average
- Saturation: Normal
- SceneCaptureType: Standard
- SceneType: Directly photographed
- SensingMethod: One-chip color area
- Sharpness: Hard
- ShutterSpeedValue: 1/320
- SubjectDistanceRange: Distant
- WhiteBalance: Auto
- IFD0
- Make: SAMSUNG TECHWIN Co.
- Model: SAMSUNG GX20
- ModifyDate: 2009:07:24 21:03:19
- Orientation: Horizontal (normal)
- IFD1
- IPTC
- XMP-aux
- Lens: K or M Lens
- LensID: 1 0
- XMP-crs
- AlreadyApplied: True
- BlueHue: 0
- BlueSaturation: 0
- Brightness: 0
- CameraProfile: Embedded
- ChromaticAberrationB: 0
- ChromaticAberrationR: 0
- Clarity: 0
- ColorNoiseReduction: 0
- Contrast: +5
- ConvertToGrayscale: False
- Defringe: 0
- Exposure: 0.00
- FillLight: 5
- GreenHue: 0
- GreenSaturation: 0
- HasCrop: False
- HasSettings: True
- HighlightRecovery: 5
- HueAdjustmentAqua: 0
- HueAdjustmentBlue: 0
- HueAdjustmentGreen: 0
- HueAdjustmentMagenta: 0
- HueAdjustmentOrange: 0
- HueAdjustmentPurple: 0
- HueAdjustmentRed: 0
- HueAdjustmentYellow: 0
- IncrementalTemperature: 0
- IncrementalTint: 0
- LuminanceAdjustmentAqua: 0
- LuminanceAdjustmentBlue: +10
- LuminanceAdjustmentGreen: -7
- LuminanceAdjustmentMagenta: 0
- LuminanceAdjustmentOrange: -7
- LuminanceAdjustmentPurple: 0
- LuminanceAdjustmentRed: -33
- LuminanceAdjustmentYellow: -33
- LuminanceSmoothing: 0
- ParametricDarks: 0
- ParametricHighlightSplit: 75
- ParametricHighlights: 0
- ParametricLights: 0
- ParametricMidtoneSplit: 50
- ParametricShadowSplit: 25
- ParametricShadows: 0
- PostCropVignetteAmount: 0
- RedHue: 0
- RedSaturation: 0
- Saturation: 0
- SaturationAdjustmentAqua: 0
- SaturationAdjustmentBlue: 0
- SaturationAdjustmentGreen: +19
- SaturationAdjustmentMagenta: 0
- SaturationAdjustmentOrange: +48
- SaturationAdjustmentPurple: 0
- SaturationAdjustmentRed: +26
- SaturationAdjustmentYellow: +40
- ShadowTint: 0
- Shadows: 1
- SharpenDetail: 25
- SharpenEdgeMasking: 0
- SharpenRadius: +1.0
- Sharpness: 0
- SplitToningBalance: 0
- SplitToningHighlightHue: 0
- SplitToningHighlightSaturation: 0
- SplitToningShadowHue: 0
- SplitToningShadowSaturation: 0
- ToneCurve: 0, 0, 255, 255
- ToneCurveName: Linear
- Version: 5.3
- Vibrance: 0
- VignetteAmount: 0
- WhiteBalance: As Shot
- XMP-dc
- XMP-exif
- DateTimeDigitized: 2009:05:26 17:33:10+04:00
- DateTimeOriginal: 2009:05:26 17:33:10+04:00
- FlashFired: False
- FlashFunction: False
- FlashMode: Off
- FlashRedEyeMode: False
- FlashReturn: No return detection
- XMP-tiff
- ImageHeight: 3104
- ImageWidth: 4672
- XMP-xmp
- CreateDate: 2009:07:24 21:03:19+04:00
- ModifyDate: 2009:07:24 21:03:19+04:00
- XMP-xmpMM
- Просмотров: 305
- Рейтинг: голосов еще нет
- Отзывов: 0