» Участники » drunk_pencil » ДИТЯ » _MG_5430 from RAW.JPG |
_MG_5430 from RAW.JPG |
_MG_5430 from RAW.JPG
- Раздел: Портрет
- Дата съёмки: 26.07.2009 18:38
- Дата загрузки фото: 12.08.2009 03:28
- Оригинальная фотография: 3888 x 2592 (2,1 Мб)
- Технические характеристики:
- Фотоаппарат: Canon EOS 400D DIGITAL
- Выдержка: 1/320
- Гиперфокальное расстояние: 350,59 m
- Диафрагма: 2,8
- Светочувствительность: 100
- Фокусное расстояние: 135,0 mm (35 mm equivalent: 218,5 mm)
- Полный EXIF
- Adobe
- ColorTransform: YCbCr
- Composite
- Aperture: 2,8
- CircleOfConfusion: 0,019 mm
- FOV: 9,0 deg
- FocalLength35efl: 135,0 mm (35 mm equivalent: 218,5 mm)
- HyperfocalDistance: 350,59 m
- ScaleFactor35efl: 1,6
- ShutterSpeed: 1/320
- ExifIFD
- ApertureValue: 2,8
- CreateDate: 2009:07:26 18:38:03
- CustomRendered: Normal
- DateTimeOriginal: 2009:07:26 18:38:03
- ExposureCompensation: 0
- ExposureMode: Auto
- ExposureProgram: Aperture-priority AE
- ExposureTime: 1/320
- FNumber: 2,8
- Flash: Off
- FocalLength: 135,0 mm
- ISO: 100
- MaxApertureValue: 2,8
- MeteringMode: Average
- SceneCaptureType: Standard
- ShutterSpeedValue: 1/320
- WhiteBalance: Manual
- ICC-header
- IFD0
- Artist: unknown
- Make: Canon
- Model: Canon EOS 400D DIGITAL
- ModifyDate: 2009:07:26 22:12:46
- IPTC
- By-line: unknown
- XMP-aux
- Firmware: 1.1.1
- FlashCompensation: 0
- ImageNumber: 96
- Lens: EF135mm f/2.8 (with Softfocus)
- LensInfo: 135/1 135/1 0/0 0/0
- OwnerName: unknown
- SerialNumber: 1681158349
- XMP-crs
- AlreadyApplied: True
- BlueHue: 0
- BlueSaturation: 0
- Brightness: 0
- CameraProfile: ACR 4.4
- ChromaticAberrationB: 0
- ChromaticAberrationR: 0
- Clarity: 0
- ColorNoiseReduction: 100
- Contrast: 0
- ConvertToGrayscale: False
- Defringe: 0
- Exposure: +0.95
- FillLight: 0
- GreenHue: 0
- GreenSaturation: 0
- HasCrop: False
- HasSettings: True
- HighlightRecovery: 34
- HueAdjustmentAqua: 0
- HueAdjustmentBlue: 0
- HueAdjustmentGreen: 0
- HueAdjustmentMagenta: 0
- HueAdjustmentOrange: 0
- HueAdjustmentPurple: 0
- HueAdjustmentRed: 0
- HueAdjustmentYellow: 0
- LuminanceAdjustmentAqua: 0
- LuminanceAdjustmentBlue: 0
- LuminanceAdjustmentGreen: 0
- LuminanceAdjustmentMagenta: 0
- LuminanceAdjustmentOrange: 0
- LuminanceAdjustmentPurple: 0
- LuminanceAdjustmentRed: 0
- LuminanceAdjustmentYellow: 0
- LuminanceSmoothing: 100
- ParametricDarks: 0
- ParametricHighlightSplit: 75
- ParametricHighlights: 0
- ParametricLights: 0
- ParametricMidtoneSplit: 50
- ParametricShadowSplit: 25
- ParametricShadows: 0
- PostCropVignetteAmount: 0
- RawFileName: _MG_5430.CR2
- RedHue: 0
- RedSaturation: 0
- Saturation: 0
- SaturationAdjustmentAqua: 0
- SaturationAdjustmentBlue: 0
- SaturationAdjustmentGreen: 0
- SaturationAdjustmentMagenta: 0
- SaturationAdjustmentOrange: 0
- SaturationAdjustmentPurple: 0
- SaturationAdjustmentRed: 0
- SaturationAdjustmentYellow: 0
- ShadowTint: 0
- Shadows: 4
- SharpenDetail: 0
- SharpenEdgeMasking: 0
- SharpenRadius: +3.0
- Sharpness: 0
- SplitToningBalance: 0
- SplitToningHighlightHue: 0
- SplitToningHighlightSaturation: 0
- SplitToningShadowHue: 0
- SplitToningShadowSaturation: 0
- Temperature: 4150
- Tint: 0
- ToneCurve: 0, 0, 255, 255
- ToneCurveName: Linear
- Version: 4.6
- Vibrance: 0
- VignetteAmount: 0
- WhiteBalance: Custom
- XMP-dc
- XMP-exif
- DateTimeDigitized: 2009:07:26 18:38:03+04:00
- DateTimeOriginal: 2009:07:26 18:38:03+04:00
- ExifImageHeight: 2592
- ExifImageWidth: 3888
- FlashFired: False
- FlashFunction: False
- FlashMode: Off
- FlashRedEyeMode: False
- FlashReturn: No return detection
- XMP-tiff
- ImageHeight: 2592
- ImageWidth: 3888
- XMP-xmp
- CreateDate: 2009:07:26 18:38:03+04:00
- ModifyDate: 2009:07:26 22:12:46+04:00
- Просмотров: 236
- Рейтинг: голосов еще нет
- Отзывов: 0
Получить код для блога
Вставка фотографии в текущем разрешении |
Вставка миниатюры |
HTML (для вставки в блог):
BBCode (для вставки в форум):
Ссылка на фото:
Ссылка на миниатюру:
- Послать ссылку другу
Комментарии к фотографии |