- Раздел: Пейзаж
- Дата съёмки: 15.08.2009 16:06
- Дата загрузки фото: 18.08.2009 15:06
- Оригинальная фотография: 3488 x 2616 (5,6 Мб)
- Технические характеристики:
- Фотоаппарат: FujiFilm FinePix S9600
- Выдержка: 1/160
- Гиперфокальное расстояние: 0,52 m
- Диафрагма: 11,0
- Светочувствительность: 80
- Фокусное расстояние: 6,2 mm (35 mm equivalent: 27,6 mm)
- Полный EXIF
- Adobe
- ColorTransform: YCbCr
- Composite
- Aperture: 11,0
- CircleOfConfusion: 0,007 mm
- FOV: 66,0 deg
- FocalLength35efl: 6,2 mm (35 mm equivalent: 27,6 mm)
- HyperfocalDistance: 0,52 m
- ScaleFactor35efl: 4,4
- ShutterSpeed: 1/160
- ExifIFD
- ApertureValue: 11,0
- BrightnessValue: 9,99
- Contrast: Normal
- CreateDate: 2009:08:15 16:06:02
- CustomRendered: Custom
- DateTimeOriginal: 2009:08:15 16:06:02
- ExposureCompensation: 0
- ExposureMode: Manual
- ExposureProgram: Manual
- ExposureTime: 1/160
- FNumber: 11,0
- Flash: Off
- FocalLength: 6,2 mm
- ISO: 80
- LightSource: Unknown
- MaxApertureValue: 2,8
- MeteringMode: Multi-segment
- Saturation: Normal
- SceneCaptureType: Standard
- SceneType: Directly photographed
- SensingMethod: One-chip color area
- Sharpness: Normal
- ShutterSpeedValue: 1/160
- SubjectDistanceRange: Distant
- WhiteBalance: Auto
- ICC-header
- ICC-meas
- ICC-view
- IFD0
- Make: FUJIFILM
- Model: FinePix S9600
- ModifyDate: 2009:08:16 13:43:03
- Software: Digital Camera FinePix S9600 Ver1.00
- IFD1
- XMP-crs
- AlreadyApplied: True
- BlueHue: 0
- BlueSaturation: 0
- Brightness: 0
- CameraProfile: Embedded
- ChromaticAberrationB: 0
- ChromaticAberrationR: 0
- Clarity: +100
- ColorNoiseReduction: 0
- Contrast: +73
- ConvertToGrayscale: False
- Defringe: 0
- Exposure: +0.05
- FillLight: 0
- GreenHue: 0
- GreenSaturation: 0
- HasCrop: False
- HasSettings: True
- HighlightRecovery: 100
- HueAdjustmentAqua: 0
- HueAdjustmentBlue: 0
- HueAdjustmentGreen: 0
- HueAdjustmentMagenta: 0
- HueAdjustmentOrange: 0
- HueAdjustmentPurple: 0
- HueAdjustmentRed: 0
- HueAdjustmentYellow: 0
- IncrementalTemperature: 0
- IncrementalTint: 0
- LuminanceAdjustmentAqua: 0
- LuminanceAdjustmentBlue: 0
- LuminanceAdjustmentGreen: 0
- LuminanceAdjustmentMagenta: 0
- LuminanceAdjustmentOrange: 0
- LuminanceAdjustmentPurple: 0
- LuminanceAdjustmentRed: 0
- LuminanceAdjustmentYellow: 0
- LuminanceSmoothing: 0
- ParametricDarks: 0
- ParametricHighlightSplit: 75
- ParametricHighlights: 0
- ParametricLights: 0
- ParametricMidtoneSplit: 50
- ParametricShadowSplit: 25
- ParametricShadows: 0
- PostCropVignetteAmount: 0
- RedHue: 0
- RedSaturation: 0
- Saturation: 0
- SaturationAdjustmentAqua: 0
- SaturationAdjustmentBlue: 0
- SaturationAdjustmentGreen: 0
- SaturationAdjustmentMagenta: 0
- SaturationAdjustmentOrange: 0
- SaturationAdjustmentPurple: 0
- SaturationAdjustmentRed: 0
- SaturationAdjustmentYellow: 0
- ShadowTint: 0
- Shadows: 1
- SharpenDetail: 25
- SharpenEdgeMasking: 0
- SharpenRadius: +1.0
- Sharpness: 0
- SplitToningBalance: 0
- SplitToningHighlightHue: 0
- SplitToningHighlightSaturation: 0
- SplitToningShadowHue: 0
- SplitToningShadowSaturation: 0
- ToneCurve: 0, 0, 255, 255
- ToneCurveName: Linear
- Version: 5.4
- Vibrance: +19
- VignetteAmount: 0
- WhiteBalance: Custom
- XMP-exif
- DateTimeDigitized: 2009:08:15 16:06:02+04:00
- DateTimeOriginal: 2009:08:15 16:06:02+04:00
- ExifImageHeight: 2616
- ExifImageWidth: 3488
- FlashFired: False
- FlashFunction: False
- FlashMode: Off
- FlashRedEyeMode: False
- FlashReturn: No return detection
- XMP-tiff
- ImageHeight: 2616
- ImageWidth: 3488
- XMP-xmp
- CreateDate: 2009:08:15 16:06:02+04:00
- ModifyDate: 2009:08:16 13:43:03+04:00
- Просмотров: 360
- Рейтинг: голосов еще нет
- Отзывов: 0