Уважаемые друзья и участники проекта iXBT.photo! К сожалению, 1 марта 2026 года проект iXBT.photo прекратит свою работу и будет закрыт. Мы высоко ценим ваше участие и тот вклад, который вы внесли в развитие нашего сообщества. Пожалуйста, не забудьте сохранить ваши фотографии до этой даты.
С уважением, команда iXBT.com
| IMG_2794.jpg |
IMG_2794.jpg
- Раздел: Город
- Дата съёмки: 26.08.2009 22:06
- Дата загрузки фото: 27.08.2009 14:21
- Оригинальная фотография: 1600 x 999 (333 Кб)
- Технические характеристики:
- Фотоаппарат: Canon EOS 500D
- Выдержка: 0,5
- Гиперфокальное расстояние: 12,96 m
- Диафрагма: 4,0
- Светочувствительность: 320
- Фокусное расстояние: 18,0 mm (35 mm equivalent: 86,5 mm)
- Полный EXIF
- Adobe
- ColorTransform: YCbCr
- Composite
- Aperture: 4,0
- CircleOfConfusion: 0,006 mm
- FOV: 23,0 deg
- FocalLength35efl: 18,0 mm (35 mm equivalent: 86,5 mm)
- HyperfocalDistance: 12,96 m
- ScaleFactor35efl: 4,8
- ShutterSpeed: 0,5
- ExifIFD
- ApertureValue: 4,0
- ColorSpace: Uncalibrated
- CreateDate: 2009:08:26 22:06:28
- CustomRendered: Normal
- DateTimeOriginal: 2009:08:26 22:06:28
- ExifImageHeight: 999
- ExifImageWidth: 1600
- ExposureCompensation: 0
- ExposureMode: Auto
- ExposureProgram: Shutter speed priority AE
- ExposureTime: 0,5
- FNumber: 4,0
- Flash: Off
- FocalLength: 18,0 mm
- ISO: 320
- MaxApertureValue: 3,5
- MeteringMode: Multi-segment
- SceneCaptureType: Standard
- ShutterSpeedValue: 0,5
- WhiteBalance: Auto
- ICC-header
- IFD0
- Artist: Photographer: Tim
- Copyright: Copyright (C) 2009 Tim. All Rights Reserverd.
- Make: Canon
- Model: Canon EOS 500D
- ModifyDate: 2009:08:27 11:51:25
- Orientation: Horizontal (normal)
- IFD1
- IPTC
- By-line: Photographer: Tim
- CopyrightNotice: Copyright (C) 2009 Tim. All Rights Reserverd.
- XMP-aux
- Firmware: 1.0.9
- FlashCompensation: 0
- ImageNumber: 0
- Lens: EF-S18-55mm f/3.5-5.6 IS
- LensInfo: 18/1 55/1 0/0 0/0
- OwnerName: Tim
- SerialNumber: 430125675
- XMP-crs
- AlreadyApplied: True
- BlueHue: 0
- BlueSaturation: 0
- Brightness: +50
- ChromaticAberrationB: 0
- ChromaticAberrationR: 0
- Clarity: 0
- ColorNoiseReduction: 25
- Contrast: +25
- ConvertToGrayscale: False
- Defringe: 0
- Exposure: 0.00
- FillLight: 0
- GreenHue: 0
- GreenSaturation: 0
- HasCrop: False
- HasSettings: True
- HighlightRecovery: 62
- HueAdjustmentAqua: 0
- HueAdjustmentBlue: 0
- HueAdjustmentGreen: 0
- HueAdjustmentMagenta: 0
- HueAdjustmentOrange: 0
- HueAdjustmentPurple: 0
- HueAdjustmentRed: 0
- HueAdjustmentYellow: 0
- LuminanceAdjustmentAqua: 0
- LuminanceAdjustmentBlue: 0
- LuminanceAdjustmentGreen: 0
- LuminanceAdjustmentMagenta: 0
- LuminanceAdjustmentOrange: 0
- LuminanceAdjustmentPurple: 0
- LuminanceAdjustmentRed: 0
- LuminanceAdjustmentYellow: 0
- LuminanceSmoothing: 0
- ParametricDarks: 0
- ParametricHighlightSplit: 75
- ParametricHighlights: 0
- ParametricLights: 0
- ParametricMidtoneSplit: 50
- ParametricShadowSplit: 25
- ParametricShadows: 0
- PostCropVignetteAmount: 0
- RawFileName: IMG_2794.CR2
- RedHue: 0
- RedSaturation: 0
- Saturation: 0
- SaturationAdjustmentAqua: 0
- SaturationAdjustmentBlue: 0
- SaturationAdjustmentGreen: 0
- SaturationAdjustmentMagenta: 0
- SaturationAdjustmentOrange: 0
- SaturationAdjustmentPurple: 0
- SaturationAdjustmentRed: 0
- SaturationAdjustmentYellow: 0
- ShadowTint: 0
- Shadows: 5
- SharpenDetail: 25
- SharpenEdgeMasking: 0
- SharpenRadius: +1.0
- Sharpness: 25
- SplitToningBalance: 0
- SplitToningHighlightHue: 0
- SplitToningHighlightSaturation: 0
- SplitToningShadowHue: 0
- SplitToningShadowSaturation: 0
- Temperature: 2850
- Tint: 0
- ToneCurve: 0, 0, 32, 22, 64, 56, 128, 128, 192, 196, 255, 255
- ToneCurveName: Medium Contrast
- Version: 5.4
- Vibrance: 0
- VignetteAmount: 0
- WhiteBalance: Tungsten
- XMP-dc
- Creator: Photographer: Tim
- Format: image/jpeg
- Rights: Copyright (C) 2009 Tim. All Rights Reserverd.
- XMP-exif
- DateTimeDigitized: 2009:08:26 22:06:28.25+03:00
- DateTimeOriginal: 2009:08:26 22:06:28.25+03:00
- FlashFired: False
- FlashFunction: False
- FlashMode: Off
- FlashRedEyeMode: False
- FlashReturn: No return detection
- XMP-tiff
- XMP-xmp
- CreateDate: 2009:08:26 22:06:28.25+03:00
- ModifyDate: 2009:08:27 11:51:25+03:00
- Rating: 0
- XMP-xmpMM
- Просмотров: 496
- Рейтинг: голосов еще нет
- Отзывов: 1
Получить код для блога
| Вставка фотографии в текущем разрешении |
Вставка миниатюры |
HTML (для вставки в блог):
BBCode (для вставки в форум):
Ссылка на фото:
Ссылка на миниатюру:
- Послать ссылку другу
| Комментарии к фотографии |