Уважаемые друзья и участники проекта iXBT.photo! К сожалению, 1 марта 2026 года проект iXBT.photo прекратит свою работу и будет закрыт. Мы высоко ценим ваше участие и тот вклад, который вы внесли в развитие нашего сообщества. Пожалуйста, не забудьте сохранить ваши фотографии до этой даты.
С уважением, команда iXBT.com
| P.2 |
P.2
- Раздел: Портрет
- Дата съёмки: 11.08.2009 14:56
- Дата загрузки фото: 02.09.2009 05:23
- Оригинальная фотография: 2848 x 4272 (3,7 Мб)
- Технические характеристики:
- Фотоаппарат: Canon EOS 450D
- Выдержка: 1/500
- Гиперфокальное расстояние: 105,94 m
- Диафрагма: 5,6
- Фокусное расстояние: 105,0 mm (35 mm equivalent: 169,8 mm)
- Полный EXIF
- Adobe
- ColorTransform: YCbCr
- Composite
- Aperture: 5,6
- CircleOfConfusion: 0,019 mm
- FOV: 12,0 deg
- FocalLength35efl: 105,0 mm (35 mm equivalent: 169,8 mm)
- HyperfocalDistance: 105,94 m
- ScaleFactor35efl: 1,6
- ShutterSpeed: 1/500
- ExifIFD
- ApertureValue: 5,6
- ColorSpace: sRGB
- CreateDate: 2009:08:08 13:14:00
- CustomRendered: Normal
- DateTimeOriginal: 2009:08:08 13:14:00
- ExifImageHeight: 4272
- ExifImageWidth: 2848
- ExposureCompensation: 0
- ExposureMode: Auto
- ExposureProgram: Aperture-priority AE
- ExposureTime: 1/500
- FNumber: 5,6
- Flash: Off
- FocalLength: 105,0 mm
- MaxApertureValue: 4,0
- MeteringMode: Multi-segment
- SceneCaptureType: Standard
- ShutterSpeedValue: 1/500
- WhiteBalance: Auto
- ICC-header
- ICC-meas
- ICC-view
- IFD0
- Artist: MozG
- Copyright: MozG
- ImageDescription:
- Make: Canon
- Model: Canon EOS 450D
- ModifyDate: 2009:08:11 11:56:00
- Orientation: Horizontal (normal)
- IFD1
- IPTC
- By-line: MozG
- CopyrightNotice: MozG
- XMP-aux
- Firmware: 1.0.9
- FlashCompensation: 0
- ImageNumber: 0
- Lens: EF24-105mm f/4L IS USM
- LensInfo: 24/1 105/1 0/0 0/0
- OwnerName: MozG
- SerialNumber: 630296691
- XMP-crs
- AlreadyApplied: True
- BlueHue: 0
- BlueSaturation: 0
- Brightness: +50
- CameraProfile: Camera Neutral
- ChromaticAberrationB: 0
- ChromaticAberrationR: +25
- Clarity: 0
- ColorNoiseReduction: 25
- Contrast: +25
- ConvertToGrayscale: False
- Defringe: 2
- Exposure: 0.00
- FillLight: 0
- GreenHue: 0
- GreenSaturation: 0
- HasCrop: False
- HasSettings: True
- HighlightRecovery: 5
- HueAdjustmentAqua: 0
- HueAdjustmentBlue: 0
- HueAdjustmentGreen: 0
- HueAdjustmentMagenta: 0
- HueAdjustmentOrange: 0
- HueAdjustmentPurple: 0
- HueAdjustmentRed: 0
- HueAdjustmentYellow: 0
- LuminanceAdjustmentAqua: 0
- LuminanceAdjustmentBlue: 0
- LuminanceAdjustmentGreen: 0
- LuminanceAdjustmentMagenta: 0
- LuminanceAdjustmentOrange: 0
- LuminanceAdjustmentPurple: 0
- LuminanceAdjustmentRed: 0
- LuminanceAdjustmentYellow: 0
- LuminanceSmoothing: 25
- ParametricDarks: 0
- ParametricHighlightSplit: 75
- ParametricHighlights: 0
- ParametricLights: 0
- ParametricMidtoneSplit: 50
- ParametricShadowSplit: 25
- ParametricShadows: 0
- PostCropVignetteAmount: 0
- RedHue: 0
- RedSaturation: 0
- Saturation: 0
- SaturationAdjustmentAqua: 0
- SaturationAdjustmentBlue: 0
- SaturationAdjustmentGreen: 0
- SaturationAdjustmentMagenta: 0
- SaturationAdjustmentOrange: 0
- SaturationAdjustmentPurple: 0
- SaturationAdjustmentRed: 0
- SaturationAdjustmentYellow: 0
- ShadowTint: 0
- Shadows: 10
- SharpenDetail: 25
- SharpenEdgeMasking: 25
- SharpenRadius: +1.0
- Sharpness: 25
- SplitToningBalance: 0
- SplitToningHighlightHue: 0
- SplitToningHighlightSaturation: 0
- SplitToningShadowHue: 0
- SplitToningShadowSaturation: 0
- Temperature: 5000
- Tint: -4
- ToneCurve: 0, 0, 255, 255
- ToneCurveName: Linear
- Version: 5.3
- Vibrance: 0
- VignetteAmount: +6
- VignetteMidpoint: 0
- WhiteBalance: Custom
- XMP-dc
- Creator: MozG
- Format: image/jpeg
- Rights: MozG
- XMP-exif
- DateTimeDigitized: 2009:08:08 13:14:000Z
- DateTimeOriginal: 2009:08:08 13:14:000Z
- FlashFired: False
- FlashFunction: False
- FlashMode: Off
- FlashRedEyeMode: False
- FlashReturn: No return detection
- XMP-tiff
- ImageHeight: 4272
- ImageWidth: 2848
- XMP-xmp
- CreateDate: 2009:08:11 14:56:42+03:00
- ModifyDate: 2009:08:11 11:56:000Z
- XMP-xmpMM
- XMP-xmpRights
- Просмотров: 170
- Рейтинг: голосов еще нет
- Отзывов: 0
Получить код для блога
| Вставка фотографии в текущем разрешении |
Вставка миниатюры |
HTML (для вставки в блог):
BBCode (для вставки в форум):
Ссылка на фото:
Ссылка на миниатюру:
- Послать ссылку другу
| Комментарии к фотографии |