- Раздел: Животные
- Дата съёмки: 30.11.2009 17:05
- Дата загрузки фото: 30.11.2009 17:16
- Оригинальная фотография: 1500 x 1000 (1,4 Мб)
- Технические характеристики:
- Фотоаппарат: Canon EOS 500D
- Выдержка: 1/1250
- Гиперфокальное расстояние: 37,50 m
- Диафрагма: 3,5
- Светочувствительность: 100
- Фокусное расстояние: 28,0 mm (35 mm equivalent: 140,8 mm)
- Полный EXIF
- Adobe
- ColorTransform: YCbCr
- Composite
- Aperture: 3,5
- CircleOfConfusion: 0,006 mm
- FOV: 14,0 deg
- FocalLength35efl: 28,0 mm (35 mm equivalent: 140,8 mm)
- HyperfocalDistance: 37,50 m
- ScaleFactor35efl: 5,0
- ShutterSpeed: 1/1250
- ExifIFD
- ApertureValue: 3,5
- ColorSpace: sRGB
- CreateDate: 2009:08:09 15:44:23
- CustomRendered: Normal
- DateTimeOriginal: 2009:08:09 15:44:23
- ExifImageHeight: 1000
- ExifImageWidth: 1500
- ExposureCompensation: 0
- ExposureMode: Auto
- ExposureProgram: Aperture-priority AE
- ExposureTime: 1/1250
- FNumber: 3,5
- Flash: Off
- FocalLength: 28,0 mm
- ISO: 100
- MaxApertureValue: 2,8
- MeteringMode: Multi-segment
- SceneCaptureType: Standard
- ShutterSpeedValue: 1/1250
- WhiteBalance: Auto
- ICC-header
- ICC-meas
- ICC-view
- IFD0
- Make: Canon
- Model: Canon EOS 500D
- ModifyDate: 2009:11:30 17:05:48
- Orientation: Horizontal (normal)
- IFD1
- IPTC
- XMP-aux
- Firmware: 1.0.9
- FlashCompensation: 0
- ImageNumber: 0
- Lens: EF-S17-55mm f/2.8 IS USM
- LensInfo: 17/1 55/1 0/0 0/0
- SerialNumber: 280103326
- XMP-crs
- AlreadyApplied: True
- BlueHue: -100
- BlueSaturation: +100
- Brightness: +32
- CameraProfile: ACR 2.4
- ChromaticAberrationB: 0
- ChromaticAberrationR: 0
- Clarity: +6
- ColorNoiseReduction: 25
- Contrast: +41
- ConvertToGrayscale: False
- CropAngle: 0.517243
- CropBottom: 0.968059
- CropHeight: 2941
- CropLeft: 0.045775
- CropRight: 0.968601
- CropTop: 0.027076
- CropUnit: 0
- CropWidth: 4412
- Defringe: 0
- Exposure: +0.38
- FillLight: 29
- GreenHue: +21
- GreenSaturation: -100
- HasCrop: True
- HasSettings: True
- HighlightRecovery: 61
- HueAdjustmentAqua: 0
- HueAdjustmentBlue: -2
- HueAdjustmentGreen: 0
- HueAdjustmentMagenta: 0
- HueAdjustmentOrange: +33
- HueAdjustmentPurple: 0
- HueAdjustmentRed: +83
- HueAdjustmentYellow: -12
- LuminanceAdjustmentAqua: 0
- LuminanceAdjustmentBlue: +62
- LuminanceAdjustmentGreen: +100
- LuminanceAdjustmentMagenta: 0
- LuminanceAdjustmentOrange: +45
- LuminanceAdjustmentPurple: 0
- LuminanceAdjustmentRed: +29
- LuminanceAdjustmentYellow: +100
- LuminanceSmoothing: 0
- ParametricDarks: -14
- ParametricHighlightSplit: 86
- ParametricHighlights: +81
- ParametricLights: +12
- ParametricMidtoneSplit: 41
- ParametricShadowSplit: 15
- ParametricShadows: -50
- PostCropVignetteAmount: 0
- RedHue: +5
- RedSaturation: +69
- Saturation: -45
- SaturationAdjustmentAqua: -100
- SaturationAdjustmentBlue: -100
- SaturationAdjustmentGreen: -100
- SaturationAdjustmentMagenta: 0
- SaturationAdjustmentOrange: -24
- SaturationAdjustmentPurple: -100
- SaturationAdjustmentRed: +100
- SaturationAdjustmentYellow: -100
- ShadowTint: 0
- Shadows: 50
- SharpenDetail: 68
- SharpenEdgeMasking: 0
- SharpenRadius: +2.3
- Sharpness: 105
- SplitToningBalance: +17
- SplitToningHighlightHue: 60
- SplitToningHighlightSaturation: 30
- SplitToningShadowHue: 240
- SplitToningShadowSaturation: 0
- Temperature: 2476
- Tint: +2
- ToneCurve: 0, 0, 32, 22, 64, 56, 128, 128, 192, 196, 255, 255
- ToneCurveName: Medium Contrast
- Version: 5.4
- Vibrance: +100
- VignetteAmount: -100
- VignetteMidpoint: 44
- WhiteBalance: Custom
- XMP-dc
- XMP-exif
- DateTimeDigitized: 2009:08:09 15:44:23.89+04:00
- DateTimeOriginal: 2009:08:09 15:44:23.89+04:00
- FlashFired: False
- FlashFunction: False
- FlashMode: Off
- FlashRedEyeMode: False
- FlashReturn: No return detection
- XMP-tiff
- ImageHeight: 2941
- ImageWidth: 4412
- XMP-xmp
- CreateDate: 2009:11:30 17:05:48+03:00
- ModifyDate: 2009:11:30 17:05:48+03:00
- XMP-xmpMM
- DerivedFrom: