- Раздел: Репортаж
- Дата съёмки: 23.08.2009 01:29
- Дата загрузки фото: 03.09.2009 22:43
- Оригинальная фотография: 4752 x 3168 (1,4 Мб)
- Технические характеристики:
- Фотоаппарат: Canon EOS 500D
- Выдержка: 1/13
- Гиперфокальное расстояние: 6,12 m
- Диафрагма: 2,8
- Светочувствительность: 200
- Фокусное расстояние: 18,0 mm (35 mm equivalent: 28,6 mm)
- Полный EXIF
- Adobe
- ColorTransform: YCbCr
- Composite
- Aperture: 2,8
- CircleOfConfusion: 0,019 mm
- FOV: 64,0 deg
- FocalLength35efl: 18,0 mm (35 mm equivalent: 28,6 mm)
- HyperfocalDistance: 6,12 m
- ScaleFactor35efl: 1,6
- ShutterSpeed: 1/13
- ExifIFD
- ApertureValue: 2,8
- ColorSpace: sRGB
- CreateDate: 2009:08:23 01:29:50
- CustomRendered: Normal
- DateTimeOriginal: 2009:08:23 01:29:50
- ExifImageHeight: 3168
- ExifImageWidth: 4752
- ExposureCompensation: 0
- ExposureMode: Manual
- ExposureProgram: Manual
- ExposureTime: 1/13
- FNumber: 2,8
- Flash: On
- FocalLength: 18,0 mm
- ISO: 200
- MaxApertureValue: 2,8
- MeteringMode: Multi-segment
- SceneCaptureType: Standard
- ShutterSpeedValue: 1/13
- WhiteBalance: Auto
- ICC-header
- ICC-meas
- ICC-view
- IFD0
- Artist: Sergei
- Make: Canon
- Model: Canon EOS 500D
- ModifyDate: 2009:09:03 22:21:30
- Orientation: Horizontal (normal)
- IFD1
- IPTC
- By-line: Sergei
- XMP-aux
- Firmware: 1.0.9
- FlashCompensation: 0
- ImageNumber: 0
- Lens: EF-S17-55mm f/2.8 IS USM
- LensInfo: 17/1 55/1 0/0 0/0
- OwnerName: Sergei
- SerialNumber: 280103326
- XMP-crs
- AlreadyApplied: True
- BlueHue: 0
- BlueSaturation: 0
- Brightness: +49
- ChromaticAberrationB: 0
- ChromaticAberrationR: 0
- Clarity: +50
- ColorNoiseReduction: 25
- Contrast: +25
- ConvertToGrayscale: False
- Defringe: 0
- Exposure: +1.79
- FillLight: 5
- GreenHue: 0
- GreenSaturation: 0
- HasCrop: False
- HasSettings: True
- HighlightRecovery: 11
- HueAdjustmentAqua: 0
- HueAdjustmentBlue: 0
- HueAdjustmentGreen: 0
- HueAdjustmentMagenta: 0
- HueAdjustmentOrange: 0
- HueAdjustmentPurple: 0
- HueAdjustmentRed: 0
- HueAdjustmentYellow: 0
- LuminanceAdjustmentAqua: 0
- LuminanceAdjustmentBlue: 0
- LuminanceAdjustmentGreen: 0
- LuminanceAdjustmentMagenta: 0
- LuminanceAdjustmentOrange: 0
- LuminanceAdjustmentPurple: 0
- LuminanceAdjustmentRed: 0
- LuminanceAdjustmentYellow: 0
- LuminanceSmoothing: 0
- ParametricDarks: 0
- ParametricHighlightSplit: 75
- ParametricHighlights: 0
- ParametricLights: 0
- ParametricMidtoneSplit: 50
- ParametricShadowSplit: 25
- ParametricShadows: 0
- PostCropVignetteAmount: 0
- RedHue: 0
- RedSaturation: 0
- Saturation: -34
- SaturationAdjustmentAqua: 0
- SaturationAdjustmentBlue: -13
- SaturationAdjustmentGreen: 0
- SaturationAdjustmentMagenta: 0
- SaturationAdjustmentOrange: +26
- SaturationAdjustmentPurple: 0
- SaturationAdjustmentRed: 0
- SaturationAdjustmentYellow: -55
- ShadowTint: -2
- Shadows: 6
- SharpenDetail: 25
- SharpenEdgeMasking: 0
- SharpenRadius: +1.0
- Sharpness: 25
- SplitToningBalance: 0
- SplitToningHighlightHue: 61
- SplitToningHighlightSaturation: 26
- SplitToningShadowHue: 237
- SplitToningShadowSaturation: 37
- Temperature: 5100
- Tint: +33
- ToneCurve: 0, 0, 32, 22, 64, 56, 128, 128, 192, 196, 255, 255
- ToneCurveName: Medium Contrast
- Version: 5.4
- Vibrance: +25
- VignetteAmount: -100
- VignetteMidpoint: 22
- WhiteBalance: Custom
- XMP-dc
- Creator: Sergei
- Format: image/jpeg
- XMP-exif
- DateTimeDigitized: 2009:08:23 01:29:50.08+04:00
- DateTimeOriginal: 2009:08:23 01:29:50.08+04:00
- FlashFired: True
- FlashFunction: False
- FlashMode: On
- FlashRedEyeMode: False
- FlashReturn: No return detection
- XMP-tiff
- ImageHeight: 3168
- ImageWidth: 4752
- XMP-xmp
- CreateDate: 2009:08:23 01:29:50.08+04:00
- ModifyDate: 2009:09:03 22:21:30+04:00
- XMP-xmpMM
- Просмотров: 516
- Рейтинг: голосов еще нет
- Отзывов: 0